PDS_VERSION_ID = PDS3
/* FILE DATA ELEMENTS */
RECORD_TYPE = STREAM
/* POINTERS TO DATA OBJECTS */
^COMPRESSED_FILE = "HJ008_0001_S13.JP2"
/* IDENTIFICATION DATA ELEMENTS */
DATA_SET_ID = "MEX-M-HRSC-5-REFDR-MAPPROJECTED-V3.0"
DATA_SET_NAME = "MARS EXPRESS HRSC MAP PROJECTED REFDR V3.0"
DETECTOR_ID = MEX_HRSC_S1
EVENT_TYPE = "MARS-REGIONAL-MAPPING-Im-Gl-Pf"
INSTRUMENT_HOST_ID = MEX
INSTRUMENT_HOST_NAME = "MARS EXPRESS"
INSTRUMENT_ID = HRSC
INSTRUMENT_NAME = "HIGH RESOLUTION STEREO CAMERA"
MISSION_NAME = "MARS EXPRESS"
MISSION_PHASE_NAME = ME_Phase_40
PROCESSING_LEVEL_ID = 3
PRODUCT_CREATION_TIME = 2019-09-09T10:24:51.000Z
PRODUCT_ID = "HJ008_0001_S13.JP2"
RELEASE_ID = 0144
REVISION_ID = 0000
/* QUALITY DATA ELEMENTS */
DATA_QUALITY_ID = 1
DATA_QUALITY_DESC = "Data calculated based on original SPICE kernels"
/* TIME DATA ELEMENTS */
SPACECRAFT_CLOCK_START_COUNT = "1/0495196117.24937"
SPACECRAFT_CLOCK_STOP_COUNT = "1/0495196421.41057"
START_TIME = 2019-01-10T10:30:11.859Z
STOP_TIME = 2019-01-10T10:34:11.517Z
/* ORBITAL DATA ELEMENTS */
ASCENDING_NODE_LONGITUDE = 217.63
MAXIMUM_RESOLUTION = 27.9
FOOTPRINT_POINT_LATITUDE = (-62.1073,-62.086,-62.064,-62.0416, -61.9952,-61.7411,-61.4207,-61.1001, -60.6201,-60.3,-59.9811,-59.6649, -59.3558,-59.0467,-58.7383,-58.4296, -58.1206,-57.8127,-57.5032,-57.0401, -56.5783,-56.1187,-55.8099,-55.5028, -55.1965,-54.8912,-54.4339,-53.973, -53.6692,-53.3559,-53.0454,-52.7313, -52.4172,-52.1033,-51.7903,-51.4769, -50.9985,-50.6815,-50.3717,-49.9041, -49.5938,-49.2829,-48.9733,-48.6651, -48.3565,-48.0483,-47.7402,-47.279, -46.8192,-46.5124,-46.4947,-46.512, -46.5334,-46.5531,-46.5702,-46.7354, -47.0425,-47.3496,-47.6559,-47.9632, -48.2737,-48.7388,-49.2054,-49.516, -49.9819,-50.2934,-50.7604,-51.2325, -51.5519,-51.8699,-52.1846,-52.4989, -52.9697,-53.4333,-53.7442,-54.2105, -54.5181,-54.825,-55.1323,-55.4387, -55.7461,-56.0604,-56.3689,-56.6703, -57.1338,-57.4443,-57.9077,-58.2166, -58.6801,-58.9891,-59.2995,-59.608, -60.0815,-60.4012,-60.7219,-61.2032, -61.5243,-61.8442,-62.1669,-62.1073)
FOOTPRINT_POINT_LONGITUDE = (352.119,351.717,351.323,350.936, 350.182,350.081,350.123,350.164,350.223 ,350.261,350.298,350.333,350.366, 350.398,350.429,350.459,350.488,350.516 ,350.542,350.581,350.618,350.654, 350.675,350.697,350.718,350.739,350.769 ,350.795,350.816,350.834,350.853, 350.869,350.885,350.9,350.914,350.928, 350.943,350.953,350.965,350.982,350.993 ,351.003,351.012,351.022,351.031,351.04 ,351.048,351.059,351.069,351.075, 351.424,351.708,352.069,352.419,352.738 ,352.953,352.951,352.948,352.943, 352.939,352.938,352.935,352.933,352.93, 352.924,352.92,352.913,352.912,352.917, 352.92,352.917,352.913,352.905,352.883, 352.871,352.866,352.863,352.859,352.854 ,352.847,352.841,352.846,352.841, 352.823,352.815,352.811,352.8,352.792, 352.778,352.769,352.761,352.749,352.74, 352.728,352.716,352.699,352.687,352.672 ,352.662,352.119)
ORBIT_NUMBER = 19008
ORBITAL_ECCENTRICITY = 0.577
ORBITAL_INCLINATION = 86.97
ORBITAL_SEMIMAJOR_AXIS = 8780.59
PERIAPSIS_ALTITUDE = 328.57
PERIAPSIS_ARGUMENT_ANGLE = 303.99
PERIAPSIS_TIME = 2019-01-10T10:31:17.000Z
SPACECRAFT_ORIENTATION = (0.0,1.0,0.0)
^MEX_ORIENTATION_DESC = "MEX_ORIENTATION_DESC.TXT"
SPACECRAFT_POINTING_MODE = ACROSSTRACK
^MEX_POINTING_DESC = "MEX_POINTING_DESC.TXT"
RIGHT_ASCENSION = -1e+32
DECLINATION = -1e+32
OFFSET_ANGLE = -1.186
SPACECRAFT_SOLAR_DISTANCE = 2.1915e+08
TARGET_NAME = MARS
/* CAMERA DATA ELEMENTS */
DETECTOR_TEMPERATURE = 17.5549
FOCAL_PLANE_TEMPERATURE = 9.3989
INST_CMPRS_NAME = "DISCRETE COSINE TRANSFORMATION (DCT)"
INST_CMPRS_RATIO = 12.3983
INST_CMPRS_QUALITY = 0
INST_CMPRS_QUANTZ_TBL_ID = 0
INSTRUMENT_TEMPERATURE = 12.2535
LENS_TEMPERATURE = 10.0106
MACROPIXEL_SIZE = 2
MISSING_FRAMES = 1
PIXEL_SUBSAMPLING_FLAG = N
SIGNAL_CHAIN_ID = 1
/* RADIOMETRIC DATA ELEMENTS */
BANDWIDTH = 180.0
CENTER_FILTER_WAVELENGTH = 677.0
RADIANCE_OFFSET = 6.80461
RADIANCE_SCALING_FACTOR = 0.0177898
REFLECTANCE_SCALING_FACTOR = 0.000445755
MEX:REFLECTANCE_OFFSET = 0.170501
/* IMAGE OBJECT DEFINITIONS */
OBJECT = IMAGE
  INTERCHANGE_FORMAT = BINARY
  LINES = 37111
  LINE_SAMPLES = 3941
  SAMPLE_TYPE = UNSIGNED_INTEGER
  SAMPLE_BITS = 8
  BANDS = 1
  BAND_STORAGE_TYPE = BAND_SEQUENTIAL
  MAXIMUM = 255
  MEAN = 128.491
  MINIMUM = 1
  STANDARD_DEVIATION = 60.0938
END_OBJECT = IMAGE
/* MAP OBJECT DEFINITIONS */
OBJECT = IMAGE_MAP_PROJECTION
  ^DATA_SET_MAP_PROJECTION_CATALOG= "DSMAP.CAT"
  A_AXIS_RADIUS = 3396.0
  B_AXIS_RADIUS = 3396.0
  C_AXIS_RADIUS = 3396.0
  CENTER_LATITUDE = 0.0
  CENTER_LONGITUDE = 352.0
  COORDINATE_SYSTEM_NAME = PLANETOGRAPHIC
  COORDINATE_SYSTEM_TYPE = "BODY-FIXED ROTATING"
  EASTERNMOST_LONGITUDE = 352.953
  FIRST_STANDARD_PARALLEL = "N/A"
  LINE_FIRST_PIXEL = 1
  LINE_LAST_PIXEL = 37111
  LINE_PROJECTION_OFFSET = -110337.75
  MAP_PROJECTION_ROTATION = 0.0
  MAP_PROJECTION_TYPE = SINUSOIDAL
  MAP_RESOLUTION = 2370.85521546667
  MAP_SCALE = 0.025
  MAXIMUM_LATITUDE = -46.4947
  MINIMUM_LATITUDE = -62.1669
  POSITIVE_LONGITUDE_DIRECTION = EAST
  REFERENCE_LATITUDE = "N/A"
  REFERENCE_LONGITUDE = "N/A"
  SAMPLE_FIRST_PIXEL = 1
  SAMPLE_LAST_PIXEL = 3941
  SAMPLE_PROJECTION_OFFSET = 2287.25
  SECOND_STANDARD_PARALLEL = "N/A"
  WESTERNMOST_LONGITUDE = 350.081
END_OBJECT = IMAGE_MAP_PROJECTION
/* The JPEG2000 image data file associated with this label. */
OBJECT = COMPRESSED_FILE
  FILE_NAME = "HJ008_0001_S13.JP2"
  RECORD_TYPE = UNDEFINED
  FILE_RECORDS = UNK
  ENCODING_TYPE = "JP2"
  INTERCHANGE_FORMAT = BINARY
  UNCOMPRESSED_FILE_NAME = "HJ008_0001_S13.IMG"
  REQUIRED_STORAGE_BYTES = "146278097"
  ^DESCRIPTION = "JP2INFO.TXT"
END_OBJECT = COMPRESSED_FILE
END
