PDS_VERSION_ID = PDS3
/* FILE DATA ELEMENTS */
RECORD_TYPE = STREAM
/* POINTERS TO DATA OBJECTS */
^COMPRESSED_FILE = "HJ009_0000_ND3.JP2"
/* IDENTIFICATION DATA ELEMENTS */
DATA_SET_ID = "MEX-M-HRSC-5-REFDR-MAPPROJECTED-V3.0"
DATA_SET_NAME = "MARS EXPRESS HRSC MAP PROJECTED REFDR V3.0"
DETECTOR_ID = MEX_HRSC_NADIR
EVENT_TYPE = "MARS-REGIONAL-MAPPING-Im-Gl-Pf"
INSTRUMENT_HOST_ID = MEX
INSTRUMENT_HOST_NAME = "MARS EXPRESS"
INSTRUMENT_ID = HRSC
INSTRUMENT_NAME = "HIGH RESOLUTION STEREO CAMERA"
MISSION_NAME = "MARS EXPRESS"
MISSION_PHASE_NAME = ME_Phase_40
PROCESSING_LEVEL_ID = 3
PRODUCT_CREATION_TIME = 2019-09-09T10:24:51.000Z
PRODUCT_ID = "HJ009_0000_ND3.JP2"
RELEASE_ID = 0144
REVISION_ID = 0000
/* QUALITY DATA ELEMENTS */
DATA_QUALITY_ID = 1
DATA_QUALITY_DESC = "Data calculated based on original SPICE kernels"
/* TIME DATA ELEMENTS */
SPACECRAFT_CLOCK_START_COUNT = "1/0495221345.24925"
SPACECRAFT_CLOCK_STOP_COUNT = "1/0495221585.24638"
START_TIME = 2019-01-10T17:30:03.113Z
STOP_TIME = 2019-01-10T17:33:07.125Z
/* ORBITAL DATA ELEMENTS */
ASCENDING_NODE_LONGITUDE = 217.61
MAXIMUM_RESOLUTION = 13
FOOTPRINT_POINT_LATITUDE = (-57.5351,-57.5076,-57.4885,-57.3454, -57.0831,-56.8209,-56.5587,-56.2965, -56.0344,-55.7724,-55.5103,-55.2482, -54.9862,-54.7241,-54.462,-54.2,-53.938 ,-53.5451,-53.1529,-52.891,-52.4981, -52.1049,-51.8431,-51.5813,-51.3195, -51.0573,-50.7951,-50.5332,-50.2713, -50.0093,-49.6179,-49.3561,-49.0944, -48.8324,-48.5705,-48.3079,-48.0453, -47.6476,-47.2417,-46.9706,-46.5641, -46.2919,-46.0208,-45.7495,-45.3426, -45.0715,-44.801,-44.5294,-44.2557, -44.273,-44.2921,-44.3062,-44.3266, -44.482,-44.8896,-45.1613,-45.5686, -45.9755,-46.2477,-46.5186,-46.79, -47.1969,-47.6038,-47.8751,-48.1373, -48.3999,-48.6622,-48.9243,-49.1866, -49.4487,-49.7109,-49.9731,-50.2353, -50.4975,-50.7598,-51.0221,-51.2845, -51.5468,-51.8092,-52.0715,-52.3339, -52.5963,-52.8587,-53.1212,-53.5149, -53.7774,-54.0399,-54.3023,-54.5649, -54.8274,-55.0898,-55.4834,-55.7466, -56.1414,-56.4047,-56.6677,-57.0623, -57.3254,-57.5885,-57.5351)
FOOTPRINT_POINT_LONGITUDE = (247.494,246.969,246.627,246.09,246.131 ,246.172,246.211,246.25,246.288,246.324 ,246.361,246.396,246.43,246.465,246.498 ,246.531,246.563,246.61,246.648,246.676 ,246.718,246.766,246.794,246.82,246.846 ,246.866,246.888,246.912,246.936, 246.959,246.999,247.02,247.042,247.062, 247.082,247.099,247.117,247.144,247.173 ,247.191,247.217,247.232,247.248, 247.264,247.288,247.303,247.319,247.333 ,247.345,247.631,247.966,248.234, 248.636,249.041,249.023,249.01,248.992, 248.973,248.959,248.947,248.933,248.913 ,248.891,248.876,248.863,248.848, 248.834,248.82,248.805,248.791,248.777, 248.762,248.747,248.732,248.717,248.701 ,248.685,248.668,248.652,248.635, 248.617,248.599,248.581,248.563,248.535 ,248.516,248.496,248.476,248.456, 248.435,248.414,248.381,248.36,248.328, 248.306,248.283,248.247,248.223,248.198 ,247.494)
ORBIT_NUMBER = 19009
ORBITAL_ECCENTRICITY = 0.577
ORBITAL_INCLINATION = 86.97
ORBITAL_SEMIMAJOR_AXIS = 8781.48
PERIAPSIS_ALTITUDE = 327.85
PERIAPSIS_ARGUMENT_ANGLE = 303.81
PERIAPSIS_TIME = 2019-01-10T17:30:17.000Z
SPACECRAFT_ORIENTATION = (0.0,1.0,0.0)
^MEX_ORIENTATION_DESC = "MEX_ORIENTATION_DESC.TXT"
SPACECRAFT_POINTING_MODE = INERT
^MEX_POINTING_DESC = "MEX_POINTING_DESC.TXT"
RIGHT_ASCENSION = 27.796
DECLINATION = 56.249
OFFSET_ANGLE = -1e+32
SPACECRAFT_SOLAR_DISTANCE = 2.19204e+08
TARGET_NAME = MARS
/* CAMERA DATA ELEMENTS */
DETECTOR_TEMPERATURE = 18.3705
FOCAL_PLANE_TEMPERATURE = 10.0106
INST_CMPRS_NAME = "DISCRETE COSINE TRANSFORMATION (DCT)"
INST_CMPRS_RATIO = 7.08936
INST_CMPRS_QUALITY = 0
INST_CMPRS_QUANTZ_TBL_ID = 0
INSTRUMENT_TEMPERATURE = 11.4379
LENS_TEMPERATURE = 10.2145
MACROPIXEL_SIZE = 1
MISSING_FRAMES = 0
PIXEL_SUBSAMPLING_FLAG = N
SIGNAL_CHAIN_ID = 0
/* RADIOMETRIC DATA ELEMENTS */
BANDWIDTH = 177.0
CENTER_FILTER_WAVELENGTH = 677.5
RADIANCE_OFFSET = 4.27128
RADIANCE_SCALING_FACTOR = 0.0230657
REFLECTANCE_SCALING_FACTOR = 0.000588771
MEX:REFLECTANCE_OFFSET = 0.109028
/* IMAGE OBJECT DEFINITIONS */
OBJECT = IMAGE
  INTERCHANGE_FORMAT = BINARY
  LINES = 63053
  LINE_SAMPLES = 8573
  SAMPLE_TYPE = UNSIGNED_INTEGER
  SAMPLE_BITS = 8
  BANDS = 1
  BAND_STORAGE_TYPE = BAND_SEQUENTIAL
  MAXIMUM = 255
  MEAN = 122.664
  MINIMUM = 1
  STANDARD_DEVIATION = 48.6104
END_OBJECT = IMAGE
/* MAP OBJECT DEFINITIONS */
OBJECT = IMAGE_MAP_PROJECTION
  ^DATA_SET_MAP_PROJECTION_CATALOG= "DSMAP.CAT"
  A_AXIS_RADIUS = 3396.0
  B_AXIS_RADIUS = 3396.0
  C_AXIS_RADIUS = 3396.0
  CENTER_LATITUDE = 0.0
  CENTER_LONGITUDE = 248.0
  COORDINATE_SYSTEM_NAME = PLANETOGRAPHIC
  COORDINATE_SYSTEM_TYPE = "BODY-FIXED ROTATING"
  EASTERNMOST_LONGITUDE = 249.041
  FIRST_STANDARD_PARALLEL = "N/A"
  LINE_FIRST_PIXEL = 1
  LINE_LAST_PIXEL = 63053
  LINE_PROJECTION_OFFSET = -209915.0
  MAP_PROJECTION_ROTATION = 0.0
  MAP_PROJECTION_TYPE = SINUSOIDAL
  MAP_RESOLUTION = 4741.71043093333
  MAP_SCALE = 0.0125
  MAXIMUM_LATITUDE = -44.2557
  MINIMUM_LATITUDE = -57.5885
  POSITIVE_LONGITUDE_DIRECTION = EAST
  REFERENCE_LATITUDE = "N/A"
  REFERENCE_LONGITUDE = "N/A"
  SAMPLE_FIRST_PIXEL = 1
  SAMPLE_LAST_PIXEL = 8573
  SAMPLE_PROJECTION_OFFSET = 4928.0
  SECOND_STANDARD_PARALLEL = "N/A"
  WESTERNMOST_LONGITUDE = 246.09
END_OBJECT = IMAGE_MAP_PROJECTION
/* The JPEG2000 image data file associated with this label. */
OBJECT = COMPRESSED_FILE
  FILE_NAME = "HJ009_0000_ND3.JP2"
  RECORD_TYPE = UNDEFINED
  FILE_RECORDS = UNK
  ENCODING_TYPE = "JP2"
  INTERCHANGE_FORMAT = BINARY
  UNCOMPRESSED_FILE_NAME = "HJ009_0000_ND3.IMG"
  REQUIRED_STORAGE_BYTES = "540587661"
  ^DESCRIPTION = "JP2INFO.TXT"
END_OBJECT = COMPRESSED_FILE
END
