PDS_VERSION_ID = PDS3
/* FILE DATA ELEMENTS */
RECORD_TYPE = STREAM
/* POINTERS TO DATA OBJECTS */
^COMPRESSED_FILE = "HJ013_0000_S23.JP2"
/* IDENTIFICATION DATA ELEMENTS */
DATA_SET_ID = "MEX-M-HRSC-5-REFDR-MAPPROJECTED-V3.0"
DATA_SET_NAME = "MARS EXPRESS HRSC MAP PROJECTED REFDR V3.0"
DETECTOR_ID = MEX_HRSC_S2
EVENT_TYPE = "MARS-REGIONAL-CARTOGRAPHY-Gl-Pf-Tc"
INSTRUMENT_HOST_ID = MEX
INSTRUMENT_HOST_NAME = "MARS EXPRESS"
INSTRUMENT_ID = HRSC
INSTRUMENT_NAME = "HIGH RESOLUTION STEREO CAMERA"
MISSION_NAME = "MARS EXPRESS"
MISSION_PHASE_NAME = ME_Phase_40
PROCESSING_LEVEL_ID = 3
PRODUCT_CREATION_TIME = 2019-09-09T10:24:51.000Z
PRODUCT_ID = "HJ013_0000_S23.JP2"
RELEASE_ID = 0144
REVISION_ID = 0000
/* QUALITY DATA ELEMENTS */
DATA_QUALITY_ID = 1
DATA_QUALITY_DESC = "Data calculated based on original SPICE kernels"
/* TIME DATA ELEMENTS */
SPACECRAFT_CLOCK_START_COUNT = "1/0495321939.25696"
SPACECRAFT_CLOCK_STOP_COUNT = "1/0495322171.31832"
START_TIME = 2019-01-11T21:26:11.268Z
STOP_TIME = 2019-01-11T21:29:01.048Z
/* ORBITAL DATA ELEMENTS */
ASCENDING_NODE_LONGITUDE = 217.53
MAXIMUM_RESOLUTION = 26.8
FOOTPRINT_POINT_LATITUDE = (-56.1633,-56.1712,-56.1754,-56.1785, -56.1807,-56.1507,-55.9057,-55.6607, -55.2934,-54.9261,-54.5585,-54.3135, -54.0682,-53.6999,-53.4544,-53.2097, -52.9613,-52.7152,-52.469,-52.2229, -51.9774,-51.6105,-51.365,-51.1181, -50.7482,-50.3788,-50.1319,-49.7618, -49.5127,-49.2593,-49.0156,-48.7667, -48.5222,-48.2739,-47.9022,-47.6545, -47.4027,-47.1547,-46.9047,-46.5288, -46.2778,-45.9019,-45.6513,-45.4006, -45.1511,-44.9048,-44.6546,-44.4042, -44.1521,-43.7735,-43.7327,-43.7273, -43.7168,-43.7046,-43.6969,-43.6828, -43.9402,-44.1959,-44.4439,-44.6878, -44.9392,-45.191,-45.4425,-45.6939, -46.0706,-46.4469,-46.6972,-46.9474, -47.198,-47.4544,-47.8271,-48.2007, -48.45,-48.8207,-49.0716,-49.4433, -49.6913,-50.063,-50.3106,-50.5577, -50.8025,-51.0519,-51.2988,-51.5456, -51.9167,-52.2865,-52.5331,-52.7792, -53.1485,-53.3943,-53.6405,-53.8862, -54.2547,-54.5005,-54.7461,-55.1145, -55.3601,-55.6051,-55.8504,-56.1633)
FOOTPRINT_POINT_LONGITUDE = (202.577,202.093,201.764,201.443, 201.127,200.569,200.588,200.607,200.633 ,200.659,200.684,200.701,200.717, 200.742,200.758,200.772,200.791,200.807 ,200.822,200.837,200.851,200.87,200.883 ,200.898,200.919,200.939,200.952, 200.972,200.987,201.006,201.015,201.029 ,201.039,201.052,201.07,201.082,201.098 ,201.109,201.122,201.143,201.156, 201.175,201.188,201.2,201.211,201.22, 201.231,201.242,201.255,201.273,201.601 ,201.846,202.24,202.575,202.782,203.154 ,203.135,203.118,203.113,203.114, 203.103,203.091,203.08,203.069,203.052, 203.035,203.025,203.014,203.003,202.98, 202.968,202.954,202.944,202.935,202.921 ,202.909,202.9,202.888,202.879,202.872, 202.87,202.857,202.85,202.842,202.829, 202.818,202.811,202.804,202.793,202.788 ,202.78,202.774,202.764,202.757,202.75, 202.74,202.733,202.727,202.721,202.577)
ORBIT_NUMBER = 19013
ORBITAL_ECCENTRICITY = 0.577
ORBITAL_INCLINATION = 86.98
ORBITAL_SEMIMAJOR_AXIS = 8778.49
PERIAPSIS_ALTITUDE = 328.38
PERIAPSIS_ARGUMENT_ANGLE = 303.16
PERIAPSIS_TIME = 2019-01-11T21:26:16.000Z
SPACECRAFT_ORIENTATION = (0.0,1.0,0.0)
^MEX_ORIENTATION_DESC = "MEX_ORIENTATION_DESC.TXT"
SPACECRAFT_POINTING_MODE = INERT
^MEX_POINTING_DESC = "MEX_POINTING_DESC.TXT"
RIGHT_ASCENSION = 21.892
DECLINATION = 40.425
OFFSET_ANGLE = -1e+32
SPACECRAFT_SOLAR_DISTANCE = 2.19419e+08
TARGET_NAME = MARS
/* CAMERA DATA ELEMENTS */
DETECTOR_TEMPERATURE = 18.5744
FOCAL_PLANE_TEMPERATURE = 9.3989
INST_CMPRS_NAME = "DISCRETE COSINE TRANSFORMATION (DCT)"
INST_CMPRS_RATIO = 11.1406
INST_CMPRS_QUALITY = 0
INST_CMPRS_QUANTZ_TBL_ID = 0
INSTRUMENT_TEMPERATURE = 11.4379
LENS_TEMPERATURE = 9.3989
MACROPIXEL_SIZE = 2
MISSING_FRAMES = 0
PIXEL_SUBSAMPLING_FLAG = N
SIGNAL_CHAIN_ID = 1
/* RADIOMETRIC DATA ELEMENTS */
BANDWIDTH = 178.0
CENTER_FILTER_WAVELENGTH = 679.0
RADIANCE_OFFSET = 4.88034
RADIANCE_SCALING_FACTOR = 0.0191386
REFLECTANCE_SCALING_FACTOR = 0.000487965
MEX:REFLECTANCE_OFFSET = 0.124431
/* IMAGE OBJECT DEFINITIONS */
OBJECT = IMAGE
  INTERCHANGE_FORMAT = BINARY
  LINES = 29596
  LINE_SAMPLES = 3980
  SAMPLE_TYPE = UNSIGNED_INTEGER
  SAMPLE_BITS = 8
  BANDS = 1
  BAND_STORAGE_TYPE = BAND_SEQUENTIAL
  MAXIMUM = 255
  MEAN = 142.894
  MINIMUM = 1
  STANDARD_DEVIATION = 36.6577
END_OBJECT = IMAGE
/* MAP OBJECT DEFINITIONS */
OBJECT = IMAGE_MAP_PROJECTION
  ^DATA_SET_MAP_PROJECTION_CATALOG= "DSMAP.CAT"
  A_AXIS_RADIUS = 3396.0
  B_AXIS_RADIUS = 3396.0
  C_AXIS_RADIUS = 3396.0
  CENTER_LATITUDE = 0.0
  CENTER_LONGITUDE = 202.0
  COORDINATE_SYSTEM_NAME = PLANETOGRAPHIC
  COORDINATE_SYSTEM_TYPE = "BODY-FIXED ROTATING"
  EASTERNMOST_LONGITUDE = 203.154
  FIRST_STANDARD_PARALLEL = "N/A"
  LINE_FIRST_PIXEL = 1
  LINE_LAST_PIXEL = 29596
  LINE_PROJECTION_OFFSET = -103467.25
  MAP_PROJECTION_ROTATION = 0.0
  MAP_PROJECTION_TYPE = SINUSOIDAL
  MAP_RESOLUTION = 2370.85521546667
  MAP_SCALE = 0.025
  MAXIMUM_LATITUDE = -43.6828
  MINIMUM_LATITUDE = -56.1807
  POSITIVE_LONGITUDE_DIRECTION = EAST
  REFERENCE_LATITUDE = "N/A"
  REFERENCE_LONGITUDE = "N/A"
  SAMPLE_FIRST_PIXEL = 1
  SAMPLE_LAST_PIXEL = 3980
  SAMPLE_PROJECTION_OFFSET = 2076.25
  SECOND_STANDARD_PARALLEL = "N/A"
  WESTERNMOST_LONGITUDE = 200.569
END_OBJECT = IMAGE_MAP_PROJECTION
/* The JPEG2000 image data file associated with this label. */
OBJECT = COMPRESSED_FILE
  FILE_NAME = "HJ013_0000_S23.JP2"
  RECORD_TYPE = UNDEFINED
  FILE_RECORDS = UNK
  ENCODING_TYPE = "JP2"
  INTERCHANGE_FORMAT = BINARY
  UNCOMPRESSED_FILE_NAME = "HJ013_0000_S23.IMG"
  REQUIRED_STORAGE_BYTES = "117815960"
  ^DESCRIPTION = "JP2INFO.TXT"
END_OBJECT = COMPRESSED_FILE
END
