PDS_VERSION_ID = PDS3
/* FILE DATA ELEMENTS */
RECORD_TYPE = STREAM
/* POINTERS TO DATA OBJECTS */
^COMPRESSED_FILE = "HJ016_0000_ND3.JP2"
/* IDENTIFICATION DATA ELEMENTS */
DATA_SET_ID = "MEX-M-HRSC-5-REFDR-MAPPROJECTED-V3.0"
DATA_SET_NAME = "MARS EXPRESS HRSC MAP PROJECTED REFDR V3.0"
DETECTOR_ID = MEX_HRSC_NADIR
EVENT_TYPE = "MARS-REGIONAL-STEREO-Im-Gl-Pf"
INSTRUMENT_HOST_ID = MEX
INSTRUMENT_HOST_NAME = "MARS EXPRESS"
INSTRUMENT_ID = HRSC
INSTRUMENT_NAME = "HIGH RESOLUTION STEREO CAMERA"
MISSION_NAME = "MARS EXPRESS"
MISSION_PHASE_NAME = ME_Phase_40
PROCESSING_LEVEL_ID = 3
PRODUCT_CREATION_TIME = 2019-09-09T10:24:51.000Z
PRODUCT_ID = "HJ016_0000_ND3.JP2"
RELEASE_ID = 0144
REVISION_ID = 0000
/* QUALITY DATA ELEMENTS */
DATA_QUALITY_ID = 1
DATA_QUALITY_DESC = "Data calculated based on original SPICE kernels"
/* TIME DATA ELEMENTS */
SPACECRAFT_CLOCK_START_COUNT = "1/0495397277.24918"
SPACECRAFT_CLOCK_STOP_COUNT = "1/0495397467.25459"
START_TIME = 2019-01-12T18:22:15.878Z
STOP_TIME = 2019-01-12T18:24:30.877Z
/* ORBITAL DATA ELEMENTS */
ASCENDING_NODE_LONGITUDE = 217.48
MAXIMUM_RESOLUTION = 13
FOOTPRINT_POINT_LATITUDE = (-61.549,-61.5236,-61.4924,-61.4707, -61.4452,-61.1552,-60.9607,-60.6689, -60.4743,-60.2797,-60.0851,-59.7932, -59.5013,-59.3067,-59.1121,-58.9174, -58.7227,-58.4307,-58.236,-57.944, -57.7491,-57.5543,-57.2623,-57.0697, -56.8817,-56.5988,-56.4101,-56.1272, -55.9392,-55.7517,-55.5621,-55.2698, -55.0747,-54.7822,-54.5872,-54.3923, -54.1973,-54.0022,-53.8071,-53.612, -53.4169,-53.1242,-52.929,-52.7337, -52.5385,-52.2456,-52.0503,-51.7686, -51.8,-51.8185,-51.8332,-51.8536, -52.0493,-52.2449,-52.4407,-52.6354, -52.8314,-53.1254,-53.3208,-53.5163, -53.7108,-53.9063,-54.1021,-54.2983, -54.4937,-54.689,-54.8846,-55.08, -55.2754,-55.4708,-55.7619,-55.9507, -56.1395,-56.3283,-56.5172,-56.706, -56.9893,-57.1781,-57.4689,-57.6643, -57.8594,-58.0549,-58.2503,-58.4457, -58.6411,-58.8363,-59.0316,-59.227, -59.4222,-59.6178,-59.8131,-60.0087, -60.2041,-60.3996,-60.595,-60.7905, -60.986,-61.1821,-61.377,-61.549)
FOOTPRINT_POINT_LONGITUDE = (252.603,252.078,251.484,251.098, 250.665,250.532,250.574,250.635,250.675 ,250.714,250.753,250.81,250.866,250.901 ,250.937,250.972,251.007,251.058, 251.091,251.142,251.169,251.199,251.248 ,251.278,251.309,251.347,251.372, 251.411,251.439,251.47,251.495,251.534, 251.559,251.596,251.62,251.644,251.668, 251.691,251.714,251.736,251.758,251.791 ,251.812,251.833,251.853,251.883, 251.903,252.17,252.72,253.068,253.362, 253.794,253.78,253.767,253.753,253.742, 253.727,253.704,253.69,253.675,253.664, 253.65,253.633,253.615,253.6,253.585, 253.568,253.552,253.536,253.519,253.494 ,253.477,253.462,253.445,253.428, 253.411,253.384,253.366,253.341,253.321 ,253.299,253.282,253.262,253.242, 253.222,253.2,253.179,253.158,253.135, 253.114,253.091,253.07,253.047,253.024, 253.0,252.976,252.952,252.929,252.902, 252.603)
ORBIT_NUMBER = 19016
ORBITAL_ECCENTRICITY = 0.577
ORBITAL_INCLINATION = 86.97
ORBITAL_SEMIMAJOR_AXIS = 8779.61
PERIAPSIS_ALTITUDE = 327.94
PERIAPSIS_ARGUMENT_ANGLE = 302.63
PERIAPSIS_TIME = 2019-01-12T18:23:16.000Z
SPACECRAFT_ORIENTATION = (0.0,1.0,0.0)
^MEX_ORIENTATION_DESC = "MEX_ORIENTATION_DESC.TXT"
SPACECRAFT_POINTING_MODE = INERT
^MEX_POINTING_DESC = "MEX_POINTING_DESC.TXT"
RIGHT_ASCENSION = 16.837
DECLINATION = 57.915
OFFSET_ANGLE = -1e+32
SPACECRAFT_SOLAR_DISTANCE = 2.19581e+08
TARGET_NAME = MARS
/* CAMERA DATA ELEMENTS */
DETECTOR_TEMPERATURE = 18.1666
FOCAL_PLANE_TEMPERATURE = 8.9911
INST_CMPRS_NAME = "DISCRETE COSINE TRANSFORMATION (DCT)"
INST_CMPRS_RATIO = 7.12218
INST_CMPRS_QUALITY = 0
INST_CMPRS_QUANTZ_TBL_ID = 0
INSTRUMENT_TEMPERATURE = 11.8457
LENS_TEMPERATURE = 8.7872
MACROPIXEL_SIZE = 1
MISSING_FRAMES = 0
PIXEL_SUBSAMPLING_FLAG = N
SIGNAL_CHAIN_ID = 0
/* RADIOMETRIC DATA ELEMENTS */
BANDWIDTH = 177.0
CENTER_FILTER_WAVELENGTH = 677.5
RADIANCE_OFFSET = 3.84714
RADIANCE_SCALING_FACTOR = 0.0150868
REFLECTANCE_SCALING_FACTOR = 0.000386428
MEX:REFLECTANCE_OFFSET = 0.0985392
/* IMAGE OBJECT DEFINITIONS */
OBJECT = IMAGE
  INTERCHANGE_FORMAT = BINARY
  LINES = 46421
  LINE_SAMPLES = 8676
  SAMPLE_TYPE = UNSIGNED_INTEGER
  SAMPLE_BITS = 8
  BANDS = 1
  BAND_STORAGE_TYPE = BAND_SEQUENTIAL
  MAXIMUM = 255
  MEAN = 127.371
  MINIMUM = 1
  STANDARD_DEVIATION = 28.5023
END_OBJECT = IMAGE
/* MAP OBJECT DEFINITIONS */
OBJECT = IMAGE_MAP_PROJECTION
  ^DATA_SET_MAP_PROJECTION_CATALOG= "DSMAP.CAT"
  A_AXIS_RADIUS = 3396.0
  B_AXIS_RADIUS = 3396.0
  C_AXIS_RADIUS = 3396.0
  CENTER_LATITUDE = 0.0
  CENTER_LONGITUDE = 252.0
  COORDINATE_SYSTEM_NAME = PLANETOGRAPHIC
  COORDINATE_SYSTEM_TYPE = "BODY-FIXED ROTATING"
  EASTERNMOST_LONGITUDE = 253.794
  FIRST_STANDARD_PARALLEL = "N/A"
  LINE_FIRST_PIXEL = 1
  LINE_LAST_PIXEL = 46421
  LINE_PROJECTION_OFFSET = -245486.0
  MAP_PROJECTION_ROTATION = 0.0
  MAP_PROJECTION_TYPE = SINUSOIDAL
  MAP_RESOLUTION = 4741.71043093333
  MAP_SCALE = 0.0125
  MAXIMUM_LATITUDE = -51.7686
  MINIMUM_LATITUDE = -61.549
  POSITIVE_LONGITUDE_DIRECTION = EAST
  REFERENCE_LATITUDE = "N/A"
  REFERENCE_LONGITUDE = "N/A"
  SAMPLE_FIRST_PIXEL = 1
  SAMPLE_LAST_PIXEL = 8676
  SAMPLE_PROJECTION_OFFSET = 3371.0
  SECOND_STANDARD_PARALLEL = "N/A"
  WESTERNMOST_LONGITUDE = 250.532
END_OBJECT = IMAGE_MAP_PROJECTION
/* The JPEG2000 image data file associated with this label. */
OBJECT = COMPRESSED_FILE
  FILE_NAME = "HJ016_0000_ND3.JP2"
  RECORD_TYPE = UNDEFINED
  FILE_RECORDS = UNK
  ENCODING_TYPE = "JP2"
  INTERCHANGE_FORMAT = BINARY
  UNCOMPRESSED_FILE_NAME = "HJ016_0000_ND3.IMG"
  REQUIRED_STORAGE_BYTES = "402783300"
  ^DESCRIPTION = "JP2INFO.TXT"
END_OBJECT = COMPRESSED_FILE
END
