PDS_VERSION_ID = PDS3
/* FILE DATA ELEMENTS */
RECORD_TYPE = STREAM
/* POINTERS TO DATA OBJECTS */
^COMPRESSED_FILE = "HJ018_0000_P23.JP2"
/* IDENTIFICATION DATA ELEMENTS */
DATA_SET_ID = "MEX-M-HRSC-5-REFDR-MAPPROJECTED-V3.0"
DATA_SET_NAME = "MARS EXPRESS HRSC MAP PROJECTED REFDR V3.0"
DETECTOR_ID = MEX_HRSC_P2
EVENT_TYPE = "MARS-REGIONAL-MAPPING-Vo-Pf"
INSTRUMENT_HOST_ID = MEX
INSTRUMENT_HOST_NAME = "MARS EXPRESS"
INSTRUMENT_ID = HRSC
INSTRUMENT_NAME = "HIGH RESOLUTION STEREO CAMERA"
MISSION_NAME = "MARS EXPRESS"
MISSION_PHASE_NAME = ME_Phase_40
PROCESSING_LEVEL_ID = 3
PRODUCT_CREATION_TIME = 2019-09-09T10:24:51.000Z
PRODUCT_ID = "HJ018_0000_P23.JP2"
RELEASE_ID = 0144
REVISION_ID = 0000
/* QUALITY DATA ELEMENTS */
DATA_QUALITY_ID = 1
DATA_QUALITY_DESC = "Data calculated based on original SPICE kernels"
/* TIME DATA ELEMENTS */
SPACECRAFT_CLOCK_START_COUNT = "1/0495447545.24943"
SPACECRAFT_CLOCK_STOP_COUNT = "1/0495447744.31668"
START_TIME = 2019-01-13T08:19:46.178Z
STOP_TIME = 2019-01-13T08:22:09.998Z
/* ORBITAL DATA ELEMENTS */
ASCENDING_NODE_LONGITUDE = 217.44
MAXIMUM_RESOLUTION = 26.8
FOOTPRINT_POINT_LATITUDE = (-62.6994,-62.6589,-62.6126,-62.5276, -62.3161,-62.1085,-61.8021,-61.4956, -61.2912,-60.985,-60.7807,-60.5759, -60.3711,-60.1661,-59.9614,-59.756, -59.5509,-59.3455,-59.1402,-58.9348, -58.7293,-58.5233,-58.3177,-58.1124, -57.9061,-57.7001,-57.3909,-57.185, -56.9778,-56.7711,-56.5639,-56.2535, -56.0463,-55.7361,-55.5285,-55.3208, -55.1129,-54.8014,-54.5936,-54.3857, -54.0733,-53.8649,-53.6565,-53.4478, -53.2392,-52.9256,-52.7163,-52.4028, -52.1934,-52.1931,-52.2136,-52.2446, -52.2625,-52.2853,-52.6074,-52.9217, -53.1316,-53.3408,-53.5497,-53.7582, -53.9674,-54.1766,-54.49,-54.6995, -54.9071,-55.1151,-55.3233,-55.6357, -55.8439,-56.0514,-56.2593,-56.4671, -56.6744,-56.8818,-57.0889,-57.2961, -57.5028,-57.71,-57.9167,-58.1237, -58.4335,-58.64,-58.8463,-59.0529, -59.2592,-59.4648,-59.6707,-59.9791, -60.185,-60.4935,-60.8016,-61.0069, -61.2123,-61.5199,-61.725,-61.9302, -62.1356,-62.3406,-62.5521,-62.6994)
FOOTPRINT_POINT_LONGITUDE = (47.7659,47.0514,46.3117,45.521,45.5744 ,45.6279,45.7039,45.7777,45.826,45.8976 ,45.9443,45.9893,46.0338,46.0774, 46.1207,46.1624,46.2038,46.2443,46.2843 ,46.3235,46.3621,46.3996,46.437,46.4741 ,46.5096,46.5449,46.5967,46.6308, 46.6633,46.6957,46.7272,46.774,46.8043, 46.8496,46.8785,46.907,46.935,46.9764, 47.0035,47.03,47.0687,47.094,47.119, 47.1434,47.1674,47.2025,47.2253,47.2592 ,47.2811,47.5827,47.8819,48.3666, 48.6642,49.0725,49.1841,49.1587,49.1412 ,49.1237,49.1061,49.0884,49.0701, 49.0514,49.0231,49.0034,48.9845,48.9651 ,48.9452,48.9147,48.8938,48.8732, 48.8519,48.8303,48.8086,48.7866,48.7643 ,48.7416,48.7188,48.6953,48.6717, 48.6475,48.6109,48.586,48.5607,48.5349, 48.5087,48.4828,48.4561,48.4155,48.3876 ,48.3451,48.3018,48.2724,48.2424, 48.1969,48.1657,48.1339,48.1013,48.0685 ,48.0341,47.7659)
ORBIT_NUMBER = 19018
ORBITAL_ECCENTRICITY = 0.577
ORBITAL_INCLINATION = 86.97
ORBITAL_SEMIMAJOR_AXIS = 8780.63
PERIAPSIS_ALTITUDE = 328.48
PERIAPSIS_ARGUMENT_ANGLE = 302.32
PERIAPSIS_TIME = 2019-01-13T08:21:15.000Z
SPACECRAFT_ORIENTATION = (0.0,1.0,0.0)
^MEX_ORIENTATION_DESC = "MEX_ORIENTATION_DESC.TXT"
SPACECRAFT_POINTING_MODE = INERT
^MEX_POINTING_DESC = "MEX_POINTING_DESC.TXT"
RIGHT_ASCENSION = 16.874
DECLINATION = 60.413
OFFSET_ANGLE = -1e+32
SPACECRAFT_SOLAR_DISTANCE = 2.19689e+08
TARGET_NAME = MARS
/* CAMERA DATA ELEMENTS */
DETECTOR_TEMPERATURE = 18.3705
FOCAL_PLANE_TEMPERATURE = 8.5833
INST_CMPRS_NAME = "DISCRETE COSINE TRANSFORMATION (DCT)"
INST_CMPRS_RATIO = 7.83178
INST_CMPRS_QUALITY = 0
INST_CMPRS_QUANTZ_TBL_ID = 0
INSTRUMENT_TEMPERATURE = 11.4379
LENS_TEMPERATURE = 8.7872
MACROPIXEL_SIZE = 2
MISSING_FRAMES = 0
PIXEL_SUBSAMPLING_FLAG = N
SIGNAL_CHAIN_ID = 3
/* RADIOMETRIC DATA ELEMENTS */
BANDWIDTH = 177.0
CENTER_FILTER_WAVELENGTH = 676.5
RADIANCE_OFFSET = 6.53094
RADIANCE_SCALING_FACTOR = 0.0129171
REFLECTANCE_SCALING_FACTOR = 0.000330552
MEX:REFLECTANCE_OFFSET = 0.167128
/* IMAGE OBJECT DEFINITIONS */
OBJECT = IMAGE
  INTERCHANGE_FORMAT = BINARY
  LINES = 24737
  LINE_SAMPLES = 4474
  SAMPLE_TYPE = UNSIGNED_INTEGER
  SAMPLE_BITS = 8
  BANDS = 1
  BAND_STORAGE_TYPE = BAND_SEQUENTIAL
  MAXIMUM = 255
  MEAN = 120.498
  MINIMUM = 1
  STANDARD_DEVIATION = 56.2077
END_OBJECT = IMAGE
/* MAP OBJECT DEFINITIONS */
OBJECT = IMAGE_MAP_PROJECTION
  ^DATA_SET_MAP_PROJECTION_CATALOG= "DSMAP.CAT"
  A_AXIS_RADIUS = 3396.0
  B_AXIS_RADIUS = 3396.0
  C_AXIS_RADIUS = 3396.0
  CENTER_LATITUDE = 0.0
  CENTER_LONGITUDE = 48.0
  COORDINATE_SYSTEM_NAME = PLANETOGRAPHIC
  COORDINATE_SYSTEM_TYPE = "BODY-FIXED ROTATING"
  EASTERNMOST_LONGITUDE = 49.1841
  FIRST_STANDARD_PARALLEL = "N/A"
  LINE_FIRST_PIXEL = 1
  LINE_LAST_PIXEL = 24737
  LINE_PROJECTION_OFFSET = -123759.25
  MAP_PROJECTION_ROTATION = 0.0
  MAP_PROJECTION_TYPE = SINUSOIDAL
  MAP_RESOLUTION = 2370.85521546667
  MAP_SCALE = 0.025
  MAXIMUM_LATITUDE = -52.1931
  MINIMUM_LATITUDE = -62.6994
  POSITIVE_LONGITUDE_DIRECTION = EAST
  REFERENCE_LATITUDE = "N/A"
  REFERENCE_LONGITUDE = "N/A"
  SAMPLE_FIRST_PIXEL = 1
  SAMPLE_LAST_PIXEL = 4474
  SAMPLE_PROJECTION_OFFSET = 2847.75
  SECOND_STANDARD_PARALLEL = "N/A"
  WESTERNMOST_LONGITUDE = 45.521
END_OBJECT = IMAGE_MAP_PROJECTION
/* The JPEG2000 image data file associated with this label. */
OBJECT = COMPRESSED_FILE
  FILE_NAME = "HJ018_0000_P23.JP2"
  RECORD_TYPE = UNDEFINED
  FILE_RECORDS = UNK
  ENCODING_TYPE = "JP2"
  INTERCHANGE_FORMAT = BINARY
  UNCOMPRESSED_FILE_NAME = "HJ018_0000_P23.IMG"
  REQUIRED_STORAGE_BYTES = "110700182"
  ^DESCRIPTION = "JP2INFO.TXT"
END_OBJECT = COMPRESSED_FILE
END
