PDS_VERSION_ID = PDS3
/* FILE DATA ELEMENTS */
RECORD_TYPE = STREAM
/* POINTERS TO DATA OBJECTS */
^COMPRESSED_FILE = "HJ018_0000_RE3.JP2"
/* IDENTIFICATION DATA ELEMENTS */
DATA_SET_ID = "MEX-M-HRSC-5-REFDR-MAPPROJECTED-V3.0"
DATA_SET_NAME = "MARS EXPRESS HRSC MAP PROJECTED REFDR V3.0"
DETECTOR_ID = MEX_HRSC_RED
EVENT_TYPE = "MARS-REGIONAL-MAPPING-Vo-Pf"
INSTRUMENT_HOST_ID = MEX
INSTRUMENT_HOST_NAME = "MARS EXPRESS"
INSTRUMENT_ID = HRSC
INSTRUMENT_NAME = "HIGH RESOLUTION STEREO CAMERA"
MISSION_NAME = "MARS EXPRESS"
MISSION_PHASE_NAME = ME_Phase_40
PROCESSING_LEVEL_ID = 3
PRODUCT_CREATION_TIME = 2019-09-09T10:24:51.000Z
PRODUCT_ID = "HJ018_0000_RE3.JP2"
RELEASE_ID = 0144
REVISION_ID = 0000
/* QUALITY DATA ELEMENTS */
DATA_QUALITY_ID = 1
DATA_QUALITY_DESC = "Data calculated based on original SPICE kernels"
/* TIME DATA ELEMENTS */
SPACECRAFT_CLOCK_START_COUNT = "1/0495447545.24943"
SPACECRAFT_CLOCK_STOP_COUNT = "1/0495447744.31668"
START_TIME = 2019-01-13T08:19:41.836Z
STOP_TIME = 2019-01-13T08:22:05.278Z
/* ORBITAL DATA ELEMENTS */
ASCENDING_NODE_LONGITUDE = 217.44
MAXIMUM_RESOLUTION = 54.2
FOOTPRINT_POINT_LATITUDE = (-62.698,-62.6791,-62.6496,-62.6268, -62.6031,-62.5186,-62.3089,-62.1006, -61.79,-61.4862,-61.2838,-60.9803, -60.7781,-60.575,-60.372,-60.1688, -59.8639,-59.6605,-59.3551,-59.1516, -58.9477,-58.7439,-58.5395,-58.3352, -58.1318,-57.8248,-57.6202,-57.314, -57.0059,-56.8005,-56.5949,-56.389, -56.1834,-55.9775,-55.6693,-55.3596, -55.1529,-54.8433,-54.6368,-54.43, -54.1194,-53.9122,-53.7047,-53.3936, -53.1862,-52.9779,-52.7696,-52.562, -52.3535,-52.1722,-52.2022,-52.2231, -52.2535,-52.2683,-52.2888,-52.6102, -52.9228,-53.1318,-53.34,-53.5475, -53.8591,-54.0673,-54.2751,-54.4835, -54.6915,-54.8977,-55.1044,-55.3116, -55.622,-55.8289,-56.1384,-56.3447, -56.6541,-56.86,-57.0656,-57.2713, -57.4766,-57.6821,-57.9901,-58.1956, -58.4003,-58.6053,-58.8099,-59.0148, -59.2193,-59.5256,-59.73,-59.9335, -60.1373,-60.4431,-60.7487,-61.0534, -61.2569,-61.4597,-61.6629,-61.866, -62.1759,-62.3855,-62.5951,-62.698)
FOOTPRINT_POINT_LONGITUDE = (47.6545,47.3241,46.8382,46.4846, 46.1305,45.5544,45.6071,45.6606,45.7371 ,45.8098,45.8574,45.9276,45.9736,46.018 ,46.0618,46.1048,46.1679,46.2091, 46.2694,46.3089,46.3476,46.3857,46.4227 ,46.4593,46.4962,46.5488,46.5833, 46.6346,46.6835,46.7155,46.7468,46.7776 ,46.8081,46.8379,46.8823,46.9248, 46.9525,46.9936,47.0204,47.0467,47.0852 ,47.1103,47.1349,47.1713,47.1951, 47.2181,47.2408,47.2635,47.2854,47.3042 ,47.7177,48.023,48.4891,48.7396,49.0967 ,49.2023,49.1769,49.1593,49.1418, 49.1243,49.0973,49.0788,49.0601,49.0408 ,49.0214,49.0026,48.9832,48.9632, 48.9328,48.912,48.8808,48.8596,48.827, 48.805,48.7829,48.7603,48.7375,48.7143, 48.6788,48.6545,48.6303,48.6054,48.5804 ,48.5548,48.5289,48.4897,48.4628, 48.4361,48.4086,48.3665,48.3234,48.2797 ,48.2498,48.2198,48.189,48.1576,48.1083 ,48.0746,48.0402,47.6545)
ORBIT_NUMBER = 19018
ORBITAL_ECCENTRICITY = 0.577
ORBITAL_INCLINATION = 86.97
ORBITAL_SEMIMAJOR_AXIS = 8780.63
PERIAPSIS_ALTITUDE = 328.48
PERIAPSIS_ARGUMENT_ANGLE = 302.32
PERIAPSIS_TIME = 2019-01-13T08:21:15.000Z
SPACECRAFT_ORIENTATION = (0.0,1.0,0.0)
^MEX_ORIENTATION_DESC = "MEX_ORIENTATION_DESC.TXT"
SPACECRAFT_POINTING_MODE = INERT
^MEX_POINTING_DESC = "MEX_POINTING_DESC.TXT"
RIGHT_ASCENSION = 16.874
DECLINATION = 60.413
OFFSET_ANGLE = -1e+32
SPACECRAFT_SOLAR_DISTANCE = 2.19689e+08
TARGET_NAME = MARS
/* CAMERA DATA ELEMENTS */
DETECTOR_TEMPERATURE = 18.3705
FOCAL_PLANE_TEMPERATURE = 8.5833
INST_CMPRS_NAME = "DISCRETE COSINE TRANSFORMATION (DCT)"
INST_CMPRS_RATIO = 32.7836
INST_CMPRS_QUALITY = 0
INST_CMPRS_QUANTZ_TBL_ID = 0
INSTRUMENT_TEMPERATURE = 11.4379
LENS_TEMPERATURE = 8.7872
MACROPIXEL_SIZE = 4
MISSING_FRAMES = 0
PIXEL_SUBSAMPLING_FLAG = N
SIGNAL_CHAIN_ID = 2
/* RADIOMETRIC DATA ELEMENTS */
BANDWIDTH = 48.0
CENTER_FILTER_WAVELENGTH = 748.0
RADIANCE_OFFSET = 1.83819
RADIANCE_SCALING_FACTOR = 0.00371812
REFLECTANCE_SCALING_FACTOR = 0.000409513
MEX:REFLECTANCE_OFFSET = 0.202458
/* IMAGE OBJECT DEFINITIONS */
OBJECT = IMAGE
  INTERCHANGE_FORMAT = BINARY
  LINES = 12369
  LINE_SAMPLES = 2237
  SAMPLE_TYPE = UNSIGNED_INTEGER
  SAMPLE_BITS = 8
  BANDS = 1
  BAND_STORAGE_TYPE = BAND_SEQUENTIAL
  MAXIMUM = 255
  MEAN = 121.978
  MINIMUM = 1
  STANDARD_DEVIATION = 58.7404
END_OBJECT = IMAGE
/* MAP OBJECT DEFINITIONS */
OBJECT = IMAGE_MAP_PROJECTION
  ^DATA_SET_MAP_PROJECTION_CATALOG= "DSMAP.CAT"
  A_AXIS_RADIUS = 3396.0
  B_AXIS_RADIUS = 3396.0
  C_AXIS_RADIUS = 3396.0
  CENTER_LATITUDE = 0.0
  CENTER_LONGITUDE = 48.0
  COORDINATE_SYSTEM_NAME = PLANETOGRAPHIC
  COORDINATE_SYSTEM_TYPE = "BODY-FIXED ROTATING"
  EASTERNMOST_LONGITUDE = 49.2023
  FIRST_STANDARD_PARALLEL = "N/A"
  LINE_FIRST_PIXEL = 1
  LINE_LAST_PIXEL = 12369
  LINE_PROJECTION_OFFSET = -61879.875
  MAP_PROJECTION_ROTATION = 0.0
  MAP_PROJECTION_TYPE = SINUSOIDAL
  MAP_RESOLUTION = 1185.42760773333
  MAP_SCALE = 0.05
  MAXIMUM_LATITUDE = -52.1722
  MINIMUM_LATITUDE = -62.698
  POSITIVE_LONGITUDE_DIRECTION = EAST
  REFERENCE_LATITUDE = "N/A"
  REFERENCE_LONGITUDE = "N/A"
  SAMPLE_FIRST_PIXEL = 1
  SAMPLE_LAST_PIXEL = 2237
  SAMPLE_PROJECTION_OFFSET = 1423.625
  SECOND_STANDARD_PARALLEL = "N/A"
  WESTERNMOST_LONGITUDE = 45.5544
END_OBJECT = IMAGE_MAP_PROJECTION
/* The JPEG2000 image data file associated with this label. */
OBJECT = COMPRESSED_FILE
  FILE_NAME = "HJ018_0000_RE3.JP2"
  RECORD_TYPE = UNDEFINED
  FILE_RECORDS = UNK
  ENCODING_TYPE = "JP2"
  INTERCHANGE_FORMAT = BINARY
  UNCOMPRESSED_FILE_NAME = "HJ018_0000_RE3.IMG"
  REQUIRED_STORAGE_BYTES = "27691823"
  ^DESCRIPTION = "JP2INFO.TXT"
END_OBJECT = COMPRESSED_FILE
END
