PDS_VERSION_ID = PDS3
/* FILE DATA ELEMENTS */
RECORD_TYPE = STREAM
/* POINTERS TO DATA OBJECTS */
^COMPRESSED_FILE = "HJ029_0000_P13.JP2"
/* IDENTIFICATION DATA ELEMENTS */
DATA_SET_ID = "MEX-M-HRSC-5-REFDR-MAPPROJECTED-V3.0"
DATA_SET_NAME = "MARS EXPRESS HRSC MAP PROJECTED REFDR V3.0"
DETECTOR_ID = MEX_HRSC_P1
EVENT_TYPE = "MARS-REGIONAL-MAPPING-Im-Gl-Pf"
INSTRUMENT_HOST_ID = MEX
INSTRUMENT_HOST_NAME = "MARS EXPRESS"
INSTRUMENT_ID = HRSC
INSTRUMENT_NAME = "HIGH RESOLUTION STEREO CAMERA"
MISSION_NAME = "MARS EXPRESS"
MISSION_PHASE_NAME = ME_Phase_40
PROCESSING_LEVEL_ID = 3
PRODUCT_CREATION_TIME = 2019-09-09T10:24:51.000Z
PRODUCT_ID = "HJ029_0000_P13.JP2"
RELEASE_ID = 0144
REVISION_ID = 0000
/* QUALITY DATA ELEMENTS */
DATA_QUALITY_ID = 1
DATA_QUALITY_DESC = "Data calculated based on original SPICE kernels"
/* TIME DATA ELEMENTS */
SPACECRAFT_CLOCK_START_COUNT = "1/0495724211.25691"
SPACECRAFT_CLOCK_STOP_COUNT = "1/0495724397.63935"
START_TIME = 2019-01-16T13:11:27.926Z
STOP_TIME = 2019-01-16T13:13:37.796Z
/* ORBITAL DATA ELEMENTS */
ASCENDING_NODE_LONGITUDE = 217.25
MAXIMUM_RESOLUTION = 27.7
FOOTPRINT_POINT_LATITUDE = (-55.2211,-55.2018,-55.1819,-55.1408, -55.0735,-54.8005,-54.621,-54.4408, -54.2602,-54.0764,-53.8903,-53.7048, -53.4267,-53.2416,-53.0573,-52.8724, -52.6884,-52.5039,-52.3192,-52.0424, -51.858,-51.6735,-51.489,-51.3046, -51.1203,-50.9362,-50.7521,-50.5683, -50.3842,-50.2004,-50.0165,-49.8326, -49.5576,-49.3739,-49.0948,-48.9111, -48.6356,-48.4516,-48.176,-47.9923, -47.6315,-47.4475,-47.1698,-46.9876, -46.8027,-46.6178,-46.4352,-46.2523, -45.9508,-45.9846,-46.0026,-46.025, -46.0477,-46.2782,-46.461,-46.6442, -46.8273,-47.102,-47.2849,-47.4682, -47.6537,-47.9265,-48.1102,-48.3859, -48.5694,-48.7531,-48.9368,-49.1224, -49.3991,-49.5868,-49.7691,-49.9519, -50.1355,-50.3199,-50.5966,-50.781, -50.9654,-51.1499,-51.3345,-51.5189, -51.7039,-51.8887,-52.0735,-52.3504, -52.5349,-52.8135,-53.0915,-53.2766, -53.4612,-53.6462,-53.8315,-54.0169, -54.2027,-54.3865,-54.5664,-54.7472, -54.9286,-55.1125,-55.2911,-55.2211)
FOOTPRINT_POINT_LONGITUDE = (6.6685,6.35103,6.03639,5.41672,4.95703 ,4.98473,5.00263,5.02034,5.03783,5.0554 ,5.07293,5.09016,5.11554,5.13213, 5.14844,5.16455,5.18039,5.19603,5.21146 ,5.23419,5.24907,5.26375,5.27822, 5.29249,5.30655,5.32041,5.33407,5.34753 ,5.36081,5.3739,5.38681,5.39954,5.41827 ,5.43056,5.44891,5.46077,5.47825, 5.48971,5.5066,5.51765,5.5392,5.54981, 5.56547,5.5757,5.5858,5.59575,5.60556, 5.61522,5.82058,6.29107,6.55535,6.89372 ,7.25352,7.4512,7.44352,7.43642,7.42913 ,7.41779,7.40974,7.40233,7.39881, 7.38328,7.37623,7.36547,7.35753,7.34985 ,7.34197,7.33715,7.32677,7.31864, 7.30796,7.29797,7.28902,7.28133,7.26946 ,7.26134,7.25293,7.2446,7.2363,7.22754, 7.2195,7.21086,7.20222,7.1885,7.17893, 7.16695,7.15366,7.14436,7.13418,7.12431 ,7.11473,7.10506,7.09585,7.08667,7.0775 ,7.06916,7.06142,7.05186,7.04037, 6.6685)
ORBIT_NUMBER = 19029
ORBITAL_ECCENTRICITY = 0.577
ORBITAL_INCLINATION = 86.97
ORBITAL_SEMIMAJOR_AXIS = 8775.99
PERIAPSIS_ALTITUDE = 328.63
PERIAPSIS_ARGUMENT_ANGLE = 300.42
PERIAPSIS_TIME = 2019-01-16T13:09:59.000Z
SPACECRAFT_ORIENTATION = (0.0,1.0,0.0)
^MEX_ORIENTATION_DESC = "MEX_ORIENTATION_DESC.TXT"
SPACECRAFT_POINTING_MODE = INERT
^MEX_POINTING_DESC = "MEX_POINTING_DESC.TXT"
RIGHT_ASCENSION = 24.811
DECLINATION = 49.663
OFFSET_ANGLE = -1e+32
SPACECRAFT_SOLAR_DISTANCE = 2.20288e+08
TARGET_NAME = MARS
/* CAMERA DATA ELEMENTS */
DETECTOR_TEMPERATURE = 17.5549
FOCAL_PLANE_TEMPERATURE = 8.9911
INST_CMPRS_NAME = "DISCRETE COSINE TRANSFORMATION (DCT)"
INST_CMPRS_RATIO = 11.998
INST_CMPRS_QUALITY = 0
INST_CMPRS_QUANTZ_TBL_ID = 0
INSTRUMENT_TEMPERATURE = 11.8457
LENS_TEMPERATURE = 9.6028
MACROPIXEL_SIZE = 2
MISSING_FRAMES = 2
PIXEL_SUBSAMPLING_FLAG = N
SIGNAL_CHAIN_ID = 3
/* RADIOMETRIC DATA ELEMENTS */
BANDWIDTH = 174.0
CENTER_FILTER_WAVELENGTH = 675.0
RADIANCE_OFFSET = 8.22001
RADIANCE_SCALING_FACTOR = 0.00908038
REFLECTANCE_SCALING_FACTOR = 0.000237013
MEX:REFLECTANCE_OFFSET = 0.214556
/* IMAGE OBJECT DEFINITIONS */
OBJECT = IMAGE
  INTERCHANGE_FORMAT = BINARY
  LINES = 22110
  LINE_SAMPLES = 3943
  SAMPLE_TYPE = UNSIGNED_INTEGER
  SAMPLE_BITS = 8
  BANDS = 1
  BAND_STORAGE_TYPE = BAND_SEQUENTIAL
  MAXIMUM = 255
  MEAN = 117.446
  MINIMUM = 1
  STANDARD_DEVIATION = 51.5021
END_OBJECT = IMAGE
/* MAP OBJECT DEFINITIONS */
OBJECT = IMAGE_MAP_PROJECTION
  ^DATA_SET_MAP_PROJECTION_CATALOG= "DSMAP.CAT"
  A_AXIS_RADIUS = 3396.0
  B_AXIS_RADIUS = 3396.0
  C_AXIS_RADIUS = 3396.0
  CENTER_LATITUDE = 0.0
  CENTER_LONGITUDE = 6.0
  COORDINATE_SYSTEM_NAME = PLANETOGRAPHIC
  COORDINATE_SYSTEM_TYPE = "BODY-FIXED ROTATING"
  EASTERNMOST_LONGITUDE = 7.4512
  FIRST_STANDARD_PARALLEL = "N/A"
  LINE_FIRST_PIXEL = 1
  LINE_LAST_PIXEL = 22110
  LINE_PROJECTION_OFFSET = -108974.75
  MAP_PROJECTION_ROTATION = 0.0
  MAP_PROJECTION_TYPE = SINUSOIDAL
  MAP_RESOLUTION = 2370.85521546667
  MAP_SCALE = 0.025
  MAXIMUM_LATITUDE = -45.9508
  MINIMUM_LATITUDE = -55.2911
  POSITIVE_LONGITUDE_DIRECTION = EAST
  REFERENCE_LATITUDE = "N/A"
  REFERENCE_LONGITUDE = "N/A"
  SAMPLE_FIRST_PIXEL = 1
  SAMPLE_LAST_PIXEL = 3943
  SAMPLE_PROJECTION_OFFSET = 1320.75
  SECOND_STANDARD_PARALLEL = "N/A"
  WESTERNMOST_LONGITUDE = 4.95703
END_OBJECT = IMAGE_MAP_PROJECTION
/* The JPEG2000 image data file associated with this label. */
OBJECT = COMPRESSED_FILE
  FILE_NAME = "HJ029_0000_P13.JP2"
  RECORD_TYPE = UNDEFINED
  FILE_RECORDS = UNK
  ENCODING_TYPE = "JP2"
  INTERCHANGE_FORMAT = BINARY
  UNCOMPRESSED_FILE_NAME = "HJ029_0000_P13.IMG"
  REQUIRED_STORAGE_BYTES = "87203388"
  ^DESCRIPTION = "JP2INFO.TXT"
END_OBJECT = COMPRESSED_FILE
END
