PDS_VERSION_ID = PDS3
/* FILE DATA ELEMENTS */
RECORD_TYPE = STREAM
/* POINTERS TO DATA OBJECTS */
^COMPRESSED_FILE = "HJ029_0000_P23.JP2"
/* IDENTIFICATION DATA ELEMENTS */
DATA_SET_ID = "MEX-M-HRSC-5-REFDR-MAPPROJECTED-V3.0"
DATA_SET_NAME = "MARS EXPRESS HRSC MAP PROJECTED REFDR V3.0"
DETECTOR_ID = MEX_HRSC_P2
EVENT_TYPE = "MARS-REGIONAL-MAPPING-Im-Gl-Pf"
INSTRUMENT_HOST_ID = MEX
INSTRUMENT_HOST_NAME = "MARS EXPRESS"
INSTRUMENT_ID = HRSC
INSTRUMENT_NAME = "HIGH RESOLUTION STEREO CAMERA"
MISSION_NAME = "MARS EXPRESS"
MISSION_PHASE_NAME = ME_Phase_40
PROCESSING_LEVEL_ID = 3
PRODUCT_CREATION_TIME = 2019-09-09T10:24:51.000Z
PRODUCT_ID = "HJ029_0000_P23.JP2"
RELEASE_ID = 0144
REVISION_ID = 0000
/* QUALITY DATA ELEMENTS */
DATA_QUALITY_ID = 1
DATA_QUALITY_DESC = "Data calculated based on original SPICE kernels"
/* TIME DATA ELEMENTS */
SPACECRAFT_CLOCK_START_COUNT = "1/0495724211.25691"
SPACECRAFT_CLOCK_STOP_COUNT = "1/0495724397.63935"
START_TIME = 2019-01-16T13:10:51.930Z
STOP_TIME = 2019-01-16T13:12:59.052Z
/* ORBITAL DATA ELEMENTS */
ASCENDING_NODE_LONGITUDE = 217.25
MAXIMUM_RESOLUTION = 26.5
FOOTPRINT_POINT_LATITUDE = (-55.3247,-55.3028,-55.2829,-55.2367, -55.0574,-54.878,-54.6986,-54.5193, -54.2512,-54.0723,-53.8036,-53.6243, -53.4443,-53.2646,-53.0844,-52.8143, -52.6341,-52.4541,-52.2741,-52.0939, -51.9138,-51.7336,-51.4571,-51.2709, -51.0844,-50.8976,-50.7107,-50.5241, -50.3377,-50.151,-49.964,-49.7764, -49.4958,-49.3088,-49.1215,-48.9343, -48.7473,-48.5606,-48.3735,-48.0928, -47.9056,-47.7173,-47.5217,-47.339, -47.151,-46.9617,-46.7777,-46.5908, -46.4021,-46.2136,-45.9978,-46.0085, -46.0195,-46.0277,-46.0385,-46.3243, -46.5129,-46.7013,-46.8897,-47.0779, -47.2663,-47.5447,-47.7339,-47.9246, -48.1119,-48.3931,-48.5806,-48.8618, -49.0487,-49.2332,-49.4212,-49.6091, -49.8916,-50.079,-50.2663,-50.453, -50.6398,-50.8265,-51.0133,-51.1999, -51.4796,-51.7578,-51.9381,-52.1188, -52.3896,-52.5702,-52.7502,-52.9299, -53.1099,-53.2901,-53.4705,-53.7409, -53.9209,-54.1008,-54.2806,-54.4603, -54.7298,-54.9086,-55.0883,-55.3247)
FOOTPRINT_POINT_LONGITUDE = (7.03131,6.21109,5.6136,5.10147,5.12005 ,5.1384,5.1565,5.17432,5.20037,5.21749, 5.24279,5.25946,5.27607,5.29237,5.30857 ,5.33244,5.34812,5.36353,5.37872, 5.39375,5.40858,5.42321,5.44529,5.4599, 5.47438,5.48872,5.5029,5.5168,5.53047, 5.54402,5.55744,5.57081,5.59034,5.60313 ,5.61579,5.62826,5.64053,5.65257, 5.66452,5.68214,5.69371,5.70532,5.71815 ,5.72839,5.73949,5.75065,5.76071, 5.77114,5.78176,5.79221,5.9938,6.30698, 6.67607,6.99618,7.50028,7.62003,7.61014 ,7.60061,7.59073,7.58107,7.57101, 7.56159,7.55006,7.53616,7.5271,7.51276, 7.50288,7.48815,7.47897,7.47345,7.46229 ,7.45103,7.43287,7.42198,7.41106, 7.40108,7.39084,7.3805,7.36992,7.35957, 7.34402,7.32773,7.31762,7.30641,7.28992 ,7.2785,7.26823,7.25871,7.24825,7.23707 ,7.22512,7.2074,7.19602,7.18469,7.17368 ,7.16245,7.14575,7.13683,7.12525, 7.03131)
ORBIT_NUMBER = 19029
ORBITAL_ECCENTRICITY = 0.577
ORBITAL_INCLINATION = 86.97
ORBITAL_SEMIMAJOR_AXIS = 8775.99
PERIAPSIS_ALTITUDE = 328.63
PERIAPSIS_ARGUMENT_ANGLE = 300.42
PERIAPSIS_TIME = 2019-01-16T13:09:59.000Z
SPACECRAFT_ORIENTATION = (0.0,1.0,0.0)
^MEX_ORIENTATION_DESC = "MEX_ORIENTATION_DESC.TXT"
SPACECRAFT_POINTING_MODE = INERT
^MEX_POINTING_DESC = "MEX_POINTING_DESC.TXT"
RIGHT_ASCENSION = 24.811
DECLINATION = 49.663
OFFSET_ANGLE = -1e+32
SPACECRAFT_SOLAR_DISTANCE = 2.20288e+08
TARGET_NAME = MARS
/* CAMERA DATA ELEMENTS */
DETECTOR_TEMPERATURE = 18.5744
FOCAL_PLANE_TEMPERATURE = 8.9911
INST_CMPRS_NAME = "DISCRETE COSINE TRANSFORMATION (DCT)"
INST_CMPRS_RATIO = 7.40178
INST_CMPRS_QUALITY = 0
INST_CMPRS_QUANTZ_TBL_ID = 0
INSTRUMENT_TEMPERATURE = 11.8457
LENS_TEMPERATURE = 9.6028
MACROPIXEL_SIZE = 2
MISSING_FRAMES = 0
PIXEL_SUBSAMPLING_FLAG = N
SIGNAL_CHAIN_ID = 3
/* RADIOMETRIC DATA ELEMENTS */
BANDWIDTH = 177.0
CENTER_FILTER_WAVELENGTH = 676.5
RADIANCE_OFFSET = 8.06429
RADIANCE_SCALING_FACTOR = 0.01069
REFLECTANCE_SCALING_FACTOR = 0.000275055
MEX:REFLECTANCE_OFFSET = 0.207495
/* IMAGE OBJECT DEFINITIONS */
OBJECT = IMAGE
  INTERCHANGE_FORMAT = BINARY
  LINES = 22110
  LINE_SAMPLES = 3943
  SAMPLE_TYPE = UNSIGNED_INTEGER
  SAMPLE_BITS = 8
  BANDS = 1
  BAND_STORAGE_TYPE = BAND_SEQUENTIAL
  MAXIMUM = 254
  MEAN = 114.29
  MINIMUM = 1
  STANDARD_DEVIATION = 54.9231
END_OBJECT = IMAGE
/* MAP OBJECT DEFINITIONS */
OBJECT = IMAGE_MAP_PROJECTION
  ^DATA_SET_MAP_PROJECTION_CATALOG= "DSMAP.CAT"
  A_AXIS_RADIUS = 3396.0
  B_AXIS_RADIUS = 3396.0
  C_AXIS_RADIUS = 3396.0
  CENTER_LATITUDE = 0.0
  CENTER_LONGITUDE = 6.0
  COORDINATE_SYSTEM_NAME = PLANETOGRAPHIC
  COORDINATE_SYSTEM_TYPE = "BODY-FIXED ROTATING"
  EASTERNMOST_LONGITUDE = 7.62003
  FIRST_STANDARD_PARALLEL = "N/A"
  LINE_FIRST_PIXEL = 1
  LINE_LAST_PIXEL = 22110
  LINE_PROJECTION_OFFSET = -108974.75
  MAP_PROJECTION_ROTATION = 0.0
  MAP_PROJECTION_TYPE = SINUSOIDAL
  MAP_RESOLUTION = 2370.85521546667
  MAP_SCALE = 0.025
  MAXIMUM_LATITUDE = -45.9978
  MINIMUM_LATITUDE = -55.3247
  POSITIVE_LONGITUDE_DIRECTION = EAST
  REFERENCE_LATITUDE = "N/A"
  REFERENCE_LONGITUDE = "N/A"
  SAMPLE_FIRST_PIXEL = 1
  SAMPLE_LAST_PIXEL = 3943
  SAMPLE_PROJECTION_OFFSET = 1320.75
  SECOND_STANDARD_PARALLEL = "N/A"
  WESTERNMOST_LONGITUDE = 5.10147
END_OBJECT = IMAGE_MAP_PROJECTION
/* The JPEG2000 image data file associated with this label. */
OBJECT = COMPRESSED_FILE
  FILE_NAME = "HJ029_0000_P23.JP2"
  RECORD_TYPE = UNDEFINED
  FILE_RECORDS = UNK
  ENCODING_TYPE = "JP2"
  INTERCHANGE_FORMAT = BINARY
  UNCOMPRESSED_FILE_NAME = "HJ029_0000_P23.IMG"
  REQUIRED_STORAGE_BYTES = "87203388"
  ^DESCRIPTION = "JP2INFO.TXT"
END_OBJECT = COMPRESSED_FILE
END
