PDS_VERSION_ID = PDS3
/* FILE DATA ELEMENTS */
RECORD_TYPE = STREAM
/* POINTERS TO DATA OBJECTS */
^COMPRESSED_FILE = "HJ033_0000_BL3.JP2"
/* IDENTIFICATION DATA ELEMENTS */
DATA_SET_ID = "MEX-M-HRSC-5-REFDR-MAPPROJECTED-V3.0"
DATA_SET_NAME = "MARS EXPRESS HRSC MAP PROJECTED REFDR V3.0"
DETECTOR_ID = MEX_HRSC_BLUE
EVENT_TYPE = "MARS-REGIONAL-MAPPING-Im-Gl-Pf"
INSTRUMENT_HOST_ID = MEX
INSTRUMENT_HOST_NAME = "MARS EXPRESS"
INSTRUMENT_ID = HRSC
INSTRUMENT_NAME = "HIGH RESOLUTION STEREO CAMERA"
MISSION_NAME = "MARS EXPRESS"
MISSION_PHASE_NAME = ME_Phase_40
PROCESSING_LEVEL_ID = 3
PRODUCT_CREATION_TIME = 2019-09-09T10:24:51.000Z
PRODUCT_ID = "HJ033_0000_BL3.JP2"
RELEASE_ID = 0144
REVISION_ID = 0000
/* QUALITY DATA ELEMENTS */
DATA_QUALITY_ID = 1
DATA_QUALITY_DESC = "Data calculated based on original SPICE kernels"
/* TIME DATA ELEMENTS */
SPACECRAFT_CLOCK_START_COUNT = "1/0495824729.24925"
SPACECRAFT_CLOCK_STOP_COUNT = "1/0495824943.07637"
START_TIME = 2019-01-17T17:06:22.633Z
STOP_TIME = 2019-01-17T17:08:59.321Z
/* ORBITAL DATA ELEMENTS */
ASCENDING_NODE_LONGITUDE = 217.17
MAXIMUM_RESOLUTION = 51.8
FOOTPRINT_POINT_LATITUDE = (-58.4086,-58.3836,-58.3642,-58.3492, -58.3314,-58.208,-57.9879,-57.6576, -57.4371,-57.2165,-56.8857,-56.5547, -56.3339,-56.1131,-55.782,-55.5612, -55.3405,-55.1197,-54.8988,-54.6779, -54.3467,-54.1257,-53.7944,-53.4629, -53.1313,-52.9102,-52.5788,-52.3576, -52.1366,-51.9154,-51.6872,-51.3444, -51.1155,-50.8864,-50.6577,-50.429, -50.2,-49.8566,-49.6277,-49.3986, -49.1694,-48.8257,-48.4809,-48.2516, -48.022,-47.7927,-47.5624,-47.3327, -47.1026,-47.0533,-47.0679,-47.0794, -47.0933,-47.1071,-47.1188,-47.134, -47.479,-47.8238,-48.0536,-48.2835, -48.5137,-48.743,-48.9725,-49.3166, -49.5462,-49.8901,-50.1194,-50.463, -50.6922,-50.9213,-51.2647,-51.6083, -51.8374,-52.0639,-52.3961,-52.6176, -52.8392,-53.1713,-53.3927,-53.614, -53.8354,-54.0567,-54.2781,-54.4994, -54.8314,-55.1633,-55.3846,-55.7166, -55.9378,-56.1591,-56.3804,-56.6017, -56.8229,-57.0441,-57.3757,-57.5968, -57.8177,-58.0376,-58.2576,-58.4086)
FOOTPRINT_POINT_LONGITUDE = (316.774,316.272,315.905,315.636, 315.328,315.031,315.063,315.108,315.141 ,315.175,315.227,315.271,315.298, 315.329,315.373,315.402,315.431,315.459 ,315.486,315.513,315.553,315.578, 315.616,315.653,315.688,315.711,315.746 ,315.768,315.79,315.811,315.832,315.864 ,315.885,315.904,315.924,315.944, 315.963,315.991,316.009,316.027,316.044 ,316.069,316.093,316.109,316.125,316.14 ,316.155,316.17,316.184,316.478,316.736 ,316.941,317.199,317.474,317.714,318.03 ,318.011,317.992,317.979,317.966, 317.952,317.939,317.925,317.905,317.891 ,317.87,317.855,317.834,317.819,317.804 ,317.781,317.758,317.742,317.727, 317.703,317.687,317.671,317.646,317.63, 317.613,317.596,317.578,317.561,317.543 ,317.515,317.488,317.469,317.44,317.42, 317.4,317.38,317.359,317.338,317.316, 317.281,317.259,317.235,317.205,317.177 ,316.774)
ORBIT_NUMBER = 19033
ORBITAL_ECCENTRICITY = 0.577
ORBITAL_INCLINATION = 86.98
ORBITAL_SEMIMAJOR_AXIS = 8772.7
PERIAPSIS_ALTITUDE = 328.47
PERIAPSIS_ARGUMENT_ANGLE = 299.77
PERIAPSIS_TIME = 2019-01-17T17:05:54.000Z
SPACECRAFT_ORIENTATION = (0.0,1.0,0.0)
^MEX_ORIENTATION_DESC = "MEX_ORIENTATION_DESC.TXT"
SPACECRAFT_POINTING_MODE = INERT
^MEX_POINTING_DESC = "MEX_POINTING_DESC.TXT"
RIGHT_ASCENSION = 24.617
DECLINATION = 56.602
OFFSET_ANGLE = -1e+32
SPACECRAFT_SOLAR_DISTANCE = 2.20507e+08
TARGET_NAME = MARS
/* CAMERA DATA ELEMENTS */
DETECTOR_TEMPERATURE = 18.3705
FOCAL_PLANE_TEMPERATURE = 8.5833
INST_CMPRS_NAME = "DISCRETE COSINE TRANSFORMATION (DCT)"
INST_CMPRS_RATIO = 8.89842
INST_CMPRS_QUALITY = 0
INST_CMPRS_QUANTZ_TBL_ID = 0
INSTRUMENT_TEMPERATURE = 11.4379
LENS_TEMPERATURE = 8.9911
MACROPIXEL_SIZE = 4
MISSING_FRAMES = 0
PIXEL_SUBSAMPLING_FLAG = N
SIGNAL_CHAIN_ID = 2
/* RADIOMETRIC DATA ELEMENTS */
BANDWIDTH = 76.0
CENTER_FILTER_WAVELENGTH = 444.0
RADIANCE_OFFSET = 0.659113
RADIANCE_SCALING_FACTOR = 0.00192011
REFLECTANCE_SCALING_FACTOR = 9.59239e-05
MEX:REFLECTANCE_OFFSET = 0.0329277
/* IMAGE OBJECT DEFINITIONS */
OBJECT = IMAGE
  INTERCHANGE_FORMAT = BINARY
  LINES = 13461
  LINE_SAMPLES = 2075
  SAMPLE_TYPE = UNSIGNED_INTEGER
  SAMPLE_BITS = 8
  BANDS = 1
  BAND_STORAGE_TYPE = BAND_SEQUENTIAL
  MAXIMUM = 254
  MEAN = 193.808
  MINIMUM = 1
  STANDARD_DEVIATION = 35.2241
END_OBJECT = IMAGE
/* MAP OBJECT DEFINITIONS */
OBJECT = IMAGE_MAP_PROJECTION
  ^DATA_SET_MAP_PROJECTION_CATALOG= "DSMAP.CAT"
  A_AXIS_RADIUS = 3396.0
  B_AXIS_RADIUS = 3396.0
  C_AXIS_RADIUS = 3396.0
  CENTER_LATITUDE = 0.0
  CENTER_LONGITUDE = 317.0
  COORDINATE_SYSTEM_NAME = PLANETOGRAPHIC
  COORDINATE_SYSTEM_TYPE = "BODY-FIXED ROTATING"
  EASTERNMOST_LONGITUDE = 318.03
  FIRST_STANDARD_PARALLEL = "N/A"
  LINE_FIRST_PIXEL = 1
  LINE_LAST_PIXEL = 13461
  LINE_PROJECTION_OFFSET = -55771.125
  MAP_PROJECTION_ROTATION = 0.0
  MAP_PROJECTION_TYPE = SINUSOIDAL
  MAP_RESOLUTION = 1185.42760773333
  MAP_SCALE = 0.05
  MAXIMUM_LATITUDE = -47.0533
  MINIMUM_LATITUDE = -58.4086
  POSITIVE_LONGITUDE_DIRECTION = EAST
  REFERENCE_LATITUDE = "N/A"
  REFERENCE_LONGITUDE = "N/A"
  SAMPLE_FIRST_PIXEL = 1
  SAMPLE_LAST_PIXEL = 2075
  SAMPLE_PROJECTION_OFFSET = 1262.125
  SECOND_STANDARD_PARALLEL = "N/A"
  WESTERNMOST_LONGITUDE = 315.031
END_OBJECT = IMAGE_MAP_PROJECTION
/* The JPEG2000 image data file associated with this label. */
OBJECT = COMPRESSED_FILE
  FILE_NAME = "HJ033_0000_BL3.JP2"
  RECORD_TYPE = UNDEFINED
  FILE_RECORDS = UNK
  ENCODING_TYPE = "JP2"
  INTERCHANGE_FORMAT = BINARY
  UNCOMPRESSED_FILE_NAME = "HJ033_0000_BL3.IMG"
  REQUIRED_STORAGE_BYTES = "27952325"
  ^DESCRIPTION = "JP2INFO.TXT"
END_OBJECT = COMPRESSED_FILE
END
