PDS_VERSION_ID = PDS3
/* FILE DATA ELEMENTS */
RECORD_TYPE = STREAM
/* POINTERS TO DATA OBJECTS */
^COMPRESSED_FILE = "HJ033_0000_IR3.JP2"
/* IDENTIFICATION DATA ELEMENTS */
DATA_SET_ID = "MEX-M-HRSC-5-REFDR-MAPPROJECTED-V3.0"
DATA_SET_NAME = "MARS EXPRESS HRSC MAP PROJECTED REFDR V3.0"
DETECTOR_ID = MEX_HRSC_IR
EVENT_TYPE = "MARS-REGIONAL-MAPPING-Im-Gl-Pf"
INSTRUMENT_HOST_ID = MEX
INSTRUMENT_HOST_NAME = "MARS EXPRESS"
INSTRUMENT_ID = HRSC
INSTRUMENT_NAME = "HIGH RESOLUTION STEREO CAMERA"
MISSION_NAME = "MARS EXPRESS"
MISSION_PHASE_NAME = ME_Phase_40
PROCESSING_LEVEL_ID = 3
PRODUCT_CREATION_TIME = 2019-09-09T10:24:51.000Z
PRODUCT_ID = "HJ033_0000_IR3.JP2"
RELEASE_ID = 0144
REVISION_ID = 0000
/* QUALITY DATA ELEMENTS */
DATA_QUALITY_ID = 1
DATA_QUALITY_DESC = "Data calculated based on original SPICE kernels"
/* TIME DATA ELEMENTS */
SPACECRAFT_CLOCK_START_COUNT = "1/0495824729.24925"
SPACECRAFT_CLOCK_STOP_COUNT = "1/0495824943.07637"
START_TIME = 2019-01-17T17:06:50.180Z
STOP_TIME = 2019-01-17T17:09:28.316Z
/* ORBITAL DATA ELEMENTS */
ASCENDING_NODE_LONGITUDE = 217.17
MAXIMUM_RESOLUTION = 55.7
FOOTPRINT_POINT_LATITUDE = (-58.3103,-58.2825,-58.2625,-58.245, -58.2222,-58.1625,-57.9507,-57.6238, -57.2904,-56.9509,-56.724,-56.5154, -56.2986,-56.0768,-55.8548,-55.522, -55.1884,-54.9669,-54.7458,-54.5244, -54.3024,-54.0813,-53.8594,-53.6309, -53.4029,-53.0607,-52.7187,-52.4901, -52.2625,-52.0344,-51.807,-51.4659, -51.2391,-50.8989,-50.6714,-50.4442, -50.104,-49.8771,-49.6504,-49.4237, -49.1972,-48.9708,-48.7446,-48.4056, -48.1795,-47.9536,-47.7275,-47.5023, -47.2766,-47.0508,-47.0685,-47.0811, -47.0967,-47.1072,-47.1169,-47.1301, -47.1403,-47.3661,-47.7051,-47.9312, -48.1569,-48.4955,-48.8354,-49.1751, -49.4019,-49.6282,-49.8555,-50.1958, -50.5369,-50.8777,-51.1058,-51.3331, -51.5609,-51.7882,-52.0166,-52.2451, -52.5871,-52.815,-53.272,-53.6151, -53.8441,-54.0699,-54.2918,-54.5135, -54.7357,-55.0689,-55.4024,-55.6248, -55.8478,-56.0703,-56.293,-56.6279, -56.8511,-57.0736,-57.2947,-57.5188, -57.7345,-58.0543,-58.269,-58.3103)
FOOTPRINT_POINT_LONGITUDE = (316.801,316.242,315.864,315.545, 315.147,314.888,314.916,314.964,315.017 ,315.072,315.109,315.131,315.158, 315.189,315.22,315.265,315.31,315.339, 315.366,315.394,315.421,315.448,315.474 ,315.5,315.526,315.563,315.6,315.624, 315.648,315.671,315.693,315.726,315.746 ,315.777,315.798,315.818,315.847, 315.865,315.884,315.902,315.92,315.937, 315.954,315.978,315.995,316.01,316.026, 316.04,316.055,316.069,316.53,316.752, 317.043,317.248,317.436,317.71,317.905, 317.893,317.876,317.865,317.853,317.834 ,317.816,317.797,317.785,317.772, 317.759,317.739,317.719,317.698,317.685 ,317.671,317.656,317.641,317.627, 317.612,317.589,317.573,317.541,317.516 ,317.499,317.483,317.466,317.449, 317.432,317.405,317.378,317.36,317.341, 317.322,317.303,317.274,317.254,317.233 ,317.211,317.19,317.165,317.126,317.1, 316.801)
ORBIT_NUMBER = 19033
ORBITAL_ECCENTRICITY = 0.577
ORBITAL_INCLINATION = 86.98
ORBITAL_SEMIMAJOR_AXIS = 8772.7
PERIAPSIS_ALTITUDE = 328.47
PERIAPSIS_ARGUMENT_ANGLE = 299.77
PERIAPSIS_TIME = 2019-01-17T17:05:54.000Z
SPACECRAFT_ORIENTATION = (0.0,1.0,0.0)
^MEX_ORIENTATION_DESC = "MEX_ORIENTATION_DESC.TXT"
SPACECRAFT_POINTING_MODE = INERT
^MEX_POINTING_DESC = "MEX_POINTING_DESC.TXT"
RIGHT_ASCENSION = 24.617
DECLINATION = 56.602
OFFSET_ANGLE = -1e+32
SPACECRAFT_SOLAR_DISTANCE = 2.20507e+08
TARGET_NAME = MARS
/* CAMERA DATA ELEMENTS */
DETECTOR_TEMPERATURE = 17.5549
FOCAL_PLANE_TEMPERATURE = 8.5833
INST_CMPRS_NAME = "DISCRETE COSINE TRANSFORMATION (DCT)"
INST_CMPRS_RATIO = 17.7743
INST_CMPRS_QUALITY = 0
INST_CMPRS_QUANTZ_TBL_ID = 0
INSTRUMENT_TEMPERATURE = 11.4379
LENS_TEMPERATURE = 8.9911
MACROPIXEL_SIZE = 4
MISSING_FRAMES = 0
PIXEL_SUBSAMPLING_FLAG = N
SIGNAL_CHAIN_ID = 2
/* RADIOMETRIC DATA ELEMENTS */
BANDWIDTH = 81.0
CENTER_FILTER_WAVELENGTH = 955.5
RADIANCE_OFFSET = 1.34793
RADIANCE_SCALING_FACTOR = 0.00361673
REFLECTANCE_SCALING_FACTOR = 0.000379394
MEX:REFLECTANCE_OFFSET = 0.141397
/* IMAGE OBJECT DEFINITIONS */
OBJECT = IMAGE
  INTERCHANGE_FORMAT = BINARY
  LINES = 13461
  LINE_SAMPLES = 2075
  SAMPLE_TYPE = UNSIGNED_INTEGER
  SAMPLE_BITS = 8
  BANDS = 1
  BAND_STORAGE_TYPE = BAND_SEQUENTIAL
  MAXIMUM = 255
  MEAN = 168.776
  MINIMUM = 1
  STANDARD_DEVIATION = 38.6821
END_OBJECT = IMAGE
/* MAP OBJECT DEFINITIONS */
OBJECT = IMAGE_MAP_PROJECTION
  ^DATA_SET_MAP_PROJECTION_CATALOG= "DSMAP.CAT"
  A_AXIS_RADIUS = 3396.0
  B_AXIS_RADIUS = 3396.0
  C_AXIS_RADIUS = 3396.0
  CENTER_LATITUDE = 0.0
  CENTER_LONGITUDE = 317.0
  COORDINATE_SYSTEM_NAME = PLANETOGRAPHIC
  COORDINATE_SYSTEM_TYPE = "BODY-FIXED ROTATING"
  EASTERNMOST_LONGITUDE = 317.905
  FIRST_STANDARD_PARALLEL = "N/A"
  LINE_FIRST_PIXEL = 1
  LINE_LAST_PIXEL = 13461
  LINE_PROJECTION_OFFSET = -55771.125
  MAP_PROJECTION_ROTATION = 0.0
  MAP_PROJECTION_TYPE = SINUSOIDAL
  MAP_RESOLUTION = 1185.42760773333
  MAP_SCALE = 0.05
  MAXIMUM_LATITUDE = -47.0508
  MINIMUM_LATITUDE = -58.3103
  POSITIVE_LONGITUDE_DIRECTION = EAST
  REFERENCE_LATITUDE = "N/A"
  REFERENCE_LONGITUDE = "N/A"
  SAMPLE_FIRST_PIXEL = 1
  SAMPLE_LAST_PIXEL = 2075
  SAMPLE_PROJECTION_OFFSET = 1262.125
  SECOND_STANDARD_PARALLEL = "N/A"
  WESTERNMOST_LONGITUDE = 314.888
END_OBJECT = IMAGE_MAP_PROJECTION
/* The JPEG2000 image data file associated with this label. */
OBJECT = COMPRESSED_FILE
  FILE_NAME = "HJ033_0000_IR3.JP2"
  RECORD_TYPE = UNDEFINED
  FILE_RECORDS = UNK
  ENCODING_TYPE = "JP2"
  INTERCHANGE_FORMAT = BINARY
  UNCOMPRESSED_FILE_NAME = "HJ033_0000_IR3.IMG"
  REQUIRED_STORAGE_BYTES = "27952325"
  ^DESCRIPTION = "JP2INFO.TXT"
END_OBJECT = COMPRESSED_FILE
END
