PDS_VERSION_ID = PDS3
/* FILE DATA ELEMENTS */
RECORD_TYPE = STREAM
/* POINTERS TO DATA OBJECTS */
^COMPRESSED_FILE = "HJ044_0000_BL3.JP2"
/* IDENTIFICATION DATA ELEMENTS */
DATA_SET_ID = "MEX-M-HRSC-5-REFDR-MAPPROJECTED-V3.0"
DATA_SET_NAME = "MARS EXPRESS HRSC MAP PROJECTED REFDR V3.0"
DETECTOR_ID = MEX_HRSC_BLUE
EVENT_TYPE = "MARS-LOCAL-MAPPING-Im-Pf"
INSTRUMENT_HOST_ID = MEX
INSTRUMENT_HOST_NAME = "MARS EXPRESS"
INSTRUMENT_ID = HRSC
INSTRUMENT_NAME = "HIGH RESOLUTION STEREO CAMERA"
MISSION_NAME = "MARS EXPRESS"
MISSION_PHASE_NAME = ME_Phase_40
PROCESSING_LEVEL_ID = 3
PRODUCT_CREATION_TIME = 2019-09-09T10:24:51.000Z
PRODUCT_ID = "HJ044_0000_BL3.JP2"
RELEASE_ID = 0144
REVISION_ID = 0000
/* QUALITY DATA ELEMENTS */
DATA_QUALITY_ID = 1
DATA_QUALITY_DESC = "Data calculated based on original SPICE kernels"
/* TIME DATA ELEMENTS */
SPACECRAFT_CLOCK_START_COUNT = "1/0496101315.25702"
SPACECRAFT_CLOCK_STOP_COUNT = "1/0496101506.26703"
START_TIME = 2019-01-20T21:56:09.100Z
STOP_TIME = 2019-01-20T21:58:20.586Z
/* ORBITAL DATA ELEMENTS */
ASCENDING_NODE_LONGITUDE = 216.97
MAXIMUM_RESOLUTION = 53
FOOTPRINT_POINT_LATITUDE = (-55.7781,-55.7658,-55.7529,-55.7393, -55.7252,-55.7104,-55.6013,-55.4213, -55.2415,-55.0616,-54.8768,-54.6909, -54.505,-54.3191,-54.1332,-53.9473, -53.7614,-53.5755,-53.3895,-53.2036, -53.0176,-52.8317,-52.5528,-52.2737, -52.0877,-51.9017,-51.6227,-51.3436, -51.1575,-50.9713,-50.6922,-50.413, -50.2269,-50.0407,-49.8545,-49.5752, -49.2959,-49.1095,-48.8304,-48.6439, -48.3644,-48.1779,-47.9915,-47.8051, -47.5258,-47.3393,-47.1528,-46.9661, -46.7763,-46.5537,-46.3308,-46.2657, -46.2865,-46.3107,-46.3208,-46.3386, -46.5604,-46.8924,-47.0791,-47.2658, -47.5458,-47.8258,-48.0124,-48.2922, -48.4792,-48.6657,-48.8517,-49.038, -49.2244,-49.4108,-49.5973,-49.8768, -50.0632,-50.2495,-50.4359,-50.6222, -50.809,-50.9955,-51.2747,-51.554, -51.7402,-51.9262,-52.1125,-52.3918, -52.578,-52.7643,-52.9504,-53.1366, -53.4159,-53.6021,-53.8814,-54.1607, -54.44,-54.6262,-54.8124,-54.9986, -55.1829,-55.4531,-55.6332,-55.7781)
FOOTPRINT_POINT_LONGITUDE = (274.806,274.504,274.205,273.907, 273.611,273.318,272.917,272.938,272.957 ,272.977,272.996,273.016,273.035, 273.054,273.073,273.092,273.11,273.128, 273.145,273.163,273.18,273.197,273.222, 273.247,273.263,273.278,273.302,273.324 ,273.339,273.354,273.376,273.397, 273.411,273.425,273.438,273.458,273.478 ,273.49,273.509,273.521,273.54,273.552, 273.563,273.575,273.592,273.603,273.614 ,273.625,273.636,273.648,273.661, 273.938,274.334,274.857,275.104,275.535 ,275.527,275.51,275.5,275.491,275.476, 275.461,275.451,275.436,275.424,275.414 ,275.406,275.396,275.386,275.375, 275.364,275.349,275.338,275.328,275.317 ,275.306,275.292,275.28,275.264,275.247 ,275.236,275.227,275.215,275.198, 275.186,275.173,275.162,275.15,275.133, 275.122,275.102,275.084,275.065,275.051 ,275.038,275.024,275.01,274.989,274.975 ,274.806)
ORBIT_NUMBER = 19044
ORBITAL_ECCENTRICITY = 0.577
ORBITAL_INCLINATION = 86.97
ORBITAL_SEMIMAJOR_AXIS = 8771.87
PERIAPSIS_ALTITUDE = 328.13
PERIAPSIS_ARGUMENT_ANGLE = 297.89
PERIAPSIS_TIME = 2019-01-20T21:54:32.000Z
SPACECRAFT_ORIENTATION = (0.0,1.0,0.0)
^MEX_ORIENTATION_DESC = "MEX_ORIENTATION_DESC.TXT"
SPACECRAFT_POINTING_MODE = INERT
^MEX_POINTING_DESC = "MEX_POINTING_DESC.TXT"
RIGHT_ASCENSION = 24.78
DECLINATION = 51.172
OFFSET_ANGLE = -1e+32
SPACECRAFT_SOLAR_DISTANCE = 2.21113e+08
TARGET_NAME = MARS
/* CAMERA DATA ELEMENTS */
DETECTOR_TEMPERATURE = 17.9627
FOCAL_PLANE_TEMPERATURE = 8.7872
INST_CMPRS_NAME = "DISCRETE COSINE TRANSFORMATION (DCT)"
INST_CMPRS_RATIO = 9.16611
INST_CMPRS_QUALITY = 0
INST_CMPRS_QUANTZ_TBL_ID = 0
INSTRUMENT_TEMPERATURE = 11.4379
LENS_TEMPERATURE = 9.3989
MACROPIXEL_SIZE = 4
MISSING_FRAMES = 0
PIXEL_SUBSAMPLING_FLAG = N
SIGNAL_CHAIN_ID = 2
/* RADIOMETRIC DATA ELEMENTS */
BANDWIDTH = 76.0
CENTER_FILTER_WAVELENGTH = 444.0
RADIANCE_OFFSET = 0.743856
RADIANCE_SCALING_FACTOR = 0.000996978
REFLECTANCE_SCALING_FACTOR = 5.00808e-05
MEX:REFLECTANCE_OFFSET = 0.0373658
/* IMAGE OBJECT DEFINITIONS */
OBJECT = IMAGE
  INTERCHANGE_FORMAT = BINARY
  LINES = 11281
  LINE_SAMPLES = 2035
  SAMPLE_TYPE = UNSIGNED_INTEGER
  SAMPLE_BITS = 8
  BANDS = 1
  BAND_STORAGE_TYPE = BAND_SEQUENTIAL
  MAXIMUM = 255
  MEAN = 118.946
  MINIMUM = 1
  STANDARD_DEVIATION = 21.7842
END_OBJECT = IMAGE
/* MAP OBJECT DEFINITIONS */
OBJECT = IMAGE_MAP_PROJECTION
  ^DATA_SET_MAP_PROJECTION_CATALOG= "DSMAP.CAT"
  A_AXIS_RADIUS = 3396.0
  B_AXIS_RADIUS = 3396.0
  C_AXIS_RADIUS = 3396.0
  CENTER_LATITUDE = 0.0
  CENTER_LONGITUDE = 274.0
  COORDINATE_SYSTEM_NAME = PLANETOGRAPHIC
  COORDINATE_SYSTEM_TYPE = "BODY-FIXED ROTATING"
  EASTERNMOST_LONGITUDE = 275.535
  FIRST_STANDARD_PARALLEL = "N/A"
  LINE_FIRST_PIXEL = 1
  LINE_LAST_PIXEL = 11281
  LINE_PROJECTION_OFFSET = -54839.375
  MAP_PROJECTION_ROTATION = 0.0
  MAP_PROJECTION_TYPE = SINUSOIDAL
  MAP_RESOLUTION = 1185.42760773333
  MAP_SCALE = 0.05
  MAXIMUM_LATITUDE = -46.2657
  MINIMUM_LATITUDE = -55.7781
  POSITIVE_LONGITUDE_DIRECTION = EAST
  REFERENCE_LATITUDE = "N/A"
  REFERENCE_LONGITUDE = "N/A"
  SAMPLE_FIRST_PIXEL = 1
  SAMPLE_LAST_PIXEL = 2035
  SAMPLE_PROJECTION_OFFSET = 748.875
  SECOND_STANDARD_PARALLEL = "N/A"
  WESTERNMOST_LONGITUDE = 272.917
END_OBJECT = IMAGE_MAP_PROJECTION
/* The JPEG2000 image data file associated with this label. */
OBJECT = COMPRESSED_FILE
  FILE_NAME = "HJ044_0000_BL3.JP2"
  RECORD_TYPE = UNDEFINED
  FILE_RECORDS = UNK
  ENCODING_TYPE = "JP2"
  INTERCHANGE_FORMAT = BINARY
  UNCOMPRESSED_FILE_NAME = "HJ044_0000_BL3.IMG"
  REQUIRED_STORAGE_BYTES = "22977185"
  ^DESCRIPTION = "JP2INFO.TXT"
END_OBJECT = COMPRESSED_FILE
END
