PDS_VERSION_ID = PDS3
/* FILE DATA ELEMENTS */
RECORD_TYPE = STREAM
/* POINTERS TO DATA OBJECTS */
^COMPRESSED_FILE = "HJ044_0000_GR3.JP2"
/* IDENTIFICATION DATA ELEMENTS */
DATA_SET_ID = "MEX-M-HRSC-5-REFDR-MAPPROJECTED-V3.0"
DATA_SET_NAME = "MARS EXPRESS HRSC MAP PROJECTED REFDR V3.0"
DETECTOR_ID = MEX_HRSC_GREEN
EVENT_TYPE = "MARS-LOCAL-MAPPING-Im-Pf"
INSTRUMENT_HOST_ID = MEX
INSTRUMENT_HOST_NAME = "MARS EXPRESS"
INSTRUMENT_ID = HRSC
INSTRUMENT_NAME = "HIGH RESOLUTION STEREO CAMERA"
MISSION_NAME = "MARS EXPRESS"
MISSION_PHASE_NAME = ME_Phase_40
PROCESSING_LEVEL_ID = 3
PRODUCT_CREATION_TIME = 2019-09-09T10:24:51.000Z
PRODUCT_ID = "HJ044_0000_GR3.JP2"
RELEASE_ID = 0144
REVISION_ID = 0000
/* QUALITY DATA ELEMENTS */
DATA_QUALITY_ID = 1
DATA_QUALITY_DESC = "Data calculated based on original SPICE kernels"
/* TIME DATA ELEMENTS */
SPACECRAFT_CLOCK_START_COUNT = "1/0496101315.25702"
SPACECRAFT_CLOCK_STOP_COUNT = "1/0496101506.26703"
START_TIME = 2019-01-20T21:56:18.316Z
STOP_TIME = 2019-01-20T21:58:30.942Z
/* ORBITAL DATA ELEMENTS */
ASCENDING_NODE_LONGITUDE = 216.97
MAXIMUM_RESOLUTION = 53.7
FOOTPRINT_POINT_LATITUDE = (-55.7567,-55.7418,-55.7262,-55.7101, -55.6934,-55.684,-55.5004,-55.3174, -55.1344,-54.9515,-54.6768,-54.4937, -54.3107,-54.1277,-53.8532,-53.6702, -53.4871,-53.3042,-53.0297,-52.8465, -52.5721,-52.3892,-52.1149,-51.932, -51.749,-51.5662,-51.2919,-51.1092, -50.835,-50.6522,-50.4694,-50.2866, -50.1039,-49.8222,-49.6395,-49.4568, -49.2741,-49.0914,-48.9086,-48.6271, -48.4445,-48.2618,-48.0791,-47.8965, -47.7138,-47.5312,-47.3173,-47.0993, -46.7724,-46.5544,-46.3364,-46.2531, -46.2763,-46.2899,-46.3056,-46.3257, -46.3379,-46.5558,-46.8829,-47.2099, -47.428,-47.6406,-47.8233,-48.0974, -48.2802,-48.5541,-48.737,-48.9274, -49.2016,-49.3845,-49.5673,-49.8416, -50.032,-50.215,-50.3978,-50.6721, -50.8545,-51.1289,-51.3119,-51.5864, -51.8613,-52.0446,-52.3191,-52.5024, -52.6854,-52.8687,-53.1436,-53.3272, -53.5107,-53.7858,-54.0609,-54.2442, -54.4277,-54.611,-54.7944,-54.9775, -55.1611,-55.4358,-55.7109,-55.7567)
FOOTPRINT_POINT_LONGITUDE = (274.596,274.292,273.989,273.689, 273.391,272.86,272.88,272.901,272.92, 272.94,272.969,272.988,273.007,273.025, 273.052,273.07,273.088,273.105,273.131, 273.147,273.172,273.188,273.212,273.227 ,273.243,273.258,273.28,273.295,273.316 ,273.33,273.344,273.358,273.371,273.392 ,273.405,273.418,273.43,273.443,273.455 ,273.473,273.485,273.497,273.509,273.52 ,273.531,273.542,273.555,273.568, 273.586,273.599,273.61,273.907,274.305, 274.548,274.846,275.254,275.491,275.483 ,275.468,275.452,275.441,275.43,275.42, 275.407,275.398,275.381,275.373,275.365 ,275.35,275.341,275.331,275.316,275.306 ,275.296,275.286,275.27,275.257,275.241 ,275.231,275.215,275.2,275.191,275.173, 275.163,275.151,275.14,275.124,275.113, 275.102,275.085,275.067,275.055,275.043 ,275.03,275.018,275.004,274.992,274.971 ,274.95,274.596)
ORBIT_NUMBER = 19044
ORBITAL_ECCENTRICITY = 0.577
ORBITAL_INCLINATION = 86.97
ORBITAL_SEMIMAJOR_AXIS = 8771.87
PERIAPSIS_ALTITUDE = 328.13
PERIAPSIS_ARGUMENT_ANGLE = 297.89
PERIAPSIS_TIME = 2019-01-20T21:54:32.000Z
SPACECRAFT_ORIENTATION = (0.0,1.0,0.0)
^MEX_ORIENTATION_DESC = "MEX_ORIENTATION_DESC.TXT"
SPACECRAFT_POINTING_MODE = INERT
^MEX_POINTING_DESC = "MEX_POINTING_DESC.TXT"
RIGHT_ASCENSION = 24.78
DECLINATION = 51.172
OFFSET_ANGLE = -1e+32
SPACECRAFT_SOLAR_DISTANCE = 2.21113e+08
TARGET_NAME = MARS
/* CAMERA DATA ELEMENTS */
DETECTOR_TEMPERATURE = 17.9627
FOCAL_PLANE_TEMPERATURE = 8.7872
INST_CMPRS_NAME = "DISCRETE COSINE TRANSFORMATION (DCT)"
INST_CMPRS_RATIO = 21.3409
INST_CMPRS_QUALITY = 0
INST_CMPRS_QUANTZ_TBL_ID = 0
INSTRUMENT_TEMPERATURE = 11.4379
LENS_TEMPERATURE = 9.3989
MACROPIXEL_SIZE = 4
MISSING_FRAMES = 2
PIXEL_SUBSAMPLING_FLAG = N
SIGNAL_CHAIN_ID = 2
/* RADIOMETRIC DATA ELEMENTS */
BANDWIDTH = 88.0
CENTER_FILTER_WAVELENGTH = 538.0
RADIANCE_OFFSET = 1.74805
RADIANCE_SCALING_FACTOR = 0.00252986
REFLECTANCE_SCALING_FACTOR = 0.000106491
MEX:REFLECTANCE_OFFSET = 0.0735821
/* IMAGE OBJECT DEFINITIONS */
OBJECT = IMAGE
  INTERCHANGE_FORMAT = BINARY
  LINES = 11281
  LINE_SAMPLES = 2035
  SAMPLE_TYPE = UNSIGNED_INTEGER
  SAMPLE_BITS = 8
  BANDS = 1
  BAND_STORAGE_TYPE = BAND_SEQUENTIAL
  MAXIMUM = 255
  MEAN = 113.24
  MINIMUM = 1
  STANDARD_DEVIATION = 34.5109
END_OBJECT = IMAGE
/* MAP OBJECT DEFINITIONS */
OBJECT = IMAGE_MAP_PROJECTION
  ^DATA_SET_MAP_PROJECTION_CATALOG= "DSMAP.CAT"
  A_AXIS_RADIUS = 3396.0
  B_AXIS_RADIUS = 3396.0
  C_AXIS_RADIUS = 3396.0
  CENTER_LATITUDE = 0.0
  CENTER_LONGITUDE = 274.0
  COORDINATE_SYSTEM_NAME = PLANETOGRAPHIC
  COORDINATE_SYSTEM_TYPE = "BODY-FIXED ROTATING"
  EASTERNMOST_LONGITUDE = 275.491
  FIRST_STANDARD_PARALLEL = "N/A"
  LINE_FIRST_PIXEL = 1
  LINE_LAST_PIXEL = 11281
  LINE_PROJECTION_OFFSET = -54839.375
  MAP_PROJECTION_ROTATION = 0.0
  MAP_PROJECTION_TYPE = SINUSOIDAL
  MAP_RESOLUTION = 1185.42760773333
  MAP_SCALE = 0.05
  MAXIMUM_LATITUDE = -46.2531
  MINIMUM_LATITUDE = -55.7567
  POSITIVE_LONGITUDE_DIRECTION = EAST
  REFERENCE_LATITUDE = "N/A"
  REFERENCE_LONGITUDE = "N/A"
  SAMPLE_FIRST_PIXEL = 1
  SAMPLE_LAST_PIXEL = 2035
  SAMPLE_PROJECTION_OFFSET = 748.875
  SECOND_STANDARD_PARALLEL = "N/A"
  WESTERNMOST_LONGITUDE = 272.86
END_OBJECT = IMAGE_MAP_PROJECTION
/* The JPEG2000 image data file associated with this label. */
OBJECT = COMPRESSED_FILE
  FILE_NAME = "HJ044_0000_GR3.JP2"
  RECORD_TYPE = UNDEFINED
  FILE_RECORDS = UNK
  ENCODING_TYPE = "JP2"
  INTERCHANGE_FORMAT = BINARY
  UNCOMPRESSED_FILE_NAME = "HJ044_0000_GR3.IMG"
  REQUIRED_STORAGE_BYTES = "22977185"
  ^DESCRIPTION = "JP2INFO.TXT"
END_OBJECT = COMPRESSED_FILE
END
