PDS_VERSION_ID = PDS3
/* FILE DATA ELEMENTS */
RECORD_TYPE = STREAM
/* POINTERS TO DATA OBJECTS */
^COMPRESSED_FILE = "HJ064_0000_IR3.JP2"
/* IDENTIFICATION DATA ELEMENTS */
DATA_SET_ID = "MEX-M-HRSC-5-REFDR-MAPPROJECTED-V3.0"
DATA_SET_NAME = "MARS EXPRESS HRSC MAP PROJECTED REFDR V3.0"
DETECTOR_ID = MEX_HRSC_IR
EVENT_TYPE = "MARS-REGIONAL-MAPPING-Im-Gl-Eo"
INSTRUMENT_HOST_ID = MEX
INSTRUMENT_HOST_NAME = "MARS EXPRESS"
INSTRUMENT_ID = HRSC
INSTRUMENT_NAME = "HIGH RESOLUTION STEREO CAMERA"
MISSION_NAME = "MARS EXPRESS"
MISSION_PHASE_NAME = ME_Phase_40
PROCESSING_LEVEL_ID = 3
PRODUCT_CREATION_TIME = 2019-09-09T10:24:51.000Z
PRODUCT_ID = "HJ064_0000_IR3.JP2"
RELEASE_ID = 0144
REVISION_ID = 0000
/* QUALITY DATA ELEMENTS */
DATA_QUALITY_ID = 1
DATA_QUALITY_DESC = "Data calculated based on original SPICE kernels"
/* TIME DATA ELEMENTS */
SPACECRAFT_CLOCK_START_COUNT = "1/0496604287.25671"
SPACECRAFT_CLOCK_STOP_COUNT = "1/0496604522.42627"
START_TIME = 2019-01-26T17:39:44.939Z
STOP_TIME = 2019-01-26T17:42:24.588Z
/* ORBITAL DATA ELEMENTS */
ASCENDING_NODE_LONGITUDE = 216.61
MAXIMUM_RESOLUTION = 75.6
FOOTPRINT_POINT_LATITUDE = (-45.5801,-45.5519,-45.5235,-45.4948, -45.4658,-45.4365,-45.1021,-44.9081, -44.7139,-44.4244,-44.2392,-44.0448, -43.7493,-43.5523,-43.2487,-42.9521, -42.7514,-42.4504,-42.2498,-42.0496, -41.8449,-41.5391,-41.3347,-41.1308, -40.8265,-40.6181,-40.4091,-40.1937, -39.9822,-39.668,-39.3454,-39.1308, -38.9139,-38.6967,-38.4805,-38.2604, -38.0385,-37.8197,-37.5973,-37.3737, -37.0375,-36.8127,-36.4693,-36.2406, -36.0131,-35.7797,-35.5459,-35.313, -34.9229,-34.9742,-35.0087,-35.037, -35.0718,-35.1103,-35.3577,-35.5936, -35.8281,-36.1804,-36.4123,-36.6412, -36.9846,-37.3222,-37.5476,-37.8795, -38.204,-38.425,-38.6498,-38.8664, -39.0815,-39.2955,-39.5103,-39.7227, -39.9324,-40.1448,-40.3564,-40.5652, -40.7726,-40.9821,-41.2953,-41.5, -41.705,-41.9097,-42.1146,-42.3175, -42.5177,-42.7184,-42.9205,-43.1195, -43.3194,-43.5154,-43.8106,-44.0078, -44.2043,-44.4005,-44.593,-44.8828, -45.0763,-45.3673,-45.6569,-45.5801)
FOOTPRINT_POINT_LONGITUDE = (32.8994,32.5614,32.2266,31.8951, 31.5665,31.2405,31.1654,31.1744,31.1832 ,31.196,31.2034,31.2116,31.2239,31.2319 ,31.2446,31.2559,31.2635,31.2746, 31.2819,31.2889,31.296,31.3063,31.313, 31.3196,31.3287,31.3351,31.3415,31.3484 ,31.3546,31.3631,31.3722,31.3779, 31.3836,31.3891,31.3945,31.3999,31.4052 ,31.4102,31.4153,31.4202,31.4273,31.432 ,31.4389,31.4433,31.4475,31.4518,31.456 ,31.46,31.549,32.0999,32.4644,32.8092, 33.2024,33.6857,33.7754,33.7691,33.7632 ,33.7545,33.7496,33.7423,33.7314, 33.7211,33.7145,33.7011,33.6852,33.6783 ,33.6757,33.6687,33.6605,33.6514, 33.6444,33.6375,33.6284,33.6212,33.6143 ,33.6078,33.6002,33.5939,33.5845,33.578 ,33.5716,33.5648,33.558,33.551,33.5442, 33.5375,33.5317,33.5236,33.5167,33.5097 ,33.4997,33.4931,33.4861,33.479,33.4723 ,33.4626,33.4562,33.4468,33.4378, 32.8994)
ORBIT_NUMBER = 19064
ORBITAL_ECCENTRICITY = 0.577
ORBITAL_INCLINATION = 86.97
ORBITAL_SEMIMAJOR_AXIS = 8768.98
PERIAPSIS_ALTITUDE = 328.5
PERIAPSIS_ARGUMENT_ANGLE = 294.49
PERIAPSIS_TIME = 2019-01-26T17:33:50.000Z
SPACECRAFT_ORIENTATION = (0.0,1.0,0.0)
^MEX_ORIENTATION_DESC = "MEX_ORIENTATION_DESC.TXT"
SPACECRAFT_POINTING_MODE = INERT
^MEX_POINTING_DESC = "MEX_POINTING_DESC.TXT"
RIGHT_ASCENSION = 44.098
DECLINATION = 42.941
OFFSET_ANGLE = -1e+32
SPACECRAFT_SOLAR_DISTANCE = 2.22226e+08
TARGET_NAME = MARS
/* CAMERA DATA ELEMENTS */
DETECTOR_TEMPERATURE = 16.7393
FOCAL_PLANE_TEMPERATURE = 7.9716
INST_CMPRS_NAME = "DISCRETE COSINE TRANSFORMATION (DCT)"
INST_CMPRS_RATIO = 23.3473
INST_CMPRS_QUALITY = 0
INST_CMPRS_QUANTZ_TBL_ID = 0
INSTRUMENT_TEMPERATURE = 10.8262
LENS_TEMPERATURE = 7.9716
MACROPIXEL_SIZE = 4
MISSING_FRAMES = 0
PIXEL_SUBSAMPLING_FLAG = N
SIGNAL_CHAIN_ID = 2
/* RADIOMETRIC DATA ELEMENTS */
BANDWIDTH = 81.0
CENTER_FILTER_WAVELENGTH = 955.5
RADIANCE_OFFSET = 1.47665
RADIANCE_SCALING_FACTOR = 0.00362797
REFLECTANCE_SCALING_FACTOR = 0.000386531
MEX:REFLECTANCE_OFFSET = 0.157326
/* IMAGE OBJECT DEFINITIONS */
OBJECT = IMAGE
  INTERCHANGE_FORMAT = BINARY
  LINES = 12671
  LINE_SAMPLES = 2314
  SAMPLE_TYPE = UNSIGNED_INTEGER
  SAMPLE_BITS = 8
  BANDS = 1
  BAND_STORAGE_TYPE = BAND_SEQUENTIAL
  MAXIMUM = 255
  MEAN = 147.471
  MINIMUM = 1
  STANDARD_DEVIATION = 41.1421
END_OBJECT = IMAGE
/* MAP OBJECT DEFINITIONS */
OBJECT = IMAGE_MAP_PROJECTION
  ^DATA_SET_MAP_PROJECTION_CATALOG= "DSMAP.CAT"
  A_AXIS_RADIUS = 3396.0
  B_AXIS_RADIUS = 3396.0
  C_AXIS_RADIUS = 3396.0
  CENTER_LATITUDE = 0.0
  CENTER_LONGITUDE = 33.0
  COORDINATE_SYSTEM_NAME = PLANETOGRAPHIC
  COORDINATE_SYSTEM_TYPE = "BODY-FIXED ROTATING"
  EASTERNMOST_LONGITUDE = 33.7754
  FIRST_STANDARD_PARALLEL = "N/A"
  LINE_FIRST_PIXEL = 1
  LINE_LAST_PIXEL = 12671
  LINE_PROJECTION_OFFSET = -41449.625
  MAP_PROJECTION_ROTATION = 0.0
  MAP_PROJECTION_TYPE = SINUSOIDAL
  MAP_RESOLUTION = 1185.42760773333
  MAP_SCALE = 0.05
  MAXIMUM_LATITUDE = -34.9229
  MINIMUM_LATITUDE = -45.6569
  POSITIVE_LONGITUDE_DIRECTION = EAST
  REFERENCE_LATITUDE = "N/A"
  REFERENCE_LONGITUDE = "N/A"
  SAMPLE_FIRST_PIXEL = 1
  SAMPLE_LAST_PIXEL = 2314
  SAMPLE_PROJECTION_OFFSET = 1389.625
  SECOND_STANDARD_PARALLEL = "N/A"
  WESTERNMOST_LONGITUDE = 31.1654
END_OBJECT = IMAGE_MAP_PROJECTION
/* The JPEG2000 image data file associated with this label. */
OBJECT = COMPRESSED_FILE
  FILE_NAME = "HJ064_0000_IR3.JP2"
  RECORD_TYPE = UNDEFINED
  FILE_RECORDS = UNK
  ENCODING_TYPE = "JP2"
  INTERCHANGE_FORMAT = BINARY
  UNCOMPRESSED_FILE_NAME = "HJ064_0000_IR3.IMG"
  REQUIRED_STORAGE_BYTES = "29343834"
  ^DESCRIPTION = "JP2INFO.TXT"
END_OBJECT = COMPRESSED_FILE
END
