PDS_VERSION_ID = PDS3
/* FILE DATA ELEMENTS */
RECORD_TYPE = STREAM
/* POINTERS TO DATA OBJECTS */
^COMPRESSED_FILE = "HJ064_0000_ND3.JP2"
/* IDENTIFICATION DATA ELEMENTS */
DATA_SET_ID = "MEX-M-HRSC-5-REFDR-MAPPROJECTED-V3.0"
DATA_SET_NAME = "MARS EXPRESS HRSC MAP PROJECTED REFDR V3.0"
DETECTOR_ID = MEX_HRSC_NADIR
EVENT_TYPE = "MARS-REGIONAL-MAPPING-Im-Gl-Eo"
INSTRUMENT_HOST_ID = MEX
INSTRUMENT_HOST_NAME = "MARS EXPRESS"
INSTRUMENT_ID = HRSC
INSTRUMENT_NAME = "HIGH RESOLUTION STEREO CAMERA"
MISSION_NAME = "MARS EXPRESS"
MISSION_PHASE_NAME = ME_Phase_40
PROCESSING_LEVEL_ID = 3
PRODUCT_CREATION_TIME = 2019-09-09T10:24:51.000Z
PRODUCT_ID = "HJ064_0000_ND3.JP2"
RELEASE_ID = 0144
REVISION_ID = 0000
/* QUALITY DATA ELEMENTS */
DATA_QUALITY_ID = 1
DATA_QUALITY_DESC = "Data calculated based on original SPICE kernels"
/* TIME DATA ELEMENTS */
SPACECRAFT_CLOCK_START_COUNT = "1/0496604287.25671"
SPACECRAFT_CLOCK_STOP_COUNT = "1/0496604522.42627"
START_TIME = 2019-01-26T17:39:12.207Z
STOP_TIME = 2019-01-26T17:41:46.210Z
/* ORBITAL DATA ELEMENTS */
ASCENDING_NODE_LONGITUDE = 216.61
MAXIMUM_RESOLUTION = 16.7
FOOTPRINT_POINT_LATITUDE = (-45.6341,-45.6157,-45.5967,-45.5771, -45.5568,-45.4562,-45.2635,-44.9745, -44.6846,-44.4923,-44.2968,-44.102, -43.8065,-43.6094,-43.4107,-43.1133, -42.8109,-42.6092,-42.4078,-42.2057, -42.0042,-41.7994,-41.5935,-41.3871, -41.1809,-40.8731,-40.6631,-40.4518, -40.2393,-40.0283,-39.8173,-39.6028, -39.3871,-39.1714,-38.9556,-38.7401, -38.4093,-38.1887,-37.8579,-37.6347, -37.4092,-37.1838,-36.9585,-36.6158, -36.3855,-36.1553,-35.807,-35.5719, -35.3368,-34.9797,-35.001,-35.0256, -35.0479,-35.0729,-35.0919,-35.3395, -35.5743,-35.8092,-36.1599,-36.3903, -36.6204,-36.8506,-37.0781,-37.416, -37.6415,-37.8664,-38.1965,-38.4169, -38.6382,-38.8588,-39.1817,-39.3971, -39.6129,-39.8283,-40.0398,-40.2507, -40.4618,-40.7786,-40.9885,-41.195, -41.4012,-41.7108,-41.9172,-42.1224, -42.3239,-42.6261,-42.9291,-43.1302, -43.3309,-43.5276,-43.7246,-43.9217, -44.1189,-44.3157,-44.6108,-44.8998, -45.0924,-45.3814,-45.5749,-45.6341)
FOOTPRINT_POINT_LONGITUDE = (33.0192,32.6887,32.3612,32.0371, 31.7156,31.3304,31.3397,31.3534,31.367, 31.3757,31.3845,31.393,31.4058,31.4141, 31.4225,31.4347,31.4468,31.4546,31.4624 ,31.47,31.4775,31.485,31.4924,31.4997, 31.5069,31.5173,31.5243,31.5312,31.538, 31.5447,31.5512,31.5577,31.5642,31.5705 ,31.5767,31.5828,31.5919,31.5978, 31.6065,31.6122,31.6178,31.6234,31.6288 ,31.6368,31.642,31.6472,31.6548,31.6597 ,31.6646,31.8206,32.1421,32.5317, 32.9008,33.3421,33.6961,33.878,33.8693, 33.8611,33.8468,33.8423,33.8331,33.8238 ,33.814,33.7999,33.7921,33.78,33.7605, 33.7512,33.7464,33.7378,33.7221,33.7119 ,33.7031,33.6931,33.6819,33.673,33.6649 ,33.6527,33.643,33.635,33.6264,33.6139, 33.6052,33.5963,33.5876,33.5742,33.5624 ,33.5523,33.5435,33.5344,33.5261, 33.5176,33.5091,33.4999,33.4868,33.4748 ,33.4666,33.4541,33.447,33.0192)
ORBIT_NUMBER = 19064
ORBITAL_ECCENTRICITY = 0.577
ORBITAL_INCLINATION = 86.97
ORBITAL_SEMIMAJOR_AXIS = 8768.98
PERIAPSIS_ALTITUDE = 328.5
PERIAPSIS_ARGUMENT_ANGLE = 294.49
PERIAPSIS_TIME = 2019-01-26T17:33:50.000Z
SPACECRAFT_ORIENTATION = (0.0,1.0,0.0)
^MEX_ORIENTATION_DESC = "MEX_ORIENTATION_DESC.TXT"
SPACECRAFT_POINTING_MODE = INERT
^MEX_POINTING_DESC = "MEX_POINTING_DESC.TXT"
RIGHT_ASCENSION = 44.098
DECLINATION = 42.941
OFFSET_ANGLE = -1e+32
SPACECRAFT_SOLAR_DISTANCE = 2.22226e+08
TARGET_NAME = MARS
/* CAMERA DATA ELEMENTS */
DETECTOR_TEMPERATURE = 17.9627
FOCAL_PLANE_TEMPERATURE = 7.9716
INST_CMPRS_NAME = "DISCRETE COSINE TRANSFORMATION (DCT)"
INST_CMPRS_RATIO = 7.08827
INST_CMPRS_QUALITY = 0
INST_CMPRS_QUANTZ_TBL_ID = 0
INSTRUMENT_TEMPERATURE = 10.8262
LENS_TEMPERATURE = 7.9716
MACROPIXEL_SIZE = 1
MISSING_FRAMES = 0
PIXEL_SUBSAMPLING_FLAG = N
SIGNAL_CHAIN_ID = 0
/* RADIOMETRIC DATA ELEMENTS */
BANDWIDTH = 177.0
CENTER_FILTER_WAVELENGTH = 677.5
RADIANCE_OFFSET = 6.12798
RADIANCE_SCALING_FACTOR = 0.0120157
REFLECTANCE_SCALING_FACTOR = 0.000315227
MEX:REFLECTANCE_OFFSET = 0.160766
/* IMAGE OBJECT DEFINITIONS */
OBJECT = IMAGE
  INTERCHANGE_FORMAT = BINARY
  LINES = 50683
  LINE_SAMPLES = 9253
  SAMPLE_TYPE = UNSIGNED_INTEGER
  SAMPLE_BITS = 8
  BANDS = 1
  BAND_STORAGE_TYPE = BAND_SEQUENTIAL
  MAXIMUM = 255
  MEAN = 145.976
  MINIMUM = 1
  STANDARD_DEVIATION = 35.8361
END_OBJECT = IMAGE
/* MAP OBJECT DEFINITIONS */
OBJECT = IMAGE_MAP_PROJECTION
  ^DATA_SET_MAP_PROJECTION_CATALOG= "DSMAP.CAT"
  A_AXIS_RADIUS = 3396.0
  B_AXIS_RADIUS = 3396.0
  C_AXIS_RADIUS = 3396.0
  CENTER_LATITUDE = 0.0
  CENTER_LONGITUDE = 33.0
  COORDINATE_SYSTEM_NAME = PLANETOGRAPHIC
  COORDINATE_SYSTEM_TYPE = "BODY-FIXED ROTATING"
  EASTERNMOST_LONGITUDE = 33.878
  FIRST_STANDARD_PARALLEL = "N/A"
  LINE_FIRST_PIXEL = 1
  LINE_LAST_PIXEL = 50683
  LINE_PROJECTION_OFFSET = -165797.0
  MAP_PROJECTION_ROTATION = 0.0
  MAP_PROJECTION_TYPE = SINUSOIDAL
  MAP_RESOLUTION = 4741.71043093333
  MAP_SCALE = 0.0125
  MAXIMUM_LATITUDE = -34.9797
  MINIMUM_LATITUDE = -45.6341
  POSITIVE_LONGITUDE_DIRECTION = EAST
  REFERENCE_LATITUDE = "N/A"
  REFERENCE_LONGITUDE = "N/A"
  SAMPLE_FIRST_PIXEL = 1
  SAMPLE_LAST_PIXEL = 9253
  SAMPLE_PROJECTION_OFFSET = 5560.0
  SECOND_STANDARD_PARALLEL = "N/A"
  WESTERNMOST_LONGITUDE = 31.3304
END_OBJECT = IMAGE_MAP_PROJECTION
/* The JPEG2000 image data file associated with this label. */
OBJECT = COMPRESSED_FILE
  FILE_NAME = "HJ064_0000_ND3.JP2"
  RECORD_TYPE = UNDEFINED
  FILE_RECORDS = UNK
  ENCODING_TYPE = "JP2"
  INTERCHANGE_FORMAT = BINARY
  UNCOMPRESSED_FILE_NAME = "HJ064_0000_ND3.IMG"
  REQUIRED_STORAGE_BYTES = "469006811"
  ^DESCRIPTION = "JP2INFO.TXT"
END_OBJECT = COMPRESSED_FILE
END
