PDS_VERSION_ID = PDS3
/* FILE DATA ELEMENTS */
RECORD_TYPE = STREAM
/* POINTERS TO DATA OBJECTS */
^COMPRESSED_FILE = "HJ064_0000_S13.JP2"
/* IDENTIFICATION DATA ELEMENTS */
DATA_SET_ID = "MEX-M-HRSC-5-REFDR-MAPPROJECTED-V3.0"
DATA_SET_NAME = "MARS EXPRESS HRSC MAP PROJECTED REFDR V3.0"
DETECTOR_ID = MEX_HRSC_S1
EVENT_TYPE = "MARS-REGIONAL-MAPPING-Im-Gl-Eo"
INSTRUMENT_HOST_ID = MEX
INSTRUMENT_HOST_NAME = "MARS EXPRESS"
INSTRUMENT_ID = HRSC
INSTRUMENT_NAME = "HIGH RESOLUTION STEREO CAMERA"
MISSION_NAME = "MARS EXPRESS"
MISSION_PHASE_NAME = ME_Phase_40
PROCESSING_LEVEL_ID = 3
PRODUCT_CREATION_TIME = 2019-09-09T10:24:51.000Z
PRODUCT_ID = "HJ064_0000_S13.JP2"
RELEASE_ID = 0144
REVISION_ID = 0000
/* QUALITY DATA ELEMENTS */
DATA_QUALITY_ID = 1
DATA_QUALITY_DESC = "Data calculated based on original SPICE kernels"
/* TIME DATA ELEMENTS */
SPACECRAFT_CLOCK_START_COUNT = "1/0496604287.25671"
SPACECRAFT_CLOCK_STOP_COUNT = "1/0496604522.42627"
START_TIME = 2019-01-26T17:39:52.103Z
STOP_TIME = 2019-01-26T17:42:32.549Z
/* ORBITAL DATA ELEMENTS */
ASCENDING_NODE_LONGITUDE = 216.61
MAXIMUM_RESOLUTION = 39
FOOTPRINT_POINT_LATITUDE = (-45.6094,-45.5778,-45.5459,-45.5138, -45.4814,-45.4488,-45.4159,-45.0982, -44.9064,-44.7126,-44.4211,-43.9429, -43.7481,-43.5528,-43.3449,-43.0462, -42.8476,-42.5497,-42.3474,-42.1444, -41.9426,-41.7393,-41.5382,-41.3322, -41.0246,-40.8247,-40.6186,-40.4079, -40.1923,-39.8736,-39.6681,-39.4546, -39.2342,-39.0202,-38.6947,-38.4764, -38.2555,-37.9265,-37.706,-37.4865, -37.2604,-36.9221,-36.6962,-36.4686, -36.2385,-36.0099,-35.662,-35.4275, -35.1939,-34.93,-34.9648,-34.9932, -35.019,-35.0488,-35.09,-35.1298, -35.3785,-35.6138,-35.965,-36.2007, -36.4339,-36.6642,-36.8918,-37.2302, -37.4597,-37.6828,-37.9013,-38.2247, -38.4447,-38.6693,-38.8875,-39.1045, -39.315,-39.5292,-39.8495,-40.0585, -40.3741,-40.5849,-40.7942,-41.0019, -41.2098,-41.4165,-41.624,-41.9305, -42.1328,-42.3351,-42.6388,-42.8432, -43.0389,-43.3362,-43.5346,-43.8325, -44.0276,-44.2221,-44.4169,-44.7103, -44.9061,-45.1934,-45.4823,-45.6094)
FOOTPRINT_POINT_LONGITUDE = (33.228,32.867,32.5097,32.1559,31.8059, 31.4589,31.1149,31.1178,31.1266,31.1355 ,31.1483,31.1678,31.1758,31.1838, 31.1927,31.2043,31.2118,31.2228,31.2301 ,31.2373,31.2443,31.2512,31.2579, 31.2646,31.2742,31.2799,31.2862,31.2925 ,31.2992,31.3086,31.3138,31.3195, 31.3258,31.3314,31.3396,31.3449,31.3504 ,31.358,31.3628,31.3673,31.3725,31.3793 ,31.3838,31.3883,31.3926,31.3966, 31.4028,31.4068,31.4106,31.5023,31.8573 ,32.1479,32.3956,32.7348,33.1702, 33.6319,33.75,33.7442,33.7337,33.7309, 33.7263,33.7194,33.7128,33.7021,33.6976 ,33.6911,33.6819,33.665,33.6591,33.657, 33.6504,33.643,33.6341,33.6276,33.6169, 33.6087,33.5992,33.593,33.5857,33.58, 33.5746,33.5683,33.5624,33.553,33.5465, 33.5399,33.5299,33.5257,33.5176,33.5075 ,33.5008,33.4913,33.4852,33.4786,33.472 ,33.4626,33.4569,33.4477,33.4392, 33.228)
ORBIT_NUMBER = 19064
ORBITAL_ECCENTRICITY = 0.577
ORBITAL_INCLINATION = 86.97
ORBITAL_SEMIMAJOR_AXIS = 8768.98
PERIAPSIS_ALTITUDE = 328.5
PERIAPSIS_ARGUMENT_ANGLE = 294.49
PERIAPSIS_TIME = 2019-01-26T17:33:50.000Z
SPACECRAFT_ORIENTATION = (0.0,1.0,0.0)
^MEX_ORIENTATION_DESC = "MEX_ORIENTATION_DESC.TXT"
SPACECRAFT_POINTING_MODE = INERT
^MEX_POINTING_DESC = "MEX_POINTING_DESC.TXT"
RIGHT_ASCENSION = 44.098
DECLINATION = 42.941
OFFSET_ANGLE = -1e+32
SPACECRAFT_SOLAR_DISTANCE = 2.22226e+08
TARGET_NAME = MARS
/* CAMERA DATA ELEMENTS */
DETECTOR_TEMPERATURE = 16.7393
FOCAL_PLANE_TEMPERATURE = 7.9716
INST_CMPRS_NAME = "DISCRETE COSINE TRANSFORMATION (DCT)"
INST_CMPRS_RATIO = 12.7874
INST_CMPRS_QUALITY = 0
INST_CMPRS_QUANTZ_TBL_ID = 0
INSTRUMENT_TEMPERATURE = 10.8262
LENS_TEMPERATURE = 7.9716
MACROPIXEL_SIZE = 2
MISSING_FRAMES = 0
PIXEL_SUBSAMPLING_FLAG = N
SIGNAL_CHAIN_ID = 1
/* RADIOMETRIC DATA ELEMENTS */
BANDWIDTH = 180.0
CENTER_FILTER_WAVELENGTH = 677.0
RADIANCE_OFFSET = 7.39351
RADIANCE_SCALING_FACTOR = 0.011232
REFLECTANCE_SCALING_FACTOR = 0.000289395
MEX:REFLECTANCE_OFFSET = 0.190496
/* IMAGE OBJECT DEFINITIONS */
OBJECT = IMAGE
  INTERCHANGE_FORMAT = BINARY
  LINES = 25342
  LINE_SAMPLES = 4627
  SAMPLE_TYPE = UNSIGNED_INTEGER
  SAMPLE_BITS = 8
  BANDS = 1
  BAND_STORAGE_TYPE = BAND_SEQUENTIAL
  MAXIMUM = 255
  MEAN = 156.847
  MINIMUM = 1
  STANDARD_DEVIATION = 38.4618
END_OBJECT = IMAGE
/* MAP OBJECT DEFINITIONS */
OBJECT = IMAGE_MAP_PROJECTION
  ^DATA_SET_MAP_PROJECTION_CATALOG= "DSMAP.CAT"
  A_AXIS_RADIUS = 3396.0
  B_AXIS_RADIUS = 3396.0
  C_AXIS_RADIUS = 3396.0
  CENTER_LATITUDE = 0.0
  CENTER_LONGITUDE = 33.0
  COORDINATE_SYSTEM_NAME = PLANETOGRAPHIC
  COORDINATE_SYSTEM_TYPE = "BODY-FIXED ROTATING"
  EASTERNMOST_LONGITUDE = 33.75
  FIRST_STANDARD_PARALLEL = "N/A"
  LINE_FIRST_PIXEL = 1
  LINE_LAST_PIXEL = 25342
  LINE_PROJECTION_OFFSET = -82898.75
  MAP_PROJECTION_ROTATION = 0.0
  MAP_PROJECTION_TYPE = SINUSOIDAL
  MAP_RESOLUTION = 2370.85521546667
  MAP_SCALE = 0.025
  MAXIMUM_LATITUDE = -34.93
  MINIMUM_LATITUDE = -45.6094
  POSITIVE_LONGITUDE_DIRECTION = EAST
  REFERENCE_LATITUDE = "N/A"
  REFERENCE_LONGITUDE = "N/A"
  SAMPLE_FIRST_PIXEL = 1
  SAMPLE_LAST_PIXEL = 4627
  SAMPLE_PROJECTION_OFFSET = 2779.75
  SECOND_STANDARD_PARALLEL = "N/A"
  WESTERNMOST_LONGITUDE = 31.1149
END_OBJECT = IMAGE_MAP_PROJECTION
/* The JPEG2000 image data file associated with this label. */
OBJECT = COMPRESSED_FILE
  FILE_NAME = "HJ064_0000_S13.JP2"
  RECORD_TYPE = UNDEFINED
  FILE_RECORDS = UNK
  ENCODING_TYPE = "JP2"
  INTERCHANGE_FORMAT = BINARY
  UNCOMPRESSED_FILE_NAME = "HJ064_0000_S13.IMG"
  REQUIRED_STORAGE_BYTES = "117285196"
  ^DESCRIPTION = "JP2INFO.TXT"
END_OBJECT = COMPRESSED_FILE
END
