PDS_VERSION_ID = PDS3
/* FILE DATA ELEMENTS */
RECORD_TYPE = STREAM
/* POINTERS TO DATA OBJECTS */
^COMPRESSED_FILE = "HJ071_0000_BL3.JP2"
/* IDENTIFICATION DATA ELEMENTS */
DATA_SET_ID = "MEX-M-HRSC-5-REFDR-MAPPROJECTED-V3.0"
DATA_SET_NAME = "MARS EXPRESS HRSC MAP PROJECTED REFDR V3.0"
DETECTOR_ID = MEX_HRSC_BLUE
EVENT_TYPE = "MARS-REGIONAL-MAPPING-Im-Pf-Eo"
INSTRUMENT_HOST_ID = MEX
INSTRUMENT_HOST_NAME = "MARS EXPRESS"
INSTRUMENT_ID = HRSC
INSTRUMENT_NAME = "HIGH RESOLUTION STEREO CAMERA"
MISSION_NAME = "MARS EXPRESS"
MISSION_PHASE_NAME = ME_Phase_40
PROCESSING_LEVEL_ID = 3
PRODUCT_CREATION_TIME = 2019-09-09T10:24:51.000Z
PRODUCT_ID = "HJ071_0000_BL3.JP2"
RELEASE_ID = 0144
REVISION_ID = 0000
/* QUALITY DATA ELEMENTS */
DATA_QUALITY_ID = 1
DATA_QUALITY_DESC = "Data calculated based on original SPICE kernels"
/* TIME DATA ELEMENTS */
SPACECRAFT_CLOCK_START_COUNT = "1/0496780366.23978"
SPACECRAFT_CLOCK_STOP_COUNT = "1/0496780774.61700"
START_TIME = 2019-01-28T18:33:50.022Z
STOP_TIME = 2019-01-28T18:38:43.192Z
/* ORBITAL DATA ELEMENTS */
ASCENDING_NODE_LONGITUDE = 216.48
MAXIMUM_RESOLUTION = 77.1
FOOTPRINT_POINT_LATITUDE = (-40.2932,-40.2564,-40.2171,-39.735, -39.092,-38.4416,-38.1111,-37.7792, -37.4473,-37.1095,-36.7714,-36.4318, -36.0865,-35.7413,-35.2156,-34.8639, -34.5073,-34.1487,-33.7869,-33.4216, -32.8682,-32.4961,-32.1192,-31.7402, -31.356,-30.9702,-30.5783,-30.1859, -29.7863,-29.3842,-28.9777,-28.5663, -28.1524,-27.732,-27.3072,-26.8787, -26.4443,-26.0051,-25.5616,-25.1136, -24.6628,-24.2135,-23.7639,-23.3146, -22.8654,-22.3505,-21.8359,-21.0699, -20.5543,-20.4644,-20.4949,-20.5327, -20.5554,-20.5849,-21.1132,-21.8832, -22.3945,-23.1421,-23.5911,-24.0398, -24.4885,-24.9369,-25.6093,-26.0541, -26.4941,-26.9284,-27.3569,-27.7821, -28.2018,-28.6166,-29.0289,-29.4349, -29.8375,-30.2366,-30.6306,-31.0227, -31.4084,-31.7935,-32.172,-32.7357, -33.1074,-33.4755,-33.8401,-34.2029, -34.5616,-34.9191,-35.2708,-35.6221, -35.9692,-36.314,-36.6579,-36.9966, -37.3356,-37.6711,-38.0009,-38.3332, -38.9868,-39.633,-40.2707,-40.2932)
FOOTPRINT_POINT_LONGITUDE = (37.8863,37.2361,36.594,36.3178,36.3352 ,36.3515,36.3594,36.367,36.3743,36.3814 ,36.3881,36.3947,36.4011,36.4073, 36.4163,36.4218,36.427,36.432,36.4369, 36.4416,36.4484,36.4522,36.4559,36.4595 ,36.4628,36.4659,36.4681,36.4716, 36.4739,36.4757,36.4776,36.4793,36.4808 ,36.482,36.4827,36.4833,36.4837,36.4839 ,36.4839,36.4836,36.4826,36.4816, 36.4804,36.4791,36.4776,36.4748,36.4722 ,36.4687,36.4655,36.8478,37.3384,37.989 ,38.409,38.9904,39.2435,39.2095,39.1894 ,39.1597,39.1418,39.1239,39.1059, 39.0881,39.0613,39.0437,39.0277,39.0096 ,38.9953,38.9797,38.9646,38.9506, 38.9355,38.9204,38.9056,38.8907,38.8748 ,38.8604,38.8516,38.8329,38.8187, 38.7985,38.7847,38.7704,38.7561,38.7429 ,38.7321,38.7174,38.7053,38.6918, 38.6785,38.6658,38.6525,38.6414,38.6304 ,38.6172,38.6009,38.5895,38.5653, 38.5382,38.5144,37.8863)
ORBIT_NUMBER = 19071
ORBITAL_ECCENTRICITY = 0.577
ORBITAL_INCLINATION = 86.97
ORBITAL_SEMIMAJOR_AXIS = 8767.61
PERIAPSIS_ALTITUDE = 328.51
PERIAPSIS_ARGUMENT_ANGLE = 293.3
PERIAPSIS_TIME = 2019-01-28T18:26:42.000Z
SPACECRAFT_ORIENTATION = (0.0,1.0,0.0)
^MEX_ORIENTATION_DESC = "MEX_ORIENTATION_DESC.TXT"
SPACECRAFT_POINTING_MODE = INERT
^MEX_POINTING_DESC = "MEX_POINTING_DESC.TXT"
RIGHT_ASCENSION = 53.206
DECLINATION = 39.802
OFFSET_ANGLE = -1e+32
SPACECRAFT_SOLAR_DISTANCE = 2.22618e+08
TARGET_NAME = MARS
/* CAMERA DATA ELEMENTS */
DETECTOR_TEMPERATURE = 17.5549
FOCAL_PLANE_TEMPERATURE = 7.7677
INST_CMPRS_NAME = "DISCRETE COSINE TRANSFORMATION (DCT)"
INST_CMPRS_RATIO = 15.026
INST_CMPRS_QUALITY = 0
INST_CMPRS_QUANTZ_TBL_ID = 0
INSTRUMENT_TEMPERATURE = 10.0106
LENS_TEMPERATURE = 8.1755
MACROPIXEL_SIZE = 4
MISSING_FRAMES = 0
PIXEL_SUBSAMPLING_FLAG = N
SIGNAL_CHAIN_ID = 2
/* RADIOMETRIC DATA ELEMENTS */
BANDWIDTH = 76.0
CENTER_FILTER_WAVELENGTH = 444.0
RADIANCE_OFFSET = 0.994791
RADIANCE_SCALING_FACTOR = 0.000921529
REFLECTANCE_SCALING_FACTOR = 4.69235e-05
MEX:REFLECTANCE_OFFSET = 0.050654
/* IMAGE OBJECT DEFINITIONS */
OBJECT = IMAGE
  INTERCHANGE_FORMAT = BINARY
  LINES = 11788
  LINE_SAMPLES = 1618
  SAMPLE_TYPE = UNSIGNED_INTEGER
  SAMPLE_BITS = 8
  BANDS = 1
  BAND_STORAGE_TYPE = BAND_SEQUENTIAL
  MAXIMUM = 255
  MEAN = 146.017
  MINIMUM = 1
  STANDARD_DEVIATION = 28.2245
END_OBJECT = IMAGE
/* MAP OBJECT DEFINITIONS */
OBJECT = IMAGE_MAP_PROJECTION
  ^DATA_SET_MAP_PROJECTION_CATALOG= "DSMAP.CAT"
  A_AXIS_RADIUS = 3396.0
  B_AXIS_RADIUS = 3396.0
  C_AXIS_RADIUS = 3396.0
  CENTER_LATITUDE = 0.0
  CENTER_LONGITUDE = 38.0
  COORDINATE_SYSTEM_NAME = PLANETOGRAPHIC
  COORDINATE_SYSTEM_TYPE = "BODY-FIXED ROTATING"
  EASTERNMOST_LONGITUDE = 39.2435
  FIRST_STANDARD_PARALLEL = "N/A"
  LINE_FIRST_PIXEL = 1
  LINE_LAST_PIXEL = 11788
  LINE_PROJECTION_OFFSET = -12117.875
  MAP_PROJECTION_ROTATION = 0.0
  MAP_PROJECTION_TYPE = SINUSOIDAL
  MAP_RESOLUTION = 592.713803866667
  MAP_SCALE = 0.1
  MAXIMUM_LATITUDE = -20.4644
  MINIMUM_LATITUDE = -40.2932
  POSITIVE_LONGITUDE_DIRECTION = EAST
  REFERENCE_LATITUDE = "N/A"
  REFERENCE_LONGITUDE = "N/A"
  SAMPLE_FIRST_PIXEL = 1
  SAMPLE_LAST_PIXEL = 1618
  SAMPLE_PROJECTION_OFFSET = 902.125
  SECOND_STANDARD_PARALLEL = "N/A"
  WESTERNMOST_LONGITUDE = 36.3178
END_OBJECT = IMAGE_MAP_PROJECTION
/* The JPEG2000 image data file associated with this label. */
OBJECT = COMPRESSED_FILE
  FILE_NAME = "HJ071_0000_BL3.JP2"
  RECORD_TYPE = UNDEFINED
  FILE_RECORDS = UNK
  ENCODING_TYPE = "JP2"
  INTERCHANGE_FORMAT = BINARY
  UNCOMPRESSED_FILE_NAME = "HJ071_0000_BL3.IMG"
  REQUIRED_STORAGE_BYTES = "19092400"
  ^DESCRIPTION = "JP2INFO.TXT"
END_OBJECT = COMPRESSED_FILE
END
