PDS_VERSION_ID = PDS3
/* FILE DATA ELEMENTS */
RECORD_TYPE = STREAM
/* POINTERS TO DATA OBJECTS */
^COMPRESSED_FILE = "HJ071_0000_S13.JP2"
/* IDENTIFICATION DATA ELEMENTS */
DATA_SET_ID = "MEX-M-HRSC-5-REFDR-MAPPROJECTED-V3.0"
DATA_SET_NAME = "MARS EXPRESS HRSC MAP PROJECTED REFDR V3.0"
DETECTOR_ID = MEX_HRSC_S1
EVENT_TYPE = "MARS-REGIONAL-MAPPING-Im-Pf-Eo"
INSTRUMENT_HOST_ID = MEX
INSTRUMENT_HOST_NAME = "MARS EXPRESS"
INSTRUMENT_ID = HRSC
INSTRUMENT_NAME = "HIGH RESOLUTION STEREO CAMERA"
MISSION_NAME = "MARS EXPRESS"
MISSION_PHASE_NAME = ME_Phase_40
PROCESSING_LEVEL_ID = 3
PRODUCT_CREATION_TIME = 2019-09-09T10:24:51.000Z
PRODUCT_ID = "HJ071_0000_S13.JP2"
RELEASE_ID = 0144
REVISION_ID = 0000
/* QUALITY DATA ELEMENTS */
DATA_QUALITY_ID = 1
DATA_QUALITY_DESC = "Data calculated based on original SPICE kernels"
/* TIME DATA ELEMENTS */
SPACECRAFT_CLOCK_START_COUNT = "1/0496780366.23978"
SPACECRAFT_CLOCK_STOP_COUNT = "1/0496780774.61700"
START_TIME = 2019-01-28T18:34:47.115Z
STOP_TIME = 2019-01-28T18:40:04.969Z
/* ORBITAL DATA ELEMENTS */
ASCENDING_NODE_LONGITUDE = 216.48
MAXIMUM_RESOLUTION = 47.5
FOOTPRINT_POINT_LATITUDE = (-40.283,-40.2492,-40.2153,-40.1467, -39.985,-39.6616,-39.3365,-39.007, -38.6782,-38.1757,-37.84,-37.4985, -36.9859,-36.6451,-36.2972,-35.9474, -35.5942,-35.2388,-34.6996,-34.3412, -33.9727,-33.6022,-33.0508,-32.6667, -32.0925,-31.7073,-31.1203,-30.5248, -29.9204,-29.5161,-28.9104,-28.5062, -28.1019,-27.698,-27.2614,-26.8006, -26.3433,-25.8854,-25.2025,-24.51, -24.045,-23.3586,-22.9017,-22.4394, -21.7515,-21.2918,-20.8358,-20.3802, -20.4224,-20.4691,-20.5037,-20.5531, -20.591,-20.6354,-21.3323,-21.7871, -22.473,-22.9305,-23.3896,-23.8484, -24.307,-24.7656,-25.2255,-25.6827, -26.1369,-26.5938,-27.0502,-27.5096, -27.9452,-28.3492,-28.752,-29.1565, -29.5602,-29.965,-30.3695,-30.7648, -31.1621,-31.7549,-32.3309,-32.9033, -33.2798,-33.6493,-34.0197,-34.3854, -34.9325,-35.4718,-35.8247,-36.1777, -36.5275,-37.0502,-37.3969,-37.736, -38.0683,-38.4051,-38.7412,-39.0723, -39.3971,-39.7248,-40.0491,-40.283)
FOOTPRINT_POINT_LONGITUDE = (38.2017,37.8027,37.4067,36.6238, 35.9308,35.9394,35.9476,35.9557,35.9634 ,35.9747,35.9819,35.989,35.9987,36.0037 ,36.0097,36.0149,36.0202,36.0249, 36.0317,36.0351,36.0392,36.0431,36.0462 ,36.0501,36.054,36.0559,36.0585,36.0603 ,36.0615,36.0615,36.0608,36.0603, 36.0595,36.0585,36.0568,36.0555,36.0531 ,36.0506,36.0456,36.0402,36.0372, 36.0294,36.0238,36.0195,36.0112,36.0058 ,35.9992,35.9929,36.4476,36.9628, 37.3368,37.8876,38.3252,38.8536,38.9657 ,38.9522,38.9351,38.9234,38.9128, 38.9016,38.8899,38.8779,38.8666,38.8555 ,38.844,38.834,38.8234,38.8142,38.804, 38.7957,38.7862,38.7775,38.768,38.7588, 38.7492,38.7376,38.7289,38.7181,38.7029 ,38.6901,38.6808,38.6707,38.662,38.653, 38.6415,38.6293,38.6194,38.6115,38.6026 ,38.5918,38.5843,38.5757,38.5639, 38.5565,38.5487,38.5403,38.5301,38.5213 ,38.5131,38.2017)
ORBIT_NUMBER = 19071
ORBITAL_ECCENTRICITY = 0.577
ORBITAL_INCLINATION = 86.97
ORBITAL_SEMIMAJOR_AXIS = 8767.61
PERIAPSIS_ALTITUDE = 328.51
PERIAPSIS_ARGUMENT_ANGLE = 293.3
PERIAPSIS_TIME = 2019-01-28T18:26:42.000Z
SPACECRAFT_ORIENTATION = (0.0,1.0,0.0)
^MEX_ORIENTATION_DESC = "MEX_ORIENTATION_DESC.TXT"
SPACECRAFT_POINTING_MODE = INERT
^MEX_POINTING_DESC = "MEX_POINTING_DESC.TXT"
RIGHT_ASCENSION = 53.206
DECLINATION = 39.802
OFFSET_ANGLE = -1e+32
SPACECRAFT_SOLAR_DISTANCE = 2.22618e+08
TARGET_NAME = MARS
/* CAMERA DATA ELEMENTS */
DETECTOR_TEMPERATURE = 16.1276
FOCAL_PLANE_TEMPERATURE = 7.7677
INST_CMPRS_NAME = "DISCRETE COSINE TRANSFORMATION (DCT)"
INST_CMPRS_RATIO = 11.5781
INST_CMPRS_QUALITY = 0
INST_CMPRS_QUANTZ_TBL_ID = 0
INSTRUMENT_TEMPERATURE = 10.0106
LENS_TEMPERATURE = 8.1755
MACROPIXEL_SIZE = 2
MISSING_FRAMES = 0
PIXEL_SUBSAMPLING_FLAG = N
SIGNAL_CHAIN_ID = 1
/* RADIOMETRIC DATA ELEMENTS */
BANDWIDTH = 180.0
CENTER_FILTER_WAVELENGTH = 677.0
RADIANCE_OFFSET = 6.63578
RADIANCE_SCALING_FACTOR = 0.0134451
REFLECTANCE_SCALING_FACTOR = 0.00034764
MEX:REFLECTANCE_OFFSET = 0.171577
/* IMAGE OBJECT DEFINITIONS */
OBJECT = IMAGE
  INTERCHANGE_FORMAT = BINARY
  LINES = 23575
  LINE_SAMPLES = 3236
  SAMPLE_TYPE = UNSIGNED_INTEGER
  SAMPLE_BITS = 8
  BANDS = 1
  BAND_STORAGE_TYPE = BAND_SEQUENTIAL
  MAXIMUM = 255
  MEAN = 122.219
  MINIMUM = 1
  STANDARD_DEVIATION = 37.0627
END_OBJECT = IMAGE
/* MAP OBJECT DEFINITIONS */
OBJECT = IMAGE_MAP_PROJECTION
  ^DATA_SET_MAP_PROJECTION_CATALOG= "DSMAP.CAT"
  A_AXIS_RADIUS = 3396.0
  B_AXIS_RADIUS = 3396.0
  C_AXIS_RADIUS = 3396.0
  CENTER_LATITUDE = 0.0
  CENTER_LONGITUDE = 38.0
  COORDINATE_SYSTEM_NAME = PLANETOGRAPHIC
  COORDINATE_SYSTEM_TYPE = "BODY-FIXED ROTATING"
  EASTERNMOST_LONGITUDE = 38.9657
  FIRST_STANDARD_PARALLEL = "N/A"
  LINE_FIRST_PIXEL = 1
  LINE_LAST_PIXEL = 23575
  LINE_PROJECTION_OFFSET = -24235.25
  MAP_PROJECTION_ROTATION = 0.0
  MAP_PROJECTION_TYPE = SINUSOIDAL
  MAP_RESOLUTION = 1185.42760773333
  MAP_SCALE = 0.05
  MAXIMUM_LATITUDE = -20.3802
  MINIMUM_LATITUDE = -40.283
  POSITIVE_LONGITUDE_DIRECTION = EAST
  REFERENCE_LATITUDE = "N/A"
  REFERENCE_LONGITUDE = "N/A"
  SAMPLE_FIRST_PIXEL = 1
  SAMPLE_LAST_PIXEL = 3236
  SAMPLE_PROJECTION_OFFSET = 1804.75
  SECOND_STANDARD_PARALLEL = "N/A"
  WESTERNMOST_LONGITUDE = 35.9308
END_OBJECT = IMAGE_MAP_PROJECTION
/* The JPEG2000 image data file associated with this label. */
OBJECT = COMPRESSED_FILE
  FILE_NAME = "HJ071_0000_S13.JP2"
  RECORD_TYPE = UNDEFINED
  FILE_RECORDS = UNK
  ENCODING_TYPE = "JP2"
  INTERCHANGE_FORMAT = BINARY
  UNCOMPRESSED_FILE_NAME = "HJ071_0000_S13.IMG"
  REQUIRED_STORAGE_BYTES = "76311352"
  ^DESCRIPTION = "JP2INFO.TXT"
END_OBJECT = COMPRESSED_FILE
END
