PDS_VERSION_ID = PDS3
/* FILE DATA ELEMENTS */
RECORD_TYPE = STREAM
/* POINTERS TO DATA OBJECTS */
^COMPRESSED_FILE = "HJ093_0000_IR3.JP2"
/* IDENTIFICATION DATA ELEMENTS */
DATA_SET_ID = "MEX-M-HRSC-5-REFDR-MAPPROJECTED-V3.0"
DATA_SET_NAME = "MARS EXPRESS HRSC MAP PROJECTED REFDR V3.0"
DETECTOR_ID = MEX_HRSC_IR
EVENT_TYPE = "MARS-REGIONAL-MAPPING-Im-Gl-Pf"
INSTRUMENT_HOST_ID = MEX
INSTRUMENT_HOST_NAME = "MARS EXPRESS"
INSTRUMENT_ID = HRSC
INSTRUMENT_NAME = "HIGH RESOLUTION STEREO CAMERA"
MISSION_NAME = "MARS EXPRESS"
MISSION_PHASE_NAME = ME_Phase_40
PROCESSING_LEVEL_ID = 3
PRODUCT_CREATION_TIME = 2019-09-09T10:24:51.000Z
PRODUCT_ID = "HJ093_0000_IR3.JP2"
RELEASE_ID = 0144
REVISION_ID = 0000
/* QUALITY DATA ELEMENTS */
DATA_QUALITY_ID = 1
DATA_QUALITY_DESC = "Data calculated based on original SPICE kernels"
/* TIME DATA ELEMENTS */
SPACECRAFT_CLOCK_START_COUNT = "1/0497333255.25691"
SPACECRAFT_CLOCK_STOP_COUNT = "1/0497333540.55354"
START_TIME = 2019-02-04T04:09:05.716Z
STOP_TIME = 2019-02-04T04:12:43.383Z
/* ORBITAL DATA ELEMENTS */
ASCENDING_NODE_LONGITUDE = 216.08
MAXIMUM_RESOLUTION = 68.8
FOOTPRINT_POINT_LATITUDE = (-54.3301,-54.2981,-54.2632,-53.9369, -53.4259,-53.1716,-52.9138,-52.6545, -52.3945,-52.1296,-51.8641,-51.5989, -51.2004,-50.9313,-50.5238,-50.1148, -49.8421,-49.5621,-49.1487,-48.8708, -48.5907,-48.3086,-48.0182,-47.7272, -47.4452,-47.1533,-46.8595,-46.5706, -46.274,-45.833,-45.5315,-45.2371, -44.9351,-44.6254,-44.3125,-44.0102, -43.6979,-43.3846,-43.06,-42.7375, -42.4235,-42.101,-41.6007,-41.1062, -40.7741,-40.4348,-40.0987,-39.754, -39.6734,-39.6906,-39.7184,-39.7419, -40.1077,-40.4463,-40.7907,-41.1249, -41.4571,-41.7883,-42.1153,-42.4333, -42.7609,-43.2342,-43.5506,-43.8704, -44.1854,-44.4947,-44.8055,-45.105, -45.4113,-45.7149,-46.0101,-46.3077, -46.5992,-46.8854,-47.182,-47.6245, -47.9082,-48.3383,-48.6242,-48.907, -49.1847,-49.4625,-49.7399,-50.0161, -50.2869,-50.5582,-50.8296,-51.1018, -51.3699,-51.6352,-51.9004,-52.1678, -52.4348,-52.6984,-52.9588,-53.3491, -53.6091,-53.9983,-54.2569,-54.3301)
FOOTPRINT_POINT_LONGITUDE = (309.347,308.641,307.932,307.476, 307.527,307.551,307.576,307.603,307.629 ,307.655,307.68,307.704,307.741,307.764 ,307.799,307.833,307.856,307.879, 307.907,307.927,307.947,307.964,307.988 ,308.013,308.026,308.044,308.065,308.08 ,308.096,308.116,308.133,308.14,308.153 ,308.172,308.189,308.195,308.207, 308.217,308.239,308.252,308.255,308.263 ,308.288,308.298,308.303,308.312, 308.313,308.321,308.814,309.143,309.648 ,310.22,310.676,310.664,310.654,310.642 ,310.629,310.618,310.605,310.59,310.58, 310.558,310.546,310.535,310.523,310.51, 310.497,310.482,310.47,310.456,310.441, 310.427,310.411,310.394,310.382,310.361 ,310.345,310.322,310.307,310.291, 310.275,310.258,310.241,310.224,310.206 ,310.189,310.171,310.153,310.134, 310.116,310.097,310.078,310.059,310.04, 310.02,309.99,309.969,309.937,309.915, 309.347)
ORBIT_NUMBER = 19093
ORBITAL_ECCENTRICITY = 0.577
ORBITAL_INCLINATION = 86.98
ORBITAL_SEMIMAJOR_AXIS = 8760.47
PERIAPSIS_ALTITUDE = 328.66
PERIAPSIS_ARGUMENT_ANGLE = 289.6
PERIAPSIS_TIME = 2019-02-04T04:04:22.000Z
SPACECRAFT_ORIENTATION = (0.0,1.0,0.0)
^MEX_ORIENTATION_DESC = "MEX_ORIENTATION_DESC.TXT"
SPACECRAFT_POINTING_MODE = INERT
^MEX_POINTING_DESC = "MEX_POINTING_DESC.TXT"
RIGHT_ASCENSION = 35.864
DECLINATION = 55.001
OFFSET_ANGLE = -1e+32
SPACECRAFT_SOLAR_DISTANCE = 2.23859e+08
TARGET_NAME = MARS
/* CAMERA DATA ELEMENTS */
DETECTOR_TEMPERATURE = 17.1471
FOCAL_PLANE_TEMPERATURE = 7.7677
INST_CMPRS_NAME = "DISCRETE COSINE TRANSFORMATION (DCT)"
INST_CMPRS_RATIO = 23.864
INST_CMPRS_QUALITY = 0
INST_CMPRS_QUANTZ_TBL_ID = 0
INSTRUMENT_TEMPERATURE = 10.2145
LENS_TEMPERATURE = 8.5833
MACROPIXEL_SIZE = 4
MISSING_FRAMES = 0
PIXEL_SUBSAMPLING_FLAG = N
SIGNAL_CHAIN_ID = 2
/* RADIOMETRIC DATA ELEMENTS */
BANDWIDTH = 81.0
CENTER_FILTER_WAVELENGTH = 955.5
RADIANCE_OFFSET = 1.12083
RADIANCE_SCALING_FACTOR = 0.00432565
REFLECTANCE_SCALING_FACTOR = 0.000467662
MEX:REFLECTANCE_OFFSET = 0.121177
/* IMAGE OBJECT DEFINITIONS */
OBJECT = IMAGE
  INTERCHANGE_FORMAT = BINARY
  LINES = 17492
  LINE_SAMPLES = 2602
  SAMPLE_TYPE = UNSIGNED_INTEGER
  SAMPLE_BITS = 8
  BANDS = 1
  BAND_STORAGE_TYPE = BAND_SEQUENTIAL
  MAXIMUM = 255
  MEAN = 115.136
  MINIMUM = 1
  STANDARD_DEVIATION = 42.7737
END_OBJECT = IMAGE
/* MAP OBJECT DEFINITIONS */
OBJECT = IMAGE_MAP_PROJECTION
  ^DATA_SET_MAP_PROJECTION_CATALOG= "DSMAP.CAT"
  A_AXIS_RADIUS = 3396.0
  B_AXIS_RADIUS = 3396.0
  C_AXIS_RADIUS = 3396.0
  CENTER_LATITUDE = 0.0
  CENTER_LONGITUDE = 309.0
  COORDINATE_SYSTEM_NAME = PLANETOGRAPHIC
  COORDINATE_SYSTEM_TYPE = "BODY-FIXED ROTATING"
  EASTERNMOST_LONGITUDE = 310.676
  FIRST_STANDARD_PARALLEL = "N/A"
  LINE_FIRST_PIXEL = 1
  LINE_LAST_PIXEL = 17492
  LINE_PROJECTION_OFFSET = -47021.125
  MAP_PROJECTION_ROTATION = 0.0
  MAP_PROJECTION_TYPE = SINUSOIDAL
  MAP_RESOLUTION = 1185.42760773333
  MAP_SCALE = 0.05
  MAXIMUM_LATITUDE = -39.6734
  MINIMUM_LATITUDE = -54.3301
  POSITIVE_LONGITUDE_DIRECTION = EAST
  REFERENCE_LATITUDE = "N/A"
  REFERENCE_LONGITUDE = "N/A"
  SAMPLE_FIRST_PIXEL = 1
  SAMPLE_LAST_PIXEL = 2602
  SAMPLE_PROJECTION_OFFSET = 953.625
  SECOND_STANDARD_PARALLEL = "N/A"
  WESTERNMOST_LONGITUDE = 307.476
END_OBJECT = IMAGE_MAP_PROJECTION
/* The JPEG2000 image data file associated with this label. */
OBJECT = COMPRESSED_FILE
  FILE_NAME = "HJ093_0000_IR3.JP2"
  RECORD_TYPE = UNDEFINED
  FILE_RECORDS = UNK
  ENCODING_TYPE = "JP2"
  INTERCHANGE_FORMAT = BINARY
  UNCOMPRESSED_FILE_NAME = "HJ093_0000_IR3.IMG"
  REQUIRED_STORAGE_BYTES = "45535000"
  ^DESCRIPTION = "JP2INFO.TXT"
END_OBJECT = COMPRESSED_FILE
END
