PDS_VERSION_ID = PDS3
/* FILE DATA ELEMENTS */
RECORD_TYPE = STREAM
/* POINTERS TO DATA OBJECTS */
^COMPRESSED_FILE = "HJ461_0000_IR3.JP2"
/* IDENTIFICATION DATA ELEMENTS */
DATA_SET_ID = "MEX-M-HRSC-5-REFDR-MAPPROJECTED-V3.0"
DATA_SET_NAME = "MARS EXPRESS HRSC MAP PROJECTED REFDR V3.0"
DETECTOR_ID = MEX_HRSC_IR
EVENT_TYPE = "MARS-TERMINATOR-CALIBRATION-Tc"
INSTRUMENT_HOST_ID = MEX
INSTRUMENT_HOST_NAME = "MARS EXPRESS"
INSTRUMENT_ID = HRSC
INSTRUMENT_NAME = "HIGH RESOLUTION STEREO CAMERA"
MISSION_NAME = "MARS EXPRESS"
MISSION_PHASE_NAME = ME_Phase_40
PROCESSING_LEVEL_ID = 3
PRODUCT_CREATION_TIME = 2019-09-09T13:37:42.000Z
PRODUCT_ID = "HJ461_0000_IR3.JP2"
RELEASE_ID = 0145
REVISION_ID = 0000
/* QUALITY DATA ELEMENTS */
DATA_QUALITY_ID = 1
DATA_QUALITY_DESC = "Data calculated based on original SPICE kernels"
/* TIME DATA ELEMENTS */
SPACECRAFT_CLOCK_START_COUNT = "1/0506594150.23989"
SPACECRAFT_CLOCK_STOP_COUNT = "1/0506594594.23354"
START_TIME = 2019-05-22T08:36:42.408Z
STOP_TIME = 2019-05-22T08:39:58.379Z
/* ORBITAL DATA ELEMENTS */
ASCENDING_NODE_LONGITUDE = 209.43
MAXIMUM_RESOLUTION = 810.4
FOOTPRINT_POINT_LATITUDE = (-36.2213,-36.508,-37.4258,-37.9973, -38.2463,-38.5348,-38.9828,-40.8097, -36.2647,-32.8359,-30.1461,-24.5176, -20.2678,-17.4683,-13.2602,-9.54007, -5.6368,-0.794158,2.91554,5.7133,9.6594 ,15.0918,21.1144,24.292,28.7294,31.222, 34.4777,37.3852,40.2495,41.7558,43.9213 ,46.2245,48.2501,48.8429,49.2699, 49.2812,49.0629,48.4679,47.1537,44.8933 ,44.7152,45.6736,48.9478,52.3041, 55.5767,58.9456,61.1522,63.4272,65.1687 ,68.3978,67.701,70.9738,69.0886,71.8149 ,70.485,73.3466,76.4427,80.0385,83.0204 ,87.2511,89.9528,87.0228,83.5721, 79.7645,76.6308,72.2957,68.4084,65.1009 ,60.7751,57.4296,52.5582,50.0595, 47.3033,44.19,40.4834,37.2367,32.9397, 29.1928,25.5633,23.0151,18.7537,15.6792 ,12.5092,9.31298,5.86587,2.72474, -0.503835,-3.41152,-7.21048,-11.3154, -15.7987,-18.8142,-22.2854,-25.443, -25.8696,-27.7663,-31.091,-34.4361, -36.2213)
FOOTPRINT_POINT_LONGITUDE = (110.181,114.764,119.049,122.53,126.39, 129.784,134.727,137.731,137.851,138.068 ,138.285,138.894,139.499,139.96,140.736 ,141.533,142.477,143.799,144.95,145.906 ,147.4,149.786,153.029,155.068,158.416, 160.613,163.962,167.523,171.783,174.443 ,179.01,185.447,194.297,198.689,205.141 ,209.209,213.688,219.109,225.977, 233.521,238.875,242.403,246.043,247.522 ,253.441,260.549,265.652,272.13,277.853 ,284.857,291.876,295.55,304.07,305.592, 312.25,311.666,311.077,310.429,309.922, 309.268,333.122,127.172,126.638,126.014 ,125.443,124.614,123.843,123.169, 122.264,121.544,120.462,119.889,119.243 ,118.493,117.566,116.725,115.562, 114.495,113.411,112.618,111.223,110.161 ,109.007,107.785,106.369,104.998, 103.504,102.063,100.019,97.5931,94.606, 92.3518,89.9978,90.5032,93.9153,96.0543 ,101.546,106.441,110.181)
ORBIT_NUMBER = 19461
ORBITAL_ECCENTRICITY = 0.577
ORBITAL_INCLINATION = 86.96
ORBITAL_SEMIMAJOR_AXIS = 8796.53
PERIAPSIS_ALTITUDE = 333.26
PERIAPSIS_ARGUMENT_ANGLE = 227.25
PERIAPSIS_TIME = 2019-05-22T05:51:54.000Z
SPACECRAFT_ORIENTATION = (0.0,-1.0,0.0)
^MEX_ORIENTATION_DESC = "MEX_ORIENTATION_DESC.TXT"
SPACECRAFT_POINTING_MODE = FIXED
^MEX_POINTING_DESC = "MEX_POINTING_DESC.TXT"
RIGHT_ASCENSION = -1e+32
DECLINATION = -1e+32
OFFSET_ANGLE = -1e+32
SPACECRAFT_SOLAR_DISTANCE = 2.42645e+08
TARGET_NAME = MARS
/* CAMERA DATA ELEMENTS */
DETECTOR_TEMPERATURE = 17.351
FOCAL_PLANE_TEMPERATURE = 8.7872
INST_CMPRS_NAME = "DISCRETE COSINE TRANSFORMATION (DCT)"
INST_CMPRS_RATIO = 6.93337
INST_CMPRS_QUALITY = 0
INST_CMPRS_QUANTZ_TBL_ID = 0
INSTRUMENT_TEMPERATURE = 11.6418
LENS_TEMPERATURE = 9.195
MACROPIXEL_SIZE = 2
MISSING_FRAMES = 0
PIXEL_SUBSAMPLING_FLAG = N
SIGNAL_CHAIN_ID = 1
/* RADIOMETRIC DATA ELEMENTS */
BANDWIDTH = 81.0
CENTER_FILTER_WAVELENGTH = 955.5
RADIANCE_OFFSET = 0.0
RADIANCE_SCALING_FACTOR = 0.0125439
REFLECTANCE_SCALING_FACTOR = 0.00159354
MEX:REFLECTANCE_OFFSET = 0.0
/* IMAGE OBJECT DEFINITIONS */
OBJECT = IMAGE
  INTERCHANGE_FORMAT = BINARY
  LINES = 9325
  LINE_SAMPLES = 11343
  SAMPLE_TYPE = UNSIGNED_INTEGER
  SAMPLE_BITS = 8
  BANDS = 1
  BAND_STORAGE_TYPE = BAND_SEQUENTIAL
  MAXIMUM = 255
  MEAN = 146.377
  MINIMUM = 4
  STANDARD_DEVIATION = 40.0882
END_OBJECT = IMAGE
/* MAP OBJECT DEFINITIONS */
OBJECT = IMAGE_MAP_PROJECTION
  ^DATA_SET_MAP_PROJECTION_CATALOG= "DSMAP.CAT"
  A_AXIS_RADIUS = 3396.0
  B_AXIS_RADIUS = 3396.0
  C_AXIS_RADIUS = 3396.0
  CENTER_LATITUDE = 90.0
  CENTER_LONGITUDE = 0.0
  COORDINATE_SYSTEM_NAME = PLANETOGRAPHIC
  COORDINATE_SYSTEM_TYPE = "BODY-FIXED ROTATING"
  EASTERNMOST_LONGITUDE = 360.0
  FIRST_STANDARD_PARALLEL = "N/A"
  LINE_FIRST_PIXEL = 1
  LINE_LAST_PIXEL = 9325
  LINE_PROJECTION_OFFSET = 8408.0
  MAP_PROJECTION_ROTATION = 0.0
  MAP_PROJECTION_TYPE = STEREOGRAPHIC
  MAP_RESOLUTION = 74.08922548333329
  MAP_SCALE = 0.8
  MAXIMUM_LATITUDE = 90.0
  MINIMUM_LATITUDE = -40.8097
  POSITIVE_LONGITUDE_DIRECTION = EAST
  REFERENCE_LATITUDE = "N/A"
  REFERENCE_LONGITUDE = "N/A"
  SAMPLE_FIRST_PIXEL = 1
  SAMPLE_LAST_PIXEL = 11343
  SAMPLE_PROJECTION_OFFSET = 2919.0
  SECOND_STANDARD_PARALLEL = "N/A"
  WESTERNMOST_LONGITUDE = 0.0
END_OBJECT = IMAGE_MAP_PROJECTION
/* The JPEG2000 image data file associated with this label. */
OBJECT = COMPRESSED_FILE
  FILE_NAME = "HJ461_0000_IR3.JP2"
  RECORD_TYPE = UNDEFINED
  FILE_RECORDS = UNK
  ENCODING_TYPE = "JP2"
  INTERCHANGE_FORMAT = BINARY
  UNCOMPRESSED_FILE_NAME = "HJ461_0000_IR3.IMG"
  REQUIRED_STORAGE_BYTES = "105807504"
  ^DESCRIPTION = "JP2INFO.TXT"
END_OBJECT = COMPRESSED_FILE
END
