PDS_VERSION_ID = PDS3
/* FILE DATA ELEMENTS */
RECORD_TYPE = STREAM
/* POINTERS TO DATA OBJECTS */
^COMPRESSED_FILE = "HJ576_0000_ND3.JP2"
/* IDENTIFICATION DATA ELEMENTS */
DATA_SET_ID = "MEX-M-HRSC-5-REFDR-MAPPROJECTED-V3.0"
DATA_SET_NAME = "MARS EXPRESS HRSC MAP PROJECTED REFDR V3.0"
DETECTOR_ID = MEX_HRSC_NADIR
EVENT_TYPE = "MARS-TERMINATOR-CALIBRATION-Tc"
INSTRUMENT_HOST_ID = MEX
INSTRUMENT_HOST_NAME = "MARS EXPRESS"
INSTRUMENT_ID = HRSC
INSTRUMENT_NAME = "HIGH RESOLUTION STEREO CAMERA"
MISSION_NAME = "MARS EXPRESS"
MISSION_PHASE_NAME = ME_Phase_40
PROCESSING_LEVEL_ID = 3
PRODUCT_CREATION_TIME = 2019-09-09T13:37:42.000Z
PRODUCT_ID = "HJ576_0000_ND3.JP2"
RELEASE_ID = 0145
REVISION_ID = 0000
/* QUALITY DATA ELEMENTS */
DATA_QUALITY_ID = 1
DATA_QUALITY_DESC = "Data calculated based on original SPICE kernels"
/* TIME DATA ELEMENTS */
SPACECRAFT_CLOCK_START_COUNT = "1/0509486151.25701"
SPACECRAFT_CLOCK_STOP_COUNT = "1/0509486591.25880"
START_TIME = 2019-06-24T19:58:27.451Z
STOP_TIME = 2019-06-24T20:01:38.448Z
/* ORBITAL DATA ELEMENTS */
ASCENDING_NODE_LONGITUDE = 207.32
MAXIMUM_RESOLUTION = 829.1
FOOTPRINT_POINT_LATITUDE = (-54.1964,-53.154,-52.1683,-49.364, -46.3705,-46.6605,-43.2401,-40.0212, -36.1638,-33.7553,-30.0307,-25.2641, -22.5516,-18.6121,-15.4278,-12.0028, -8.90705,-6.22356,-0.941313,2.51343, 5.6329,10.7075,15.503,18.6033,23.1279, 27.5088,32.6347,37.3209,42.1845,45.5959 ,48.4223,52.5241,55.2324,59.6823, 64.1014,66.1631,68.3845,70.7722,71.8159 ,72.7722,73.1433,75.0185,76.7888, 78.3818,78.9268,79.4559,82.1405,84.3946 ,84.5436,83.2899,80.6473,78.1744, 73.7364,71.1423,66.9938,63.796,62.1583, 59.9695,60.4866,60.4628,59.3784,58.1225 ,55.7047,53.7391,51.624,49.8296,47.0094 ,44.8291,41.2352,38.4549,33.6572, 28.9373,25.1966,22.5599,18.2966,15.1469 ,10.5678,5.02707,-0.852392,-4.36854, -9.55559,-13.0049,-17.2846,-20.19, -25.5404,-31.7797,-35.9194,-38.6307, -41.1309,-44.7707,-48.0907,-52.7309, -51.6603,-54.2658,-55.0737,-55.6454, -54.727,-54.7713,-54.1964)
FOOTPRINT_POINT_LONGITUDE = (284.499,288.844,295.99,301.918,304.468 ,308.838,309.91,307.988,304.669,302.881 ,300.507,297.971,296.74,295.169,294.064 ,293.096,292.193,291.6,290.514,289.968, 289.562,289.058,288.775,288.694,288.742 ,288.976,289.517,290.324,291.563,292.76 ,293.982,296.265,298.23,302.504,308.912 ,313.167,319.344,329.627,337.029, 355.728,8.12965,20.8033,11.7608,28.1885 ,0.0287783,22.7107,29.238,49.3143, 82.804,125.526,141.028,154.21,160.05, 167.78,172.93,175.019,170.268,175.637, 182.742,191.441,202.449,208.868,216.944 ,221.643,225.67,228.514,232.228,234.632 ,237.949,240.065,243.02,245.316,246.802 ,247.699,248.923,249.674,250.569,251.38 ,251.91,252.083,252.141,252.038,251.776 ,251.487,250.703,249.346,248.098, 247.099,246.025,244.145,242.033,244.904 ,249.219,252.124,257.224,262.812, 267.823,277.793,284.499)
ORBIT_NUMBER = 19576
ORBITAL_ECCENTRICITY = 0.578
ORBITAL_INCLINATION = 86.96
ORBITAL_SEMIMAJOR_AXIS = 8829.94
PERIAPSIS_ALTITUDE = 337.34
PERIAPSIS_ARGUMENT_ANGLE = 207.58
PERIAPSIS_TIME = 2019-06-24T16:56:13.000Z
SPACECRAFT_ORIENTATION = (0.0,-1.0,0.0)
^MEX_ORIENTATION_DESC = "MEX_ORIENTATION_DESC.TXT"
SPACECRAFT_POINTING_MODE = FIXED
^MEX_POINTING_DESC = "MEX_POINTING_DESC.TXT"
RIGHT_ASCENSION = -1e+32
DECLINATION = -1e+32
OFFSET_ANGLE = -1e+32
SPACECRAFT_SOLAR_DISTANCE = 2.46386e+08
TARGET_NAME = MARS
/* CAMERA DATA ELEMENTS */
DETECTOR_TEMPERATURE = 18.1666
FOCAL_PLANE_TEMPERATURE = 8.1755
INST_CMPRS_NAME = "DISCRETE COSINE TRANSFORMATION (DCT)"
INST_CMPRS_RATIO = 9.81773
INST_CMPRS_QUALITY = 0
INST_CMPRS_QUANTZ_TBL_ID = 0
INSTRUMENT_TEMPERATURE = 11.0301
LENS_TEMPERATURE = 8.1755
MACROPIXEL_SIZE = 2
MISSING_FRAMES = 0
PIXEL_SUBSAMPLING_FLAG = N
SIGNAL_CHAIN_ID = 0
/* RADIOMETRIC DATA ELEMENTS */
BANDWIDTH = 177.0
CENTER_FILTER_WAVELENGTH = 677.5
RADIANCE_OFFSET = 0.0
RADIANCE_SCALING_FACTOR = 0.0479887
REFLECTANCE_SCALING_FACTOR = 0.00154773
MEX:REFLECTANCE_OFFSET = 0.0
/* IMAGE OBJECT DEFINITIONS */
OBJECT = IMAGE
  INTERCHANGE_FORMAT = BINARY
  LINES = 6021
  LINE_SAMPLES = 8627
  SAMPLE_TYPE = UNSIGNED_INTEGER
  SAMPLE_BITS = 8
  BANDS = 1
  BAND_STORAGE_TYPE = BAND_SEQUENTIAL
  MAXIMUM = 255
  MEAN = 125.366
  MINIMUM = 1
  STANDARD_DEVIATION = 42.0305
END_OBJECT = IMAGE
/* MAP OBJECT DEFINITIONS */
OBJECT = IMAGE_MAP_PROJECTION
  ^DATA_SET_MAP_PROJECTION_CATALOG= "DSMAP.CAT"
  A_AXIS_RADIUS = 3396.0
  B_AXIS_RADIUS = 3396.0
  C_AXIS_RADIUS = 3396.0
  CENTER_LATITUDE = 90.0
  CENTER_LONGITUDE = 0.0
  COORDINATE_SYSTEM_NAME = PLANETOGRAPHIC
  COORDINATE_SYSTEM_TYPE = "BODY-FIXED ROTATING"
  EASTERNMOST_LONGITUDE = 360.0
  FIRST_STANDARD_PARALLEL = "N/A"
  LINE_FIRST_PIXEL = 1
  LINE_LAST_PIXEL = 6021
  LINE_PROJECTION_OFFSET = 2755.0
  MAP_PROJECTION_ROTATION = 0
  MAP_PROJECTION_TYPE = STEREOGRAPHIC
  MAP_RESOLUTION = 74.08922548333329
  MAP_SCALE = 0.8
  MAXIMUM_LATITUDE = 90.0
  MINIMUM_LATITUDE = -55.6454
  POSITIVE_LONGITUDE_DIRECTION = EAST
  REFERENCE_LATITUDE = "N/A"
  REFERENCE_LONGITUDE = "N/A"
  SAMPLE_FIRST_PIXEL = 1
  SAMPLE_LAST_PIXEL = 8627
  SAMPLE_PROJECTION_OFFSET = 8469.0
  SECOND_STANDARD_PARALLEL = "N/A"
  WESTERNMOST_LONGITUDE = 0.0
END_OBJECT = IMAGE_MAP_PROJECTION
/* The JPEG2000 image data file associated with this label. */
OBJECT = COMPRESSED_FILE
  FILE_NAME = "HJ576_0000_ND3.JP2"
  RECORD_TYPE = UNDEFINED
  FILE_RECORDS = UNK
  ENCODING_TYPE = "JP2"
  INTERCHANGE_FORMAT = BINARY
  UNCOMPRESSED_FILE_NAME = "HJ576_0000_ND3.IMG"
  REQUIRED_STORAGE_BYTES = "51977675"
  ^DESCRIPTION = "JP2INFO.TXT"
END_OBJECT = COMPRESSED_FILE
END
