PDS_VERSION_ID = PDS3
/* FILE DATA ELEMENTS */
RECORD_TYPE = STREAM
/* POINTERS TO DATA OBJECTS */
^COMPRESSED_FILE = "HJ592_0000_RE3.JP2"
/* IDENTIFICATION DATA ELEMENTS */
DATA_SET_ID = "MEX-M-HRSC-5-REFDR-MAPPROJECTED-V3.0"
DATA_SET_NAME = "MARS EXPRESS HRSC MAP PROJECTED REFDR V3.0"
DETECTOR_ID = MEX_HRSC_RED
EVENT_TYPE = "MARS-TERMINATOR-CALIBRATION-Tc"
INSTRUMENT_HOST_ID = MEX
INSTRUMENT_HOST_NAME = "MARS EXPRESS"
INSTRUMENT_ID = HRSC
INSTRUMENT_NAME = "HIGH RESOLUTION STEREO CAMERA"
MISSION_NAME = "MARS EXPRESS"
MISSION_PHASE_NAME = ME_Phase_40
PROCESSING_LEVEL_ID = 3
PRODUCT_CREATION_TIME = 2019-09-09T13:37:42.000Z
PRODUCT_ID = "HJ592_0000_RE3.JP2"
RELEASE_ID = 0145
REVISION_ID = 0000
/* QUALITY DATA ELEMENTS */
DATA_QUALITY_ID = 1
DATA_QUALITY_DESC = "Data calculated based on original SPICE kernels"
/* TIME DATA ELEMENTS */
SPACECRAFT_CLOCK_START_COUNT = "1/0509887547.25682"
SPACECRAFT_CLOCK_STOP_COUNT = "1/0509887990.19316"
START_TIME = 2019-06-29T11:30:06.572Z
STOP_TIME = 2019-06-29T11:33:21.525Z
/* ORBITAL DATA ELEMENTS */
ASCENDING_NODE_LONGITUDE = 207.03
MAXIMUM_RESOLUTION = 814.9
FOOTPRINT_POINT_LATITUDE = (-58.9483,-55.3862,-53.4776,-49.323, -47.3756,-43.9209,-41.567,-39.5323, -35.7143,-32.9034,-30.5576,-28.4905, -24.6693,-22.2865,-19.3941,-16.5702, -14.092,-9.94028,-6.48455,-3.82589, 1.09049,5.43567,8.22145,12.6171,17.9652 ,22.3707,25.8535,29.4317,33.2688, 37.3044,41.615,45.8502,48.3652,53.3719, 56.469,59.9165,63.8633,66.1128,68.6267, 73.1916,76.1053,77.8703,79.2584,82.8763 ,85.8151,87.3717,84.1283,81.1941,70.708 ,72.883,67.5392,63.9476,60.0132,56.0426 ,55.8508,55.7869,55.513,54.8355,53.4094 ,51.9932,50.6096,48.9826,46.1085, 43.6927,41.43,38.1883,35.7614,32.5811, 29.9888,26.5618,22.8117,19.9017,17.4567 ,14.0816,10.7159,5.41251,2.05697, -2.17643,-7.93797,-10.4337,-14.6544, -20.9833,-23.9176,-27.5646,-32.1684, -36.2868,-40.0,-42.7029,-45.9013, -50.119,-52.9977,-55.6372,-59.3559, -59.0151,-61.1286,-61.9366,-60.8181, -60.4067,-59.6801,-58.9483)
FOOTPRINT_POINT_LONGITUDE = (464.695,470.011,477.217,481.933, 487.375,487.246,485.613,482.856,478.491 ,475.806,473.831,472.257,469.681, 468.259,466.697,465.317,464.209,462.55, 461.329,460.473,459.086,458.042,457.46, 456.648,455.851,455.356,455.074,454.887 ,454.814,454.895,455.189,455.731, 456.199,457.547,458.742,460.53,463.419, 465.655,468.904,478.381,489.883,503.513 ,518.536,505.139,514.047,406.992, 360.693,353.223,359.966,353.563,355.623 ,359.999,356.125,359.986,355.173, 359.868,364.21,369.993,377.25,382.252, 386.122,389.826,395.146,398.744,401.567 ,405.008,407.193,409.678,411.451, 413.525,415.476,416.805,417.806,419.052 ,420.153,421.628,422.418,423.274, 424.204,424.523,424.962,425.36,425.452, 425.44,425.246,424.91,424.437,423.968, 423.257,421.988,420.863,419.627,417.208 ,424.685,433.104,440.328,448.837, 454.555,459.627,464.695)
ORBIT_NUMBER = 19592
ORBITAL_ECCENTRICITY = 0.578
ORBITAL_INCLINATION = 86.97
ORBITAL_SEMIMAJOR_AXIS = 8831.85
PERIAPSIS_ALTITUDE = 337.77
PERIAPSIS_ARGUMENT_ANGLE = 204.85
PERIAPSIS_TIME = 2019-06-29T08:40:35.000Z
SPACECRAFT_ORIENTATION = (0.0,-1.0,0.0)
^MEX_ORIENTATION_DESC = "MEX_ORIENTATION_DESC.TXT"
SPACECRAFT_POINTING_MODE = FIXED
^MEX_POINTING_DESC = "MEX_POINTING_DESC.TXT"
RIGHT_ASCENSION = -1e+32
DECLINATION = -1e+32
OFFSET_ANGLE = -1e+32
SPACECRAFT_SOLAR_DISTANCE = 2.46791e+08
TARGET_NAME = MARS
/* CAMERA DATA ELEMENTS */
DETECTOR_TEMPERATURE = 18.5744
FOCAL_PLANE_TEMPERATURE = 8.1755
INST_CMPRS_NAME = "DISCRETE COSINE TRANSFORMATION (DCT)"
INST_CMPRS_RATIO = 8.05707
INST_CMPRS_QUALITY = 0
INST_CMPRS_QUANTZ_TBL_ID = 0
INSTRUMENT_TEMPERATURE = 10.8262
LENS_TEMPERATURE = 7.9716
MACROPIXEL_SIZE = 2
MISSING_FRAMES = 0
PIXEL_SUBSAMPLING_FLAG = N
SIGNAL_CHAIN_ID = 1
/* RADIOMETRIC DATA ELEMENTS */
BANDWIDTH = 48.0
CENTER_FILTER_WAVELENGTH = 748.0
RADIANCE_OFFSET = 0.0
RADIANCE_SCALING_FACTOR = 0.00635472
REFLECTANCE_SCALING_FACTOR = 0.000883314
MEX:REFLECTANCE_OFFSET = 0.0
/* IMAGE OBJECT DEFINITIONS */
OBJECT = IMAGE
  INTERCHANGE_FORMAT = BINARY
  LINES = 5800
  LINE_SAMPLES = 8434
  SAMPLE_TYPE = UNSIGNED_INTEGER
  SAMPLE_BITS = 8
  BANDS = 1
  BAND_STORAGE_TYPE = BAND_SEQUENTIAL
  MAXIMUM = 255
  MEAN = 189.378
  MINIMUM = 1
  STANDARD_DEVIATION = 64.1604
END_OBJECT = IMAGE
/* MAP OBJECT DEFINITIONS */
OBJECT = IMAGE_MAP_PROJECTION
  ^DATA_SET_MAP_PROJECTION_CATALOG= "DSMAP.CAT"
  A_AXIS_RADIUS = 3396.0
  B_AXIS_RADIUS = 3396.0
  C_AXIS_RADIUS = 3396.0
  CENTER_LATITUDE = 90.0
  CENTER_LONGITUDE = 0.0
  COORDINATE_SYSTEM_NAME = PLANETOGRAPHIC
  COORDINATE_SYSTEM_TYPE = "BODY-FIXED ROTATING"
  EASTERNMOST_LONGITUDE = 158.536
  FIRST_STANDARD_PARALLEL = "N/A"
  LINE_FIRST_PIXEL = 1
  LINE_LAST_PIXEL = 5800
  LINE_PROJECTION_OFFSET = 1488.0
  MAP_PROJECTION_ROTATION = 0.0
  MAP_PROJECTION_TYPE = STEREOGRAPHIC
  MAP_RESOLUTION = 74.08922548333329
  MAP_SCALE = 0.8
  MAXIMUM_LATITUDE = 87.3717
  MINIMUM_LATITUDE = -61.9366
  POSITIVE_LONGITUDE_DIRECTION = EAST
  REFERENCE_LATITUDE = "N/A"
  REFERENCE_LONGITUDE = "N/A"
  SAMPLE_FIRST_PIXEL = 1
  SAMPLE_LAST_PIXEL = 8434
  SAMPLE_PROJECTION_OFFSET = -40.0
  SECOND_STANDARD_PARALLEL = "N/A"
  WESTERNMOST_LONGITUDE = -6.777
END_OBJECT = IMAGE_MAP_PROJECTION
/* The JPEG2000 image data file associated with this label. */
OBJECT = COMPRESSED_FILE
  FILE_NAME = "HJ592_0000_RE3.JP2"
  RECORD_TYPE = UNDEFINED
  FILE_RECORDS = UNK
  ENCODING_TYPE = "JP2"
  INTERCHANGE_FORMAT = BINARY
  UNCOMPRESSED_FILE_NAME = "HJ592_0000_RE3.IMG"
  REQUIRED_STORAGE_BYTES = "48959370"
  ^DESCRIPTION = "JP2INFO.TXT"
END_OBJECT = COMPRESSED_FILE
END
