PDS_VERSION_ID = PDS3
/* FILE DATA ELEMENTS */
RECORD_TYPE = STREAM
/* POINTERS TO DATA OBJECTS */
^COMPRESSED_FILE = "HJ592_0000_S13.JP2"
/* IDENTIFICATION DATA ELEMENTS */
DATA_SET_ID = "MEX-M-HRSC-5-REFDR-MAPPROJECTED-V3.0"
DATA_SET_NAME = "MARS EXPRESS HRSC MAP PROJECTED REFDR V3.0"
DETECTOR_ID = MEX_HRSC_S1
EVENT_TYPE = "MARS-TERMINATOR-CALIBRATION-Tc"
INSTRUMENT_HOST_ID = MEX
INSTRUMENT_HOST_NAME = "MARS EXPRESS"
INSTRUMENT_ID = HRSC
INSTRUMENT_NAME = "HIGH RESOLUTION STEREO CAMERA"
MISSION_NAME = "MARS EXPRESS"
MISSION_PHASE_NAME = ME_Phase_40
PROCESSING_LEVEL_ID = 3
PRODUCT_CREATION_TIME = 2019-09-09T13:37:42.000Z
PRODUCT_ID = "HJ592_0000_S13.JP2"
RELEASE_ID = 0145
REVISION_ID = 0000
/* QUALITY DATA ELEMENTS */
DATA_QUALITY_ID = 1
DATA_QUALITY_DESC = "Data calculated based on original SPICE kernels"
/* TIME DATA ELEMENTS */
SPACECRAFT_CLOCK_START_COUNT = "1/0509887547.25682"
SPACECRAFT_CLOCK_STOP_COUNT = "1/0509887990.19316"
START_TIME = 2019-06-29T11:26:19.655Z
STOP_TIME = 2019-06-29T11:29:35.601Z
/* ORBITAL DATA ELEMENTS */
ASCENDING_NODE_LONGITUDE = 207.03
MAXIMUM_RESOLUTION = 1619.2
FOOTPRINT_POINT_LATITUDE = (-60.9994,-59.6099,-57.0641,-54.0891, -50.9274,-49.2406,-46.7741,-46.4408, -44.4186,-42.6863,-38.4717,-35.5086, -33.063,-28.9991,-25.5662,-22.5184, -18.7894,-16.2918,-13.9345,-10.3491, -6.98486,-2.83268,1.1178,3.81892, 6.24653,10.5986,14.0517,17.5078,20.9963 ,24.5481,28.2012,31.995,35.9845,40.2416 ,44.8748,47.3801,50.0488,52.9283, 56.0775,59.5953,63.671,68.6689,71.796, 75.8068,78.5463,80.516,80.4872,84.1799, 87.6128,85.7288,85.2616,80.7977,69.7985 ,72.029,67.8476,65.0947,61.7097,58.7715 ,54.8574,54.5686,53.8182,53.0566, 51.5632,50.1172,48.7743,46.4273,43.9347 ,40.1543,38.2332,36.1371,31.4312, 27.4505,22.7607,19.3034,15.91,11.0825, 7.72377,5.18576,1.75443,-2.42975, -6.79007,-10.4268,-14.5422,-20.5174, -23.3212,-26.3906,-31.4657,-34.5868, -38.632,-43.6625,-46.8216,-51.0015, -55.4196,-60.462,-59.3767,-61.3248, -61.2486,-60.6316,-60.2097,-60.9994)
FOOTPRINT_POINT_LONGITUDE = (461.874,467.088,470.221,476.834, 481.197,486.022,485.363,489.033,486.434 ,483.902,478.805,475.876,473.76,470.722 ,468.52,466.786,464.917,463.786,462.798 ,461.433,460.281,459.011,457.945,457.29 ,456.758,455.899,455.3,454.78,454.335, 453.965,453.68,453.486,453.41,453.49, 453.805,454.093,454.51,455.115,456.0, 457.353,459.606,464.011,468.401,477.964 ,490.788,514.454,495.534,496.83,457.775 ,428.907,387.198,363.289,359.966, 355.205,358.498,361.499,361.151,356.747 ,356.939,364.271,370.757,374.966, 380.907,385.245,388.496,393.26,397.298, 402.186,404.26,406.262,410.041,412.671, 415.25,416.864,418.246,419.942,420.951, 421.633,422.453,423.308,424.043,424.527 ,424.958,425.334,425.425,425.429, 425.221,424.97,424.491,423.554,422.736, 421.281,419.193,415.554,424.48,428.391, 434.751,445.443,453.612,461.874)
ORBIT_NUMBER = 19592
ORBITAL_ECCENTRICITY = 0.578
ORBITAL_INCLINATION = 86.97
ORBITAL_SEMIMAJOR_AXIS = 8831.85
PERIAPSIS_ALTITUDE = 337.77
PERIAPSIS_ARGUMENT_ANGLE = 204.85
PERIAPSIS_TIME = 2019-06-29T08:40:35.000Z
SPACECRAFT_ORIENTATION = (0.0,-1.0,0.0)
^MEX_ORIENTATION_DESC = "MEX_ORIENTATION_DESC.TXT"
SPACECRAFT_POINTING_MODE = FIXED
^MEX_POINTING_DESC = "MEX_POINTING_DESC.TXT"
RIGHT_ASCENSION = -1e+32
DECLINATION = -1e+32
OFFSET_ANGLE = -1e+32
SPACECRAFT_SOLAR_DISTANCE = 2.46791e+08
TARGET_NAME = MARS
/* CAMERA DATA ELEMENTS */
DETECTOR_TEMPERATURE = 16.9432
FOCAL_PLANE_TEMPERATURE = 8.1755
INST_CMPRS_NAME = "DISCRETE COSINE TRANSFORMATION (DCT)"
INST_CMPRS_RATIO = 7.80823
INST_CMPRS_QUALITY = 0
INST_CMPRS_QUANTZ_TBL_ID = 0
INSTRUMENT_TEMPERATURE = 10.8262
LENS_TEMPERATURE = 7.9716
MACROPIXEL_SIZE = 4
MISSING_FRAMES = 0
PIXEL_SUBSAMPLING_FLAG = N
SIGNAL_CHAIN_ID = 3
/* RADIOMETRIC DATA ELEMENTS */
BANDWIDTH = 180.0
CENTER_FILTER_WAVELENGTH = 677.0
RADIANCE_OFFSET = 0.0
RADIANCE_SCALING_FACTOR = 0.0201044
REFLECTANCE_SCALING_FACTOR = 0.000638889
MEX:REFLECTANCE_OFFSET = 0.0
/* IMAGE OBJECT DEFINITIONS */
OBJECT = IMAGE
  INTERCHANGE_FORMAT = BINARY
  LINES = 2900
  LINE_SAMPLES = 4217
  SAMPLE_TYPE = UNSIGNED_INTEGER
  SAMPLE_BITS = 8
  BANDS = 1
  BAND_STORAGE_TYPE = BAND_SEQUENTIAL
  MAXIMUM = 255
  MEAN = 206.447
  MINIMUM = 14
  STANDARD_DEVIATION = 55.0671
END_OBJECT = IMAGE
/* MAP OBJECT DEFINITIONS */
OBJECT = IMAGE_MAP_PROJECTION
  ^DATA_SET_MAP_PROJECTION_CATALOG= "DSMAP.CAT"
  A_AXIS_RADIUS = 3396.0
  B_AXIS_RADIUS = 3396.0
  C_AXIS_RADIUS = 3396.0
  CENTER_LATITUDE = 90.0
  CENTER_LONGITUDE = 0.0
  COORDINATE_SYSTEM_NAME = PLANETOGRAPHIC
  COORDINATE_SYSTEM_TYPE = "BODY-FIXED ROTATING"
  EASTERNMOST_LONGITUDE = 154.454
  FIRST_STANDARD_PARALLEL = "N/A"
  LINE_FIRST_PIXEL = 1
  LINE_LAST_PIXEL = 2900
  LINE_PROJECTION_OFFSET = 743.75
  MAP_PROJECTION_ROTATION = 0.0
  MAP_PROJECTION_TYPE = STEREOGRAPHIC
  MAP_RESOLUTION = 37.0446127416667
  MAP_SCALE = 1.6
  MAXIMUM_LATITUDE = 87.61279999999999
  MINIMUM_LATITUDE = -61.3248
  POSITIVE_LONGITUDE_DIRECTION = EAST
  REFERENCE_LATITUDE = "N/A"
  REFERENCE_LONGITUDE = "N/A"
  SAMPLE_FIRST_PIXEL = 1
  SAMPLE_LAST_PIXEL = 4217
  SAMPLE_PROJECTION_OFFSET = -20.25
  SECOND_STANDARD_PARALLEL = "N/A"
  WESTERNMOST_LONGITUDE = -4.795
END_OBJECT = IMAGE_MAP_PROJECTION
/* The JPEG2000 image data file associated with this label. */
OBJECT = COMPRESSED_FILE
  FILE_NAME = "HJ592_0000_S13.JP2"
  RECORD_TYPE = UNDEFINED
  FILE_RECORDS = UNK
  ENCODING_TYPE = "JP2"
  INTERCHANGE_FORMAT = BINARY
  UNCOMPRESSED_FILE_NAME = "HJ592_0000_S13.IMG"
  REQUIRED_STORAGE_BYTES = "12258819"
  ^DESCRIPTION = "JP2INFO.TXT"
END_OBJECT = COMPRESSED_FILE
END
