CCSD3ZF0000100000001NJPL3IF0PDSX00000001
PDS_VERSION_ID = PDS3
DATA_SET_ID = 'MGN-V-RDRS-5-C-BIDR-V1.0'
PRODUCT_ID = 'IM201032;02'
SOURCE_PRODUCT_ID = 'C-BIDR.1031-1035;2'
/* PHYSICAL DESCRIPTION OF THE FILE
RECORD_TYPE = FIXED_LENGTH
RECORD_BYTES = 32500
FILE_RECORDS = 344
/* LOCATION OF OBJECTS WITHIN THE FILE
^IMAGE = 'IM2.DAT'
/* GENERAL PARAMETERS
SPACECRAFT_NAME = 'MAGELLAN'
MISSION_PHASE_NAME = 'PRIMARY MISSION'
INSTRUMENT_NAME = 'RADAR SYSTEM'
TARGET_NAME = 'VENUS'
ORBIT_NUMBER = 1032
START_TIME = 1990-12-13T18:34:12.381
STOP_TIME = 1990-12-13T19:11:00.792
SPACECRAFT_CLOCK_START_COUNT = '00850659.01.2.0'
SPACECRAFT_CLOCK_STOP_COUNT = '00850695.38.8.0'
NOTE = 'SINUSOIDAL_IMAGE_FILE'
DESCRIPTION = "This is the Sinusoidal Image File consisting of a set of logical image data records, each containing multi-look image data in the sinusoidal projection. The image data will include all available data between 89 degrees N and 89 degrees S latitude. For more information, refer to IDPS-101, Compressed Resolution Basic Image Data Record, JPL, MIPL, February 14, 1990, and to SDPS-101, Full Resolution Basic Image Data Record, J. Gilbert, JPL, 1990."
CONFIDENCE_LEVEL_NOTE = "The following errors were noted by the software that generated this PDS label: gap 25 lines between lat -16.2449 and -16.485 gap 94 lines between lat -16.5638 and -16.9537 gap 171 lines between lat -16.9537 and -17.4991 gap 26 lines between lat -19.0927 and -19.3427 gap 151 lines between lat -20.001 and -20.4846 gap 85 lines between lat -21.5008 and -21.8964 gap 6 lines between lat -22.5568 and -22.7855 gap 30 lines between lat -22.7855 and -23.0809 gap 18 lines between lat -23.0809 and -23.3394 gap 24 lines between lat -23.5141 and -23.7939 gap 67 lines between lat -23.7939 and -24.1377 gap 88 lines between lat -24.1973 and -24.6177 gap 30 lines between lat -24.7988 and -25.095 gap 64 lines between lat -25.1823 and -25.558 gap 79 lines between lat -25.7902 and -26.2085 gap 20 lines between lat -26.4727 and -26.7653 gap 872 lines between lat -26.7653 and -28.8872 gap 44 lines between lat -29.128 and -29.5036 gap 39 lines between lat -30.0256 and -30.3928 gap 1195 lines between lat -30.6953 and -33.5345 gap 84 lines between lat -34.5678 and -35.0883 gap 25 lines between lat -35.4825 and -35.878 gap 62 lines between lat -36.4597 and -36.9518 gap 31 lines between lat -37.2458 and -37.6676 gap 273 lines between lat -37.9403 and -38.892 gap 3 lines between lat -39.5183 and -39.9231 gap 97 lines between lat -41.0182 and -41.6247 gap 186 lines between lat -44.03 and -44.863 gap 5 lines between lat -47.3514 and -47.8514"
/* DESCRIPTION OF OBJECTS WITHIN THE FILE
OBJECT = IMAGE
  SFDU_FORMAT_ID = 'NJPL1I000111'
  INTERCHANGE_FORMAT = BINARY
  BYTES = 11180000
  FILE_RECORDS = 4127
  ^STRUCTURE = 'CBIDRIM.FMT'
  COLUMNS = 16
  LINE_SAMPLES = 171
  LINES = 61694
  LINE_PREFIX_BYTES = 4
  SAMPLE_TYPE = MSB_UNSIGNED_INTEGER
  SAMPLE_BITS = 8
  SCALING_FACTOR = 0.2
  OFFSET = -20.2
  MISSING = 0
  DESCRIPTION = "This file consists of varying-length logical data records. Each record contains a 92-byte header, followed by a rectangular pixel array. Each line of the pixel array begins with a pair of 2-byte integers defining the start and end of valid pixels in that line. The 8-bit integer pixel values (DN) are related to the normalized radar cross-section (SIGMA-N) by DN = 1+INT((MIN(MAX(RV,-20),30)+20)*5)."
END_OBJECT = IMAGE
OBJECT = IMAGE_MAP_PROJECTION
  OBJECT = DATA_SET_MAP_PROJECTION
    DATA_SET_ID = 'MGN-V-RDRS-5-C-BIDR-V1.0'
    ^STRUCTURE = 'DSMAPCB.LBL'
  END_OBJECT = DATA_SET_MAP_PROJECTION
  IMAGE_ID = 'IM201032;02'
  MAP_PROJECTION_TYPE = SINUSOIDAL
  MAP_RESOLUTION = 469.1
  MAP_SCALE = 225
  LINE_PROJECTION_OFFSET = 41919
  SAMPLE_PROJECTION_OFFSET = 98
  A_AXIS_RADIUS = 6051.92
  B_AXIS_RADIUS = 6051.92
  C_AXIS_RADIUS = 6051.92
  FIRST_STANDARD_PARALLEL = 0.0
  SECOND_STANDARD_PARALLEL = 'N/A'
  POSITIVE_LONGITUDE_DIRECTION = EAST
  CENTER_LATITUDE = 0.0
  CENTER_LONGITUDE = 101.353
  MAP_PROJECTION_ROTATION = 0.0
  LINE_FIRST_PIXEL = 'N/A'
  LINE_LAST_PIXEL = 'N/A'
  MAXIMUM_LATITUDE = 'N/A'
  MAXIMUM_LONGITUDE = 'N/A'
  MINIMUM_LATITUDE = 'N/A'
  MINIMUM_LONGITUDE = 'N/A'
  REFERENCE_LATITUDE = 'N/A'
  REFERENCE_LONGITUDE = 'N/A'
  SAMPLE_FIRST_PIXEL = 'N/A'
  SAMPLE_LAST_PIXEL = 'N/A'
END_OBJECT = IMAGE_MAP_PROJECTION
END
