CCSD3ZF0000100000001NJPL3IF0PDSX00000001
PDS_VERSION_ID = PDS3
DATA_SET_ID = 'MGN-V-RDRS-5-C-BIDR-V1.0'
PRODUCT_ID = 'IM201038;02'
SOURCE_PRODUCT_ID = 'C-BIDR.1036-1040;2'
/* PHYSICAL DESCRIPTION OF THE FILE
RECORD_TYPE = FIXED_LENGTH
RECORD_BYTES = 32500
FILE_RECORDS = 308
/* LOCATION OF OBJECTS WITHIN THE FILE
^IMAGE = 'IM2.DAT'
/* GENERAL PARAMETERS
SPACECRAFT_NAME = 'MAGELLAN'
MISSION_PHASE_NAME = 'PRIMARY MISSION'
INSTRUMENT_NAME = 'RADAR SYSTEM'
TARGET_NAME = 'VENUS'
ORBIT_NUMBER = 1038
START_TIME = 1990-12-14T14:07:46.155
STOP_TIME = 1990-12-14T14:43:06.418
SPACECRAFT_CLOCK_START_COUNT = '00851819.47.8.0'
SPACECRAFT_CLOCK_STOP_COUNT = '00851855.85.4.0'
NOTE = 'SINUSOIDAL_IMAGE_FILE'
DESCRIPTION = "This is the Sinusoidal Image File consisting of a set of logical image data records, each containing multi-look image data in the sinusoidal projection. The image data will include all available data between 89 degrees N and 89 degrees S latitude. For more information, refer to IDPS-101, Compressed Resolution Basic Image Data Record, JPL, MIPL, February 14, 1990, and to SDPS-101, Full Resolution Basic Image Data Record, J. Gilbert, JPL, 1990."
CONFIDENCE_LEVEL_NOTE = "The following errors were noted by the software that generated this PDS label: gap 4 lines between lat 32.0254 and 31.8486 block 1678 gap 539 lines between lat 25.8151 and 24.5226 block 1880 gap 745 lines between lat -16.1462 and -17.911 block 3784 gap 270 lines between lat -17.911 and -18.6779 block 3785 gap 242 lines between lat -18.6779 and -19.3767 block 3786 gap 19 lines between lat -19.9449 and -20.1494 block 3792 gap 126 lines between lat -20.273 and -20.7033 block 3795 gap 28 lines between lat -20.7033 and -20.9192 block 3796 gap 233 lines between lat -21.7586 and -22.4759 block 3805 gap 210 lines between lat -22.6825 and -23.3451 block 3808 gap 108 lines between lat -23.3451 and -23.7996 block 3809 gap 167 lines between lat -23.7996 and -24.3564 block 3810 gap 1369 lines between lat -24.5013 and -27.6515 block 3812 gap 194 lines between lat -27.6792 and -28.3589 block 3814 gap 266 lines between lat -28.3887 and -29.2281 block 3816 gap 116 lines between lat -29.2281 and -29.7565 block 3817 gap 284 lines between lat -29.7565 and -30.6399 block 3818 gap 484 lines between lat -30.6399 and -31.9608 block 3819 gap 9 lines between lat -32.0503 and -32.3727 block 3821 gap 1042 lines between lat -32.6198 and -35.1565 block 3823 gap 1052 lines between lat -35.6103 and -38.1932 block 3828 gap 274 lines between lat -38.1932 and -39.1448 block 3829 gap 115 lines between lat -39.1448 and -39.7726 block 3830 gap 228 lines between lat -39.7726 and -40.6617 block 3831 gap 112 lines between lat -40.6617 and -41.2952 block 3832 gap 267 lines between lat -41.4187 and -42.3945 block 3834 gap 141 lines between lat -42.6459 and -43.3944 block 3836 gap 412 lines between lat -43.4242 and -44.7437 block 3838 gap 840 lines between lat -45.7791 and -48.0161 block 3844 gap 215 lines between lat -48.0161 and -48.9422 block 3845 gap 254 lines between lat -48.9422 and -49.979 block 3846"
/* DESCRIPTION OF OBJECTS WITHIN THE FILE
OBJECT = IMAGE
  SFDU_FORMAT_ID = 'NJPL1I000111'
  INTERCHANGE_FORMAT = BINARY
  BYTES = 10010000
  FILE_RECORDS = 3847
  ^STRUCTURE = 'CBIDRIM.FMT'
  COLUMNS = 16
  LINE_SAMPLES = 171
  LINES = 55181
  LINE_PREFIX_BYTES = 4
  SAMPLE_TYPE = MSB_UNSIGNED_INTEGER
  SAMPLE_BITS = 8
  SCALING_FACTOR = 0.2
  OFFSET = -20.2
  MISSING = 0
  DESCRIPTION = "This file consists of varying-length logical data records. Each record contains a 92-byte header, followed by a rectangular pixel array. Each line of the pixel array begins with a pair of 2-byte integers defining the start and end of valid pixels in that line. The 8-bit integer pixel values (DN) are related to the normalized radar cross-section (SIGMA-N) by DN = 1+INT((MIN(MAX(RV,-20),30)+20)*5)."
END_OBJECT = IMAGE
OBJECT = IMAGE_MAP_PROJECTION
  OBJECT = DATA_SET_MAP_PROJECTION
    DATA_SET_ID = 'MGN-V-RDRS-5-C-BIDR-V1.0'
    ^STRUCTURE = 'DSMAPCB.LBL'
  END_OBJECT = DATA_SET_MAP_PROJECTION
  IMAGE_ID = 'IM201038;02'
  MAP_PROJECTION_TYPE = SINUSOIDAL
  MAP_RESOLUTION = 469.1
  MAP_SCALE = 225
  LINE_PROJECTION_OFFSET = 41917
  SAMPLE_PROJECTION_OFFSET = 90
  A_AXIS_RADIUS = 6051.92
  B_AXIS_RADIUS = 6051.92
  C_AXIS_RADIUS = 6051.92
  FIRST_STANDARD_PARALLEL = 0.0
  SECOND_STANDARD_PARALLEL = 'N/A'
  POSITIVE_LONGITUDE_DIRECTION = EAST
  CENTER_LATITUDE = 0.0
  CENTER_LONGITUDE = 102.559
  MAP_PROJECTION_ROTATION = 0.0
  LINE_FIRST_PIXEL = 'N/A'
  LINE_LAST_PIXEL = 'N/A'
  MAXIMUM_LATITUDE = 'N/A'
  MAXIMUM_LONGITUDE = 'N/A'
  MINIMUM_LATITUDE = 'N/A'
  MINIMUM_LONGITUDE = 'N/A'
  REFERENCE_LATITUDE = 'N/A'
  REFERENCE_LONGITUDE = 'N/A'
  SAMPLE_FIRST_PIXEL = 'N/A'
  SAMPLE_LAST_PIXEL = 'N/A'
END_OBJECT = IMAGE_MAP_PROJECTION
END
