CCSD3ZF0000100000001NJPL3IF0PDSX00000001
PDS_VERSION_ID = PDS3
DATA_SET_ID = 'MGN-V-RDRS-5-C-BIDR-V1.0'
PRODUCT_ID = 'IM201044;03'
SOURCE_PRODUCT_ID = 'C-BIDR.1041-1045;2'
/* PHYSICAL DESCRIPTION OF THE FILE
RECORD_TYPE = FIXED_LENGTH
RECORD_BYTES = 32500
FILE_RECORDS = 310
/* LOCATION OF OBJECTS WITHIN THE FILE
^IMAGE = 'IM2.DAT'
/* GENERAL PARAMETERS
SPACECRAFT_NAME = 'MAGELLAN'
MISSION_PHASE_NAME = 'PRIMARY MISSION'
INSTRUMENT_NAME = 'RADAR SYSTEM'
TARGET_NAME = 'VENUS'
ORBIT_NUMBER = 1044
START_TIME = 1990-12-15T09:41:01.019
STOP_TIME = 1990-12-15T10:17:49.430
SPACECRAFT_CLOCK_START_COUNT = '00852980.03.3.0'
SPACECRAFT_CLOCK_STOP_COUNT = '00853016.40.9.0'
NOTE = 'SINUSOIDAL_IMAGE_FILE'
DESCRIPTION = "This is the Sinusoidal Image File consisting of a set of logical image data records, each containing multi-look image data in the sinusoidal projection. The image data will include all available data between 89 degrees N and 89 degrees S latitude. For more information, refer to IDPS-101, Compressed Resolution Basic Image Data Record, JPL, MIPL, February 14, 1990, and to SDPS-101, Full Resolution Basic Image Data Record, J. Gilbert, JPL, 1990."
CONFIDENCE_LEVEL_NOTE = "The following errors were noted by the software that generated this PDS label: gap 363 lines between lat -16.1171 and -17.0673 block 3727 gap 154 lines between lat -17.1738 and -17.6894 block 3729 gap 347 lines between lat -17.7704 and -18.7035 block 3731 gap 202 lines between lat -18.7035 and -19.3171 block 3732 gap 353 lines between lat -19.3725 and -20.3284 block 3734 gap 169 lines between lat -20.3284 and -20.8539 block 3735 gap 517 lines between lat -20.8539 and -22.1549 block 3736 gap 5 lines between lat -22.2934 and -22.5327 block 3739 gap 448 lines between lat -22.7372 and -23.9076 block 3742 gap 160 lines between lat -24.029 and -24.5893 block 3744 gap 45 lines between lat -24.5893 and -24.9188 block 3745 gap 125 lines between lat -24.9188 and -25.4188 block 3746 gap 2758 lines between lat -25.5594 and -31.6824 block 3748 gap 885 lines between lat -32.1298 and -34.3356 block 3751 gap 56 lines between lat -34.3356 and -34.7872 block 3752 gap 182 lines between lat -34.7872 and -35.5173 block 3753 gap 68 lines between lat -35.7261 and -36.2189 block 3755 gap 42 lines between lat -36.2189 and -36.6507 block 3756 gap 263 lines between lat -36.9532 and -37.8864 block 3758 gap 80 lines between lat -38.1591 and -38.696 block 3761 gap 31 lines between lat -38.9878 and -39.4402 block 3764 gap 46 lines between lat -39.4402 and -39.9231 block 3765 gap 880 lines between lat -40.9308 and -43.2041 block 3772 gap 428 lines between lat -43.6344 and -44.9851 block 3774 gap 598 lines between lat -44.9851 and -46.7123 block 3775 gap 51 lines between lat -47.0702 and -47.6752 block 3777 gap 384 lines between lat -47.6752 and -48.9706 block 3778 gap 299 lines between lat -48.9706 and -50.104 block 3779"
/* DESCRIPTION OF OBJECTS WITHIN THE FILE
OBJECT = IMAGE
  SFDU_FORMAT_ID = 'NJPL1I000111'
  INTERCHANGE_FORMAT = BINARY
  BYTES = 10075000
  FILE_RECORDS = 3780
  ^STRUCTURE = 'CBIDRIM.FMT'
  COLUMNS = 16
  LINE_SAMPLES = 171
  LINES = 55669
  LINE_PREFIX_BYTES = 4
  SAMPLE_TYPE = MSB_UNSIGNED_INTEGER
  SAMPLE_BITS = 8
  SCALING_FACTOR = 0.2
  OFFSET = -20.2
  MISSING = 0
  DESCRIPTION = "This file consists of varying-length logical data records. Each record contains a 92-byte header, followed by a rectangular pixel array. Each line of the pixel array begins with a pair of 2-byte integers defining the start and end of valid pixels in that line. The 8-bit integer pixel values (DN) are related to the normalized radar cross-section (SIGMA-N) by DN = 1+INT((MIN(MAX(RV,-20),30)+20)*5)."
END_OBJECT = IMAGE
OBJECT = IMAGE_MAP_PROJECTION
  OBJECT = DATA_SET_MAP_PROJECTION
    DATA_SET_ID = 'MGN-V-RDRS-5-C-BIDR-V1.0'
    ^STRUCTURE = 'DSMAPCB.LBL'
  END_OBJECT = DATA_SET_MAP_PROJECTION
  IMAGE_ID = 'IM201044;03'
  MAP_PROJECTION_TYPE = SINUSOIDAL
  MAP_RESOLUTION = 469.1
  MAP_SCALE = 225
  LINE_PROJECTION_OFFSET = 41921
  SAMPLE_PROJECTION_OFFSET = 93
  A_AXIS_RADIUS = 6051.92
  B_AXIS_RADIUS = 6051.92
  C_AXIS_RADIUS = 6051.92
  FIRST_STANDARD_PARALLEL = 0.0
  SECOND_STANDARD_PARALLEL = 'N/A'
  POSITIVE_LONGITUDE_DIRECTION = EAST
  CENTER_LATITUDE = 0.0
  CENTER_LONGITUDE = 103.766
  MAP_PROJECTION_ROTATION = 0.0
  LINE_FIRST_PIXEL = 'N/A'
  LINE_LAST_PIXEL = 'N/A'
  MAXIMUM_LATITUDE = 'N/A'
  MAXIMUM_LONGITUDE = 'N/A'
  MINIMUM_LATITUDE = 'N/A'
  MINIMUM_LONGITUDE = 'N/A'
  REFERENCE_LATITUDE = 'N/A'
  REFERENCE_LONGITUDE = 'N/A'
  SAMPLE_FIRST_PIXEL = 'N/A'
  SAMPLE_LAST_PIXEL = 'N/A'
END_OBJECT = IMAGE_MAP_PROJECTION
END
