CCSD3ZF0000100000001NJPL3IF0PDSX00000001
PDS_VERSION_ID = PDS3
DATA_SET_ID = 'MGN-V-RDRS-5-C-BIDR-V1.0'
PRODUCT_ID = 'IM201048;02'
SOURCE_PRODUCT_ID = 'C-BIDR.1046-1050;2'
/* PHYSICAL DESCRIPTION OF THE FILE
RECORD_TYPE = FIXED_LENGTH
RECORD_BYTES = 32500
FILE_RECORDS = 286
/* LOCATION OF OBJECTS WITHIN THE FILE
^IMAGE = 'IM2.DAT'
/* GENERAL PARAMETERS
SPACECRAFT_NAME = 'MAGELLAN'
MISSION_PHASE_NAME = 'PRIMARY MISSION'
INSTRUMENT_NAME = 'RADAR SYSTEM'
TARGET_NAME = 'VENUS'
ORBIT_NUMBER = 1048
START_TIME = 1990-12-15T22:47:18.877
STOP_TIME = 1990-12-15T23:17:25.877
SPACECRAFT_CLOCK_START_COUNT = '00853757.40.2.0'
SPACECRAFT_CLOCK_STOP_COUNT = '00853787.65.8.0'
NOTE = 'SINUSOIDAL_IMAGE_FILE'
DESCRIPTION = "This is the Sinusoidal Image File consisting of a set of logical image data records, each containing multi-look image data in the sinusoidal projection. The image data will include all available data between 89 degrees N and 89 degrees S latitude. For more information, refer to IDPS-101, Compressed Resolution Basic Image Data Record, JPL, MIPL, February 14, 1990, and to SDPS-101, Full Resolution Basic Image Data Record, J. Gilbert, JPL, 1990."
CONFIDENCE_LEVEL_NOTE = "The following errors were noted by the software that generated this PDS label: gap 564 lines between lat 68.3182 and 66.6749 block 375 gap 16 lines between lat 40.0566 and 39.8194 block 1118 gap 6 lines between lat 39.1611 and 38.9587 block 1133 gap 9 lines between lat 27.2112 and 27.0337 block 1426 gap 357 lines between lat 14.8005 and 13.9156 block 1943 gap 20 lines between lat -18.6765 and -18.8967 block 3424 gap 715 lines between lat -18.8967 and -20.6096 block 3425 gap 73 lines between lat -20.7822 and -21.1237 block 3427 gap 51 lines between lat -21.1237 and -21.4248 block 3428 gap 744 lines between lat -21.4248 and -23.2258 block 3429 gap 90 lines between lat -24.176 and -24.5865 block 3437 gap 2 lines between lat -24.5865 and -24.8223 block 3438 gap 161 lines between lat -24.8223 and -25.3961 block 3439 gap 317 lines between lat -25.3961 and -26.3136 block 3440 gap 36 lines between lat -26.6459 and -26.9698 block 3445 gap 416 lines between lat -27.268 and -28.41 block 3449 gap 19 lines between lat -28.41 and -28.7168 block 3450 gap 496 lines between lat -28.7168 and -30.0348 block 3451 gap 387 lines between lat -30.282 and -31.387 block 3454 gap 872 lines between lat -31.387 and -33.543 block 3455 gap 75 lines between lat -33.543 and -34.0203 block 3456 gap 29 lines between lat -34.0842 and -34.4691 block 3458 gap 77 lines between lat -34.4691 and -34.9662 block 3459 gap 110 lines between lat -34.9662 and -35.5343 block 3460 gap 349 lines between lat -35.5343 and -36.6138 block 3461 gap 32 lines between lat -36.6138 and -37.0399 block 3462 gap 215 lines between lat -37.5512 and -38.3693 block 3465 gap 67 lines between lat -38.3693 and -38.8806 block 3466 gap 35 lines between lat -39.213 and -39.6703 block 3470 gap 49 lines between lat -39.7001 and -40.1958 block 3472 gap 104 lines between lat -40.656 and -41.2667 block 3476"
/* DESCRIPTION OF OBJECTS WITHIN THE FILE
OBJECT = IMAGE
  SFDU_FORMAT_ID = 'NJPL1I000111'
  INTERCHANGE_FORMAT = BINARY
  BYTES = 9295000
  FILE_RECORDS = 3480
  ^STRUCTURE = 'CBIDRIM.FMT'
  COLUMNS = 16
  LINE_SAMPLES = 171
  LINES = 51358
  LINE_PREFIX_BYTES = 4
  SAMPLE_TYPE = MSB_UNSIGNED_INTEGER
  SAMPLE_BITS = 8
  SCALING_FACTOR = 0.2
  OFFSET = -20.2
  MISSING = 0
  DESCRIPTION = "This file consists of varying-length logical data records. Each record contains a 92-byte header, followed by a rectangular pixel array. Each line of the pixel array begins with a pair of 2-byte integers defining the start and end of valid pixels in that line. The 8-bit integer pixel values (DN) are related to the normalized radar cross-section (SIGMA-N) by DN = 1+INT((MIN(MAX(RV,-20),30)+20)*5)."
END_OBJECT = IMAGE
OBJECT = IMAGE_MAP_PROJECTION
  OBJECT = DATA_SET_MAP_PROJECTION
    DATA_SET_ID = 'MGN-V-RDRS-5-C-BIDR-V1.0'
    ^STRUCTURE = 'DSMAPCB.LBL'
  END_OBJECT = DATA_SET_MAP_PROJECTION
  IMAGE_ID = 'IM201048;02'
  MAP_PROJECTION_TYPE = SINUSOIDAL
  MAP_RESOLUTION = 469.1
  MAP_SCALE = 225
  LINE_PROJECTION_OFFSET = 37948
  SAMPLE_PROJECTION_OFFSET = 13
  A_AXIS_RADIUS = 6051.92
  B_AXIS_RADIUS = 6051.92
  C_AXIS_RADIUS = 6051.92
  FIRST_STANDARD_PARALLEL = 0.0
  SECOND_STANDARD_PARALLEL = 'N/A'
  POSITIVE_LONGITUDE_DIRECTION = EAST
  CENTER_LATITUDE = 0.0
  CENTER_LONGITUDE = 104.570
  MAP_PROJECTION_ROTATION = 0.0
  LINE_FIRST_PIXEL = 'N/A'
  LINE_LAST_PIXEL = 'N/A'
  MAXIMUM_LATITUDE = 'N/A'
  MAXIMUM_LONGITUDE = 'N/A'
  MINIMUM_LATITUDE = 'N/A'
  MINIMUM_LONGITUDE = 'N/A'
  REFERENCE_LATITUDE = 'N/A'
  REFERENCE_LONGITUDE = 'N/A'
  SAMPLE_FIRST_PIXEL = 'N/A'
  SAMPLE_LAST_PIXEL = 'N/A'
END_OBJECT = IMAGE_MAP_PROJECTION
END
