CCSD3ZF0000100000001NJPL3IF0PDSX00000001
PDS_VERSION_ID = PDS3
DATA_SET_ID = 'MGN-V-RDRS-5-C-BIDR-V1.0'
PRODUCT_ID = 'IM201056;02'
SOURCE_PRODUCT_ID = 'C-BIDR.1056-1060;2'
/* PHYSICAL DESCRIPTION OF THE FILE
RECORD_TYPE = FIXED_LENGTH
RECORD_BYTES = 32500
FILE_RECORDS = 296
/* LOCATION OF OBJECTS WITHIN THE FILE
^IMAGE = 'IM2.DAT'
/* GENERAL PARAMETERS
SPACECRAFT_NAME = 'MAGELLAN'
MISSION_PHASE_NAME = 'PRIMARY MISSION'
INSTRUMENT_NAME = 'RADAR SYSTEM'
TARGET_NAME = 'VENUS'
ORBIT_NUMBER = 1056
START_TIME = 1990-12-17T00:51:36.108
STOP_TIME = 1990-12-17T01:22:09.780
SPACECRAFT_CLOCK_START_COUNT = '00855304.72.1.0'
SPACECRAFT_CLOCK_STOP_COUNT = '00855335.06.7.0'
NOTE = 'SINUSOIDAL_IMAGE_FILE'
DESCRIPTION = "This is the Sinusoidal Image File consisting of a set of logical image data records, each containing multi-look image data in the sinusoidal projection. The image data will include all available data between 89 degrees N and 89 degrees S latitude. For more information, refer to IDPS-101, Compressed Resolution Basic Image Data Record, JPL, MIPL, February 14, 1990, and to SDPS-101, Full Resolution Basic Image Data Record, J. Gilbert, JPL, 1990."
CONFIDENCE_LEVEL_NOTE = "The following errors were noted by the software that generated this PDS label: gap 227 lines between lat 48.8285 and 48.1028 block 977 gap 538 lines between lat 48.1028 and 46.7137 block 978 gap 96 lines between lat 46.5496 and 46.1086 block 981 gap 60 lines between lat 46.1086 and 45.7479 block 982 gap 35 lines between lat 45.7479 and 45.4411 block 983 gap 11 lines between lat 45.4411 and 45.1968 block 984 gap 160 lines between lat 44.9028 and 44.3332 block 989 gap 188 lines between lat 43.7409 and 43.1288 block 997 gap 145 lines between lat 42.1125 and 41.6005 block 1009 gap 66 lines between lat 41.6005 and 41.2596 block 1010 gap 78 lines between lat 41.2085 and 40.8421 block 1012 gap 93 lines between lat 40.7121 and 40.3165 block 1014 gap 17 lines between lat 40.3165 and 40.0836 block 1015 gap 52 lines between lat 38.8053 and 38.4985 block 1030 gap 33 lines between lat 38.3771 and 38.1264 block 1033 gap 71 lines between lat 36.9376 and 36.6067 block 1046 gap 7 lines between lat 36.4852 and 36.2942 block 1050 gap 20 lines between lat 36.2686 and 36.0414 block 1052 gap 35 lines between lat 34.9719 and 34.7233 block 1070 gap 14 lines between lat 34.5273 and 34.3228 block 1073 gap 121 lines between lat 34.3228 and 33.8995 block 1074 gap 135 lines between lat 33.8527 and 33.3967 block 1076 gap 36 lines between lat 32.5403 and 32.2946 block 1092 gap 36 lines between lat 31.7023 and 31.4679 block 1104 gap 60 lines between lat 31.1867 and 30.9027 block 1110 gap 5 lines between lat 30.3125 and 30.147 block 1119 gap 102 lines between lat 30.0277 and 29.6556 block 1121 gap 40 lines between lat 28.5286 and 28.2864 block 1135 gap 61 lines between lat 28.2864 and 28.0024 block 1136 gap 9 lines between lat 28.0024 and 27.8262 block 1137 gap 41 lines between lat 27.5834 and 27.3433 block 1143 gap 125 lines between lat 26.8554 and 26.4286 block 1151 gap 9 lines between lat 26.2412 and 26.0736 block 1155 gap 59 lines between lat 25.8605 and 25.5878 block 1161 gap 168 lines between lat 25.5878 and 25.0822 block 1162 gap 36 lines between lat 24.2705 and 24.0482 block 1178 gap 4 lines between lat 24.0056 and 23.8493 block 1181 gap 34 lines between lat 23.7812 and 23.571 block 1183 gap 80 lines between lat 23.49 and 23.1789 block 1186 gap 3 lines between lat 23.0937 and 22.9489 block 1188 gap 431 lines between lat -18.6382 and -19.7602 block 3125 gap 21 lines between lat -19.7602 and -20.013 block 3126 gap 33 lines between lat -20.013 and -20.2886 block 3127 gap 26 lines between lat -20.3994 and -20.6692 block 3129 gap 73 lines between lat -20.6969 and -21.0385 block 3131 gap 2 lines between lat -21.6521 and -21.8793 block 3140 gap 74 lines between lat -22.0242 and -22.3992 block 3142 gap 2 lines between lat -23.1704 and -23.3991 block 3154 gap 97 lines between lat -23.6846 and -24.1206 block 3157 gap 29 lines between lat -24.5297 and -24.8223 block 3164 gap 67 lines between lat -25.7171 and -26.1034 block 3173 gap 27 lines between lat -26.3718 and -26.6744 block 3177 gap 63 lines between lat -26.881 and -27.2709 block 3180 gap 60 lines between lat -28.5002 and -28.8986 block 3198 gap 27 lines between lat -29.8829 and -30.2195 block 3211 gap 295 lines between lat -31.5425 and -32.4721 block 3225 gap 35 lines between lat -32.5339 and -32.9124 block 3227 gap 52 lines between lat -32.9124 and -33.33 block 3228 gap 67 lines between lat -34.783 and -35.2474 block 3238 gap 104 lines between lat -35.5031 and -36.0598 block 3241 gap 18 lines between lat -36.7075 and -37.1024 block 3246 gap 243 lines between lat -37.3431 and -38.2187 block 3248"
/* DESCRIPTION OF OBJECTS WITHIN THE FILE
OBJECT = IMAGE
  SFDU_FORMAT_ID = 'NJPL1I000111'
  INTERCHANGE_FORMAT = BINARY
  BYTES = 9620000
  FILE_RECORDS = 3280
  ^STRUCTURE = 'CBIDRIM.FMT'
  COLUMNS = 16
  LINE_SAMPLES = 171
  LINES = 53186
  LINE_PREFIX_BYTES = 4
  SAMPLE_TYPE = MSB_UNSIGNED_INTEGER
  SAMPLE_BITS = 8
  SCALING_FACTOR = 0.2
  OFFSET = -20.2
  MISSING = 0
  DESCRIPTION = "This file consists of varying-length logical data records. Each record contains a 92-byte header, followed by a rectangular pixel array. Each line of the pixel array begins with a pair of 2-byte integers defining the start and end of valid pixels in that line. The 8-bit integer pixel values (DN) are related to the normalized radar cross-section (SIGMA-N) by DN = 1+INT((MIN(MAX(RV,-20),30)+20)*5)."
END_OBJECT = IMAGE
OBJECT = IMAGE_MAP_PROJECTION
  OBJECT = DATA_SET_MAP_PROJECTION
    DATA_SET_ID = 'MGN-V-RDRS-5-C-BIDR-V1.0'
    ^STRUCTURE = 'DSMAPCB.LBL'
  END_OBJECT = DATA_SET_MAP_PROJECTION
  IMAGE_ID = 'IM201056;02'
  MAP_PROJECTION_TYPE = SINUSOIDAL
  MAP_RESOLUTION = 469.1
  MAP_SCALE = 225
  LINE_PROJECTION_OFFSET = 38209
  SAMPLE_PROJECTION_OFFSET = -5
  A_AXIS_RADIUS = 6051.92
  B_AXIS_RADIUS = 6051.92
  C_AXIS_RADIUS = 6051.92
  FIRST_STANDARD_PARALLEL = 0.0
  SECOND_STANDARD_PARALLEL = 'N/A'
  POSITIVE_LONGITUDE_DIRECTION = EAST
  CENTER_LATITUDE = 0.0
  CENTER_LONGITUDE = 106.178
  MAP_PROJECTION_ROTATION = 0.0
  LINE_FIRST_PIXEL = 'N/A'
  LINE_LAST_PIXEL = 'N/A'
  MAXIMUM_LATITUDE = 'N/A'
  MAXIMUM_LONGITUDE = 'N/A'
  MINIMUM_LATITUDE = 'N/A'
  MINIMUM_LONGITUDE = 'N/A'
  REFERENCE_LATITUDE = 'N/A'
  REFERENCE_LONGITUDE = 'N/A'
  SAMPLE_FIRST_PIXEL = 'N/A'
  SAMPLE_LAST_PIXEL = 'N/A'
END_OBJECT = IMAGE_MAP_PROJECTION
END
