CCSD3ZF0000100000001NJPL3IF0PDSX00000001
PDS_VERSION_ID = PDS3
DATA_SET_ID = 'MGN-V-RDRS-5-C-BIDR-V1.0'
PRODUCT_ID = 'IM201058;02'
SOURCE_PRODUCT_ID = 'C-BIDR.1056-1060;2'
/* PHYSICAL DESCRIPTION OF THE FILE
RECORD_TYPE = FIXED_LENGTH
RECORD_BYTES = 32500
FILE_RECORDS = 260
/* LOCATION OF OBJECTS WITHIN THE FILE
^IMAGE = 'IM2.DAT'
/* GENERAL PARAMETERS
SPACECRAFT_NAME = 'MAGELLAN'
MISSION_PHASE_NAME = 'PRIMARY MISSION'
INSTRUMENT_NAME = 'RADAR SYSTEM'
TARGET_NAME = 'VENUS'
ORBIT_NUMBER = 1058
START_TIME = 1990-12-17T07:22:44.234
STOP_TIME = 1990-12-17T07:53:21.044
SPACECRAFT_CLOCK_START_COUNT = '00855691.57.3.0'
SPACECRAFT_CLOCK_STOP_COUNT = '00855721.82.9.0'
NOTE = 'SINUSOIDAL_IMAGE_FILE'
DESCRIPTION = "This is the Sinusoidal Image File consisting of a set of logical image data records, each containing multi-look image data in the sinusoidal projection. The image data will include all available data between 89 degrees N and 89 degrees S latitude. For more information, refer to IDPS-101, Compressed Resolution Basic Image Data Record, JPL, MIPL, February 14, 1990, and to SDPS-101, Full Resolution Basic Image Data Record, J. Gilbert, JPL, 1990."
CONFIDENCE_LEVEL_NOTE = "The following errors were noted by the software that generated this PDS label: gap 162 lines between lat 47.8528 and 47.2648 block 984 gap 6 lines between lat 47.2648 and 47.0205 block 985 gap 4 lines between lat 47.0205 and 46.7733 block 986 gap 108 lines between lat 46.6072 and 46.1399 block 991 gap 20 lines between lat 44.7146 and 44.444 block 1013 gap 112 lines between lat 43.6898 and 43.2396 block 1023 gap 11 lines between lat 43.1863 and 42.947 block 1025 gap 4 lines between lat 42.408 and 42.1942 block 1035 gap 202 lines between lat 40.9244 and 40.2938 block 1048 gap 78 lines between lat 39.3948 and 39.0383 block 1064 gap 11 lines between lat 38.1051 and 37.902 block 1077 gap 10 lines between lat 37.4482 and 37.2458 block 1090 gap 9 lines between lat 36.2722 and 36.0669 block 1105 gap 34 lines between lat 34.2347 and 33.9961 block 1125 gap 24 lines between lat 33.7809 and 33.5672 block 1130 gap 2 lines between lat 33.2093 and 33.0417 block 1135 gap 14 lines between lat 31.9381 and 31.752 block 1153 gap 4 lines between lat 30.9296 and 30.7663 block 1165 gap 16 lines between lat 30.4339 and 30.2436 block 1172 gap 43 lines between lat 29.728 and 29.4681 block 1180 gap 32 lines between lat 29.2508 and 29.0307 block 1184 gap 82 lines between lat 28.5087 and 28.1785 block 1196 gap 29 lines between lat 27.6075 and 27.3916 block 1204 gap 34 lines between lat 26.9911 and 26.761 block 1210 gap 59 lines between lat 26.761 and 26.4911 block 1211 gap 38 lines between lat 25.6304 and 25.4032 block 1225 gap 10 lines between lat 25.0005 and 24.8265 block 1232 gap 14 lines between lat 23.8763 and 23.6988 block 1251 gap 34 lines between lat 23.4921 and 23.2812 block 1256 gap 21 lines between lat 23.1598 and 22.9716 block 1261 gap 66 lines between lat 10.6446 and 10.3762 block 1884 gap 6084 lines between lat -18.6772 and -31.8159 block 3184 gap 1279 lines between lat -31.8159 and -34.5685 block 3185 gap 566 lines between lat -34.5685 and -36.0911 block 3186 gap 496 lines between lat -36.0911 and -37.4915 block 3187 gap 231 lines between lat -37.4915 and -38.3409 block 3188 gap 1386 lines between lat -38.3409 and -41.6616 block 3189"
/* DESCRIPTION OF OBJECTS WITHIN THE FILE
OBJECT = IMAGE
  SFDU_FORMAT_ID = 'NJPL1I000111'
  INTERCHANGE_FORMAT = BINARY
  BYTES = 8450000
  FILE_RECORDS = 3190
  ^STRUCTURE = 'CBIDRIM.FMT'
  COLUMNS = 16
  LINE_SAMPLES = 171
  LINES = 46602
  LINE_PREFIX_BYTES = 4
  SAMPLE_TYPE = MSB_UNSIGNED_INTEGER
  SAMPLE_BITS = 8
  SCALING_FACTOR = 0.2
  OFFSET = -20.2
  MISSING = 0
  DESCRIPTION = "This file consists of varying-length logical data records. Each record contains a 92-byte header, followed by a rectangular pixel array. Each line of the pixel array begins with a pair of 2-byte integers defining the start and end of valid pixels in that line. The 8-bit integer pixel values (DN) are related to the normalized radar cross-section (SIGMA-N) by DN = 1+INT((MIN(MAX(RV,-20),30)+20)*5)."
END_OBJECT = IMAGE
OBJECT = IMAGE_MAP_PROJECTION
  OBJECT = DATA_SET_MAP_PROJECTION
    DATA_SET_ID = 'MGN-V-RDRS-5-C-BIDR-V1.0'
    ^STRUCTURE = 'DSMAPCB.LBL'
  END_OBJECT = DATA_SET_MAP_PROJECTION
  IMAGE_ID = 'IM201058;02'
  MAP_PROJECTION_TYPE = SINUSOIDAL
  MAP_RESOLUTION = 469.1
  MAP_SCALE = 225
  LINE_PROJECTION_OFFSET = 38211
  SAMPLE_PROJECTION_OFFSET = -3
  A_AXIS_RADIUS = 6051.92
  B_AXIS_RADIUS = 6051.92
  C_AXIS_RADIUS = 6051.92
  FIRST_STANDARD_PARALLEL = 0.0
  SECOND_STANDARD_PARALLEL = 'N/A'
  POSITIVE_LONGITUDE_DIRECTION = EAST
  CENTER_LATITUDE = 0.0
  CENTER_LONGITUDE = 106.580
  MAP_PROJECTION_ROTATION = 0.0
  LINE_FIRST_PIXEL = 'N/A'
  LINE_LAST_PIXEL = 'N/A'
  MAXIMUM_LATITUDE = 'N/A'
  MAXIMUM_LONGITUDE = 'N/A'
  MINIMUM_LATITUDE = 'N/A'
  MINIMUM_LONGITUDE = 'N/A'
  REFERENCE_LATITUDE = 'N/A'
  REFERENCE_LONGITUDE = 'N/A'
  SAMPLE_FIRST_PIXEL = 'N/A'
  SAMPLE_LAST_PIXEL = 'N/A'
END_OBJECT = IMAGE_MAP_PROJECTION
END
