CCSD3ZF0000100000001NJPL3IF0PDSX00000001
PDS_VERSION_ID = PDS3
DATA_SET_ID = 'MGN-V-RDRS-5-C-BIDR-V1.0'
PRODUCT_ID = 'IM201681;01'
SOURCE_PRODUCT_ID = 'C-BIDR.1681-1685;1'
/* PHYSICAL DESCRIPTION OF THE FILE
RECORD_TYPE = FIXED_LENGTH
RECORD_BYTES = 32500
FILE_RECORDS = 345
/* LOCATION OF OBJECTS WITHIN THE FILE
^IMAGE = 'IM2.DAT'
/* GENERAL PARAMETERS
SPACECRAFT_NAME = 'MAGELLAN'
MISSION_PHASE_NAME = 'PRIMARY MISSION'
INSTRUMENT_NAME = 'RADAR SYSTEM'
TARGET_NAME = 'VENUS'
ORBIT_NUMBER = 1681
START_TIME = 1991-03-11T22:09:25.714
STOP_TIME = 1991-03-11T22:46:34.811
SPACECRAFT_CLOCK_START_COUNT = '00976199.34.1.0'
SPACECRAFT_CLOCK_STOP_COUNT = '00976236.10.7.0'
NOTE = 'SINUSOIDAL_IMAGE_FILE'
DESCRIPTION = "This is the Sinusoidal Image File consisting of a set of logical image data records, each containing multi-look image data in the sinusoidal projection. The image data will include all available data between 89 degrees N and 89 degrees S latitude. For more information, refer to IDPS-101, Compressed Resolution Basic Image Data Record, JPL, MIPL, February 14, 1990, and to SDPS-101, Full Resolution Basic Image Data Record, J. Gilbert, JPL, 1990."
CONFIDENCE_LEVEL_NOTE = "The following errors were noted by the software that generated this PDS label: gap 4 lines between lat 47.97 and 47.7249 block 175 gap 9 lines between lat 38.9559 and 38.757 block 363 gap 17 lines between lat 36.7416 and 36.5215 block 404 gap 39 lines between lat 25.1361 and 24.9146 block 721 gap 42 lines between lat 24.1341 and 23.9033 block 737 gap 10 lines between lat 22.8018 and 22.6335 block 755 gap 10 lines between lat 22.5526 and 22.3864 block 758 gap 28 lines between lat 22.2841 and 22.0768 block 762 gap 77 lines between lat 22.0171 and 21.7217 block 765 gap 42 lines between lat 21.7217 and 21.5001 block 766 gap 22 lines between lat 21.3872 and 21.2047 block 769 gap 13 lines between lat 20.2502 and 20.0912 block 786 gap 2 lines between lat 19.501 and 19.3611 block 798 gap 96 lines between lat 19.2589 and 18.9123 block 801 gap 15 lines between lat 18.8058 and 18.651 block 806 gap 33 lines between lat 18.4592 and 18.2646 block 810 gap 70 lines between lat 18.2646 and 17.9948 block 811 gap 136 lines between lat 15.9197 and 15.5035 block 855 gap 60 lines between lat 15.5035 and 15.2479 block 856 gap 20 lines between lat 14.7451 and 14.5718 block 868 gap 11 lines between lat 13.5137 and 13.3588 block 889 gap 7 lines between lat 12.3064 and 12.1771 block 913 gap 7 lines between lat 12.0131 and 11.8845 block 921 gap 6 lines between lat 9.74554 and 9.61771 block 984 gap 2 lines between lat 3.52453 and 3.38818 block 1139 gap 45 lines between lat 0.769814 and 0.52765 block 1211 gap 80 lines between lat -25.085 and -25.4926 block 1836"
/* DESCRIPTION OF OBJECTS WITHIN THE FILE
OBJECT = IMAGE
  SFDU_FORMAT_ID = 'NJPL1I000111'
  INTERCHANGE_FORMAT = BINARY
  BYTES = 11212500
  FILE_RECORDS = 3478
  ^STRUCTURE = 'CBIDRIM.FMT'
  COLUMNS = 16
  LINE_SAMPLES = 171
  LINES = 62271
  LINE_PREFIX_BYTES = 4
  SAMPLE_TYPE = MSB_UNSIGNED_INTEGER
  SAMPLE_BITS = 8
  SCALING_FACTOR = 0.2
  OFFSET = -20.2
  MISSING = 0
  DESCRIPTION = "This file consists of varying-length logical data records. Each record contains a 92-byte header, followed by a rectangular pixel array. Each line of the pixel array begins with a pair of 2-byte integers defining the start and end of valid pixels in that line. The 8-bit integer pixel values (DN) are related to the normalized radar cross-section (SIGMA-N) by DN = 1+INT((MIN(MAX(RV,-20),30)+20)*5)."
END_OBJECT = IMAGE
OBJECT = IMAGE_MAP_PROJECTION
  OBJECT = DATA_SET_MAP_PROJECTION
    DATA_SET_ID = 'MGN-V-RDRS-5-C-BIDR-V1.0'
    ^STRUCTURE = 'DSMAPCB.LBL'
  END_OBJECT = DATA_SET_MAP_PROJECTION
  IMAGE_ID = 'IM201681;01'
  MAP_PROJECTION_TYPE = SINUSOIDAL
  MAP_RESOLUTION = 469.1
  MAP_SCALE = 225
  LINE_PROJECTION_OFFSET = 25869
  SAMPLE_PROJECTION_OFFSET = -91
  A_AXIS_RADIUS = 6051.92
  B_AXIS_RADIUS = 6051.92
  C_AXIS_RADIUS = 6051.92
  FIRST_STANDARD_PARALLEL = 0.0
  SECOND_STANDARD_PARALLEL = 'N/A'
  POSITIVE_LONGITUDE_DIRECTION = EAST
  CENTER_LATITUDE = 0.0
  CENTER_LONGITUDE = 231.831
  MAP_PROJECTION_ROTATION = 0.0
  LINE_FIRST_PIXEL = 'N/A'
  LINE_LAST_PIXEL = 'N/A'
  MAXIMUM_LATITUDE = 'N/A'
  MAXIMUM_LONGITUDE = 'N/A'
  MINIMUM_LATITUDE = 'N/A'
  MINIMUM_LONGITUDE = 'N/A'
  REFERENCE_LATITUDE = 'N/A'
  REFERENCE_LONGITUDE = 'N/A'
  SAMPLE_FIRST_PIXEL = 'N/A'
  SAMPLE_LAST_PIXEL = 'N/A'
END_OBJECT = IMAGE_MAP_PROJECTION
END
