CCSD3ZF0000100000001NJPL3IF0PDSX00000001
PDS_VERSION_ID = PDS3
DATA_SET_ID = 'MGN-V-RDRS-5-C-BIDR-V1.0'
PRODUCT_ID = 'IM201691;01'
SOURCE_PRODUCT_ID = 'C-BIDR.1691-1695;1'
/* PHYSICAL DESCRIPTION OF THE FILE
RECORD_TYPE = FIXED_LENGTH
RECORD_BYTES = 32500
FILE_RECORDS = 269
/* LOCATION OF OBJECTS WITHIN THE FILE
^IMAGE = 'IM2.DAT'
/* GENERAL PARAMETERS
SPACECRAFT_NAME = 'MAGELLAN'
MISSION_PHASE_NAME = 'PRIMARY MISSION'
INSTRUMENT_NAME = 'RADAR SYSTEM'
TARGET_NAME = 'VENUS'
ORBIT_NUMBER = 1691
START_TIME = 1991-03-13T06:45:14.748
STOP_TIME = 1991-03-13T07:22:15.653
SPACECRAFT_CLOCK_START_COUNT = '00978133.51.4.0'
SPACECRAFT_CLOCK_STOP_COUNT = '00978170.28.0.0'
NOTE = 'SINUSOIDAL_IMAGE_FILE'
DESCRIPTION = "This is the Sinusoidal Image File consisting of a set of logical image data records, each containing multi-look image data in the sinusoidal projection. The image data will include all available data between 89 degrees N and 89 degrees S latitude. For more information, refer to IDPS-101, Compressed Resolution Basic Image Data Record, JPL, MIPL, February 14, 1990, and to SDPS-101, Full Resolution Basic Image Data Record, J. Gilbert, JPL, 1990."
CONFIDENCE_LEVEL_NOTE = "The following errors were noted by the software that generated this PDS label: gap 85 lines between lat 53.8863 and 53.4233 block 10 gap 111 lines between lat 52.8992 and 52.3751 block 16 gap 22 lines between lat 51.2566 and 50.9377 block 28 gap 42 lines between lat 48.0893 and 47.7647 block 60 gap 94 lines between lat 47.7115 and 47.2733 block 63 gap 18 lines between lat 47.22 and 46.9438 block 66 gap 105 lines between lat 46.833 and 46.37 block 68 gap 21 lines between lat 45.9183 and 45.6484 block 75 gap 86 lines between lat 41.2746 and 40.896 block 149 gap 15 lines between lat 40.896 and 40.6716 block 150 gap 765 lines between lat 40.6205 and 38.794 block 152 gap 850 lines between lat 38.794 and 36.7998 block 153 gap 155 lines between lat 36.7998 and 36.2885 block 154 gap 411 lines between lat 36.2885 and 35.2318 block 155 gap 758 lines between lat 35.1849 and 33.4024 block 157 gap 327 lines between lat 33.4024 and 32.5389 block 158 gap 478 lines between lat 32.5389 and 31.3657 block 159 gap 230 lines between lat 31.3657 and 30.7209 block 160 gap 307 lines between lat 30.6527 and 29.8488 block 162 gap 400 lines between lat 29.8488 and 28.8432 block 163 gap 469 lines between lat 28.8432 and 27.6814 block 164 gap 290 lines between lat 27.6814 and 26.9201 block 165 gap 982 lines between lat 26.9201 and 24.6788 block 166 gap 216 lines between lat 24.6788 and 24.0794 block 167 gap 334 lines between lat 24.0794 and 23.2272 block 168 gap 868 lines between lat 23.2272 and 21.2331 block 169 gap 71 lines between lat 21.2331 and 20.9519 block 170 gap 204 lines between lat 20.9519 and 20.3809 block 171 gap 109 lines between lat 20.3809 and 20.0173 block 172 gap 353 lines between lat 20.0173 and 19.1253 block 173 gap 109 lines between lat 19.1253 and 18.7561 block 174 gap 1640 lines between lat 18.7177 and 15.1002 block 176 gap 228 lines between lat 14.8488 and 14.2338 block 182 gap 38 lines between lat 14.1784 and 13.9639 block 184 gap 636 lines between lat 13.9639 and 12.4782 block 185 gap 85 lines between lat 12.1864 and 11.8931 block 192 gap 50 lines between lat 11.8931 and 11.6743 block 193 gap 15 lines between lat 11.6743 and 11.5295 block 194 gap 58 lines between lat 11.2291 and 10.9699 block 200 gap 220 lines between lat 10.9699 and 10.3875 block 201 gap 4 lines between lat 10.3875 and 10.2625 block 202 gap 236 lines between lat 10.2625 and 9.64612 block 203 gap 158 lines between lat 9.6099 and 9.15469 block 205 gap 40 lines between lat 8.86494 and 8.66609 block 211 gap 119 lines between lat 8.55105 and 8.16046 block 213 gap 26 lines between lat 7.79402 and 7.60085 block 218 gap 62 lines between lat 7.21737 and 6.9475 block 224 gap 8 lines between lat 6.9475 and 6.79411 block 225 gap 38 lines between lat 6.71741 and 6.50152 block 228 gap 119 lines between lat 5.78355 and 5.39367 block 240 gap 74 lines between lat 5.39367 and 5.09825 block 241 gap 21 lines between lat 4.80637 and 4.6267 block 248 gap 29 lines between lat 4.33269 and 4.13527 block 253 gap 58 lines between lat 3.76882 and 3.51317 block 259 gap 114 lines between lat 3.51317 and 3.1382 block 260 gap 4 lines between lat 3.09985 and 2.95924 block 262 gap 3 lines between lat 2.94007 and 2.80016 block 264 gap 5 lines between lat 2.80016 and 2.65813 block 265 gap 135 lines between lat 1.72711 and 1.30883 block 280 gap 11 lines between lat 1.02547 and 0.868527 block 284 gap 9 lines between lat 0.670392 and 0.516287 block 288 gap 20 lines between lat 0.362892 and 0.189613 block 292 gap 9 lines between lat -0.696668 and -0.864266 block 304 gap 102 lines between lat -2.36839 and -2.73057 block 330 gap 76 lines between lat -3.61685 and -3.91796 block 346 gap 26 lines between lat -4.52302 and -4.73606 block 357 gap 59 lines between lat -13.2637 and -13.5676 block 524 gap 15 lines between lat -14.9823 and -15.1953 block 554 gap 84 lines between lat -16.3926 and -16.7491 block 576 gap 66 lines between lat -25.1305 and -25.5125 block 745 gap 26 lines between lat -26.2156 and -26.5153 block 756 gap 324 lines between lat -57.6906 and -58.8759 block 1671"
/* DESCRIPTION OF OBJECTS WITHIN THE FILE
OBJECT = IMAGE
  SFDU_FORMAT_ID = 'NJPL1I000111'
  INTERCHANGE_FORMAT = BINARY
  BYTES = 8742500
  FILE_RECORDS = 2272
  ^STRUCTURE = 'CBIDRIM.FMT'
  COLUMNS = 16
  LINE_SAMPLES = 171
  LINES = 48696
  LINE_PREFIX_BYTES = 4
  SAMPLE_TYPE = MSB_UNSIGNED_INTEGER
  SAMPLE_BITS = 8
  SCALING_FACTOR = 0.2
  OFFSET = -20.2
  MISSING = 0
  DESCRIPTION = "This file consists of varying-length logical data records. Each record contains a 92-byte header, followed by a rectangular pixel array. Each line of the pixel array begins with a pair of 2-byte integers defining the start and end of valid pixels in that line. The 8-bit integer pixel values (DN) are related to the normalized radar cross-section (SIGMA-N) by DN = 1+INT((MIN(MAX(RV,-20),30)+20)*5)."
END_OBJECT = IMAGE
OBJECT = IMAGE_MAP_PROJECTION
  OBJECT = DATA_SET_MAP_PROJECTION
    DATA_SET_ID = 'MGN-V-RDRS-5-C-BIDR-V1.0'
    ^STRUCTURE = 'DSMAPCB.LBL'
  END_OBJECT = DATA_SET_MAP_PROJECTION
  IMAGE_ID = 'IM201691;01'
  MAP_PROJECTION_TYPE = SINUSOIDAL
  MAP_RESOLUTION = 469.1
  MAP_SCALE = 225
  LINE_PROJECTION_OFFSET = 25724
  SAMPLE_PROJECTION_OFFSET = -99
  A_AXIS_RADIUS = 6051.92
  B_AXIS_RADIUS = 6051.92
  C_AXIS_RADIUS = 6051.92
  FIRST_STANDARD_PARALLEL = 0.0
  SECOND_STANDARD_PARALLEL = 'N/A'
  POSITIVE_LONGITUDE_DIRECTION = EAST
  CENTER_LATITUDE = 0.0
  CENTER_LONGITUDE = 233.841
  MAP_PROJECTION_ROTATION = 0.0
  LINE_FIRST_PIXEL = 'N/A'
  LINE_LAST_PIXEL = 'N/A'
  MAXIMUM_LATITUDE = 'N/A'
  MAXIMUM_LONGITUDE = 'N/A'
  MINIMUM_LATITUDE = 'N/A'
  MINIMUM_LONGITUDE = 'N/A'
  REFERENCE_LATITUDE = 'N/A'
  REFERENCE_LONGITUDE = 'N/A'
  SAMPLE_FIRST_PIXEL = 'N/A'
  SAMPLE_LAST_PIXEL = 'N/A'
END_OBJECT = IMAGE_MAP_PROJECTION
END
