CCSD3ZF0000100000001NJPL3IF0PDSX00000001
PDS_VERSION_ID = PDS3
DATA_SET_ID = 'MGN-V-RDRS-5-C-BIDR-V1.0'
PRODUCT_ID = 'IM202722;02'
SOURCE_PRODUCT_ID = 'C-BIDR.2721-2725;4'
/* PHYSICAL DESCRIPTION OF THE FILE
RECORD_TYPE = FIXED_LENGTH
RECORD_BYTES = 32500
FILE_RECORDS = 378
/* LOCATION OF OBJECTS WITHIN THE FILE
^IMAGE = 'IM2.DAT'
/* GENERAL PARAMETERS
SPACECRAFT_NAME = 'MAGELLAN'
MISSION_PHASE_NAME = 'PRIMARY MISSION'
INSTRUMENT_NAME = 'RADAR SYSTEM'
TARGET_NAME = 'VENUS'
ORBIT_NUMBER = 2722
START_TIME = 1991-07-31T07:05:19.676
STOP_TIME = 1991-07-31T07:42:31.318
SPACECRAFT_CLOCK_START_COUNT = '01177538.26.8.0'
SPACECRAFT_CLOCK_STOP_COUNT = '01177575.03.4.0'
NOTE = 'SINUSOIDAL_IMAGE_FILE'
DESCRIPTION = "This is the Sinusoidal Image File consisting of a set of logical image data records, each containing multi-look image data in the sinusoidal projection. The image data will include all available data between 89 degrees N and 89 degrees S latitude. For more information, refer to IDPS-101, Compressed Resolution Basic Image Data Record, JPL, MIPL, February 14, 1990, and to SDPS-101, Full Resolution Basic Image Data Record, J. Gilbert, JPL, 1990."
CONFIDENCE_LEVEL_NOTE = "The following errors were noted by the software that generated this PDS label: gap 68 lines between lat 44.9979 and 44.5718 block 1055 gap 158 lines between lat 3.83487 and 3.42795 block 4161 gap 31 lines between lat -35.8709 and -36.2331 block 6525 warning: 0+32 zero-valued pixels"
/* DESCRIPTION OF OBJECTS WITHIN THE FILE
OBJECT = IMAGE
  SFDU_FORMAT_ID = 'NJPL1I000111'
  INTERCHANGE_FORMAT = BINARY
  BYTES = 12285000
  FILE_RECORDS = 7425
  ^STRUCTURE = 'CBIDRIM.FMT'
  COLUMNS = 16
  LINE_SAMPLES = 171
  LINES = 66397
  LINE_PREFIX_BYTES = 4
  SAMPLE_TYPE = MSB_UNSIGNED_INTEGER
  SAMPLE_BITS = 8
  SCALING_FACTOR = 0.2
  OFFSET = -20.2
  MISSING = 0
  DESCRIPTION = "This file consists of varying-length logical data records. Each record contains a 92-byte header, followed by a rectangular pixel array. Each line of the pixel array begins with a pair of 2-byte integers defining the start and end of valid pixels in that line. The 8-bit integer pixel values (DN) are related to the normalized radar cross-section (SIGMA-N) by DN = 1+INT((MIN(MAX(RV,-20),30)+20)*5)."
END_OBJECT = IMAGE
OBJECT = IMAGE_MAP_PROJECTION
  OBJECT = DATA_SET_MAP_PROJECTION
    DATA_SET_ID = 'MGN-V-RDRS-5-C-BIDR-V1.0'
    ^STRUCTURE = 'DSMAPCB.LBL'
  END_OBJECT = DATA_SET_MAP_PROJECTION
  IMAGE_ID = 'IM202722;02'
  MAP_PROJECTION_TYPE = SINUSOIDAL
  MAP_RESOLUTION = 469.1
  MAP_SCALE = 225
  LINE_PROJECTION_OFFSET = 35239
  SAMPLE_PROJECTION_OFFSET = 5162
  A_AXIS_RADIUS = 6051.92
  B_AXIS_RADIUS = 6051.92
  C_AXIS_RADIUS = 6051.92
  FIRST_STANDARD_PARALLEL = 0.0
  SECOND_STANDARD_PARALLEL = 'N/A'
  POSITIVE_LONGITUDE_DIRECTION = EAST
  CENTER_LATITUDE = 0.0
  CENTER_LONGITUDE = 81.325
  MAP_PROJECTION_ROTATION = 0.0
  LINE_FIRST_PIXEL = 'N/A'
  LINE_LAST_PIXEL = 'N/A'
  MAXIMUM_LATITUDE = 'N/A'
  MAXIMUM_LONGITUDE = 'N/A'
  MINIMUM_LATITUDE = 'N/A'
  MINIMUM_LONGITUDE = 'N/A'
  REFERENCE_LATITUDE = 'N/A'
  REFERENCE_LONGITUDE = 'N/A'
  SAMPLE_FIRST_PIXEL = 'N/A'
  SAMPLE_LAST_PIXEL = 'N/A'
END_OBJECT = IMAGE_MAP_PROJECTION
END
