CCSD3ZF0000100000001NJPL3IF0PDSX00000001
PDS_VERSION_ID = PDS3
DATA_SET_ID = 'MGN-V-RDRS-5-C-BIDR-V1.0'
PRODUCT_ID = 'IM204032;02'
SOURCE_PRODUCT_ID = 'C-BIDR.4031-4035;3'
/* PHYSICAL DESCRIPTION OF THE FILE
RECORD_TYPE = FIXED_LENGTH
RECORD_BYTES = 32500
FILE_RECORDS = 67
/* LOCATION OF OBJECTS WITHIN THE FILE
^IMAGE = 'IM2.DAT'
/* GENERAL PARAMETERS
SPACECRAFT_NAME = 'MAGELLAN'
MISSION_PHASE_NAME = 'PRIMARY MISSION'
INSTRUMENT_NAME = 'RADAR SYSTEM'
TARGET_NAME = 'VENUS'
ORBIT_NUMBER = 4032
START_TIME = 1992-01-25T04:40:45.781
STOP_TIME = 1992-01-25T04:54:58.793
SPACECRAFT_CLOCK_START_COUNT = '01430898.68.4.0'
SPACECRAFT_CLOCK_STOP_COUNT = '01430913.13.0.0'
NOTE = 'SINUSOIDAL_IMAGE_FILE'
DESCRIPTION = "This is the Sinusoidal Image File consisting of a set of logical image data records, each containing multi-look image data in the sinusoidal projection. The image data will include all available data between 89 degrees N and 89 degrees S latitude. For more information, refer to IDPS-101, Compressed Resolution Basic Image Data Record, JPL, MIPL, February 14, 1990, and to SDPS-101, Full Resolution Basic Image Data Record, J. Gilbert, JPL, 1990."
CONFIDENCE_LEVEL_NOTE = "The following errors were noted by the software that generated this PDS label: gap 27 lines between lat 68.9872 and 68.6889 block 179 gap 51 lines between lat 65.4655 and 65.1438 block 243 gap 99 lines between lat 64.8199 and 64.3967 block 249 gap 6 lines between lat 62.4452 and 62.2406 block 283 gap 7 lines between lat 60.5512 and 60.3488 block 316 gap 8 lines between lat 59.0662 and 58.8716 block 336 gap 9 lines between lat 58.714 and 58.5251 block 341 gap 11 lines between lat 58.3035 and 58.1132 block 346 gap 56 lines between lat 56.8008 and 56.5253 block 367 gap 25 lines between lat 56.5253 and 56.3094 block 368 gap 53 lines between lat 56.2156 and 55.9401 block 370 gap 231 lines between lat 55.6716 and 55.0197 block 374 gap 137 lines between lat 54.9601 and 54.5226 block 376 gap 4946 lines between lat 54.5226 and 43.8361 block 377 gap 1867 lines between lat 43.8361 and 39.6859 block 378 gap 204 lines between lat 39.6263 and 39.0496 block 380 gap 201 lines between lat 39.0496 and 38.4673 block 381 gap 405 lines between lat 38.4673 and 37.4731 block 382 gap 163 lines between lat 37.4731 and 36.9873 block 383 gap 104 lines between lat 36.9873 and 36.6379 block 384 gap 104 lines between lat 36.6379 and 36.2942 block 385 gap 715 lines between lat 36.2942 and 34.6409 block 386 gap 468 lines between lat 34.6409 and 33.5189 block 387 gap 257 lines between lat 33.5189 and 32.8428 block 388 gap 25 lines between lat 32.8428 and 32.6781 block 389 gap 354 lines between lat 32.6781 and 31.8088 block 390 gap 129 lines between lat 31.8088 and 31.414 block 391 gap 629 lines between lat 31.3628 and 29.9027 block 393 gap 190 lines between lat 29.7707 and 29.2494 block 396 gap 251 lines between lat 29.177 and 28.525 block 398 gap 38 lines between lat 28.525 and 28.3432 block 399 gap 292 lines between lat 28.3432 and 27.6217 block 400 gap 946 lines between lat 27.6217 and 25.4998 block 401 gap 34 lines between lat 25.4998 and 25.3322 block 402 gap 110 lines between lat 25.3322 and 25.0026 block 403 gap 336 lines between lat 24.9899 and 24.1732 block 405 gap 237 lines between lat 24.1732 and 23.5653 block 406 gap 11 lines between lat 23.5653 and 23.4374 block 407 gap 196 lines between lat 23.3245 and 22.804 block 410 gap 273 lines between lat 22.7933 and 22.1251 block 412 gap 21 lines between lat 22.1251 and 21.9944 block 413 gap 37 lines between lat 21.9944 and 21.8268 block 414 gap 54 lines between lat 21.8268 and 21.6251 block 415 gap 31 lines between lat 21.6251 and 21.4717 block 416 gap 19 lines between lat 21.4717 and 21.3439 block 417 gap 61 lines between lat 21.3439 and 21.1195 block 418 gap 62 lines between lat 21.1195 and 20.8979 block 419 gap 47 lines between lat 20.8979 and 20.7047 block 420 gap 71 lines between lat 20.7047 and 20.4718 block 421 gap 107 lines between lat 20.4718 and 20.1508 block 422 gap 68 lines between lat 20.1508 and 19.9122 block 423 gap 40 lines between lat 19.827 and 19.648 block 425 gap 85 lines between lat 19.648 and 19.3725 block 426"
/* DESCRIPTION OF OBJECTS WITHIN THE FILE
OBJECT = IMAGE
  SFDU_FORMAT_ID = 'NJPL1I000111'
  INTERCHANGE_FORMAT = BINARY
  BYTES = 2177500
  FILE_RECORDS = 427
  ^STRUCTURE = 'CBIDRIM.FMT'
  COLUMNS = 16
  LINE_SAMPLES = 171
  LINES = 12222
  LINE_PREFIX_BYTES = 4
  SAMPLE_TYPE = MSB_UNSIGNED_INTEGER
  SAMPLE_BITS = 8
  SCALING_FACTOR = 0.2
  OFFSET = -20.2
  MISSING = 0
  DESCRIPTION = "This file consists of varying-length logical data records. Each record contains a 92-byte header, followed by a rectangular pixel array. Each line of the pixel array begins with a pair of 2-byte integers defining the start and end of valid pixels in that line. The 8-bit integer pixel values (DN) are related to the normalized radar cross-section (SIGMA-N) by DN = 1+INT((MIN(MAX(RV,-20),30)+20)*5)."
END_OBJECT = IMAGE
OBJECT = IMAGE_MAP_PROJECTION
  OBJECT = DATA_SET_MAP_PROJECTION
    DATA_SET_ID = 'MGN-V-RDRS-5-C-BIDR-V1.0'
    ^STRUCTURE = 'DSMAPCB.LBL'
  END_OBJECT = DATA_SET_MAP_PROJECTION
  IMAGE_ID = 'IM204032;02'
  MAP_PROJECTION_TYPE = SINUSOIDAL
  MAP_RESOLUTION = 469.1
  MAP_SCALE = 225
  LINE_PROJECTION_OFFSET = 36053
  SAMPLE_PROJECTION_OFFSET = -357
  A_AXIS_RADIUS = 6051.92
  B_AXIS_RADIUS = 6051.92
  C_AXIS_RADIUS = 6051.92
  FIRST_STANDARD_PARALLEL = 0.0
  SECOND_STANDARD_PARALLEL = 'N/A'
  POSITIVE_LONGITUDE_DIRECTION = EAST
  CENTER_LATITUDE = 0.0
  CENTER_LONGITUDE = 344.721
  MAP_PROJECTION_ROTATION = 0.0
  LINE_FIRST_PIXEL = 'N/A'
  LINE_LAST_PIXEL = 'N/A'
  MAXIMUM_LATITUDE = 'N/A'
  MAXIMUM_LONGITUDE = 'N/A'
  MINIMUM_LATITUDE = 'N/A'
  MINIMUM_LONGITUDE = 'N/A'
  REFERENCE_LATITUDE = 'N/A'
  REFERENCE_LONGITUDE = 'N/A'
  SAMPLE_FIRST_PIXEL = 'N/A'
  SAMPLE_LAST_PIXEL = 'N/A'
END_OBJECT = IMAGE_MAP_PROJECTION
END
