CCSD3ZF0000100000001NJPL3IF0PDSX00000001
PDS_VERSION_ID = PDS3
DATA_SET_ID = 'MGN-V-RDRS-5-C-BIDR-V1.0'
PRODUCT_ID = 'IM204071;01'
SOURCE_PRODUCT_ID = 'C-BIDR.4071-4075;1'
/* PHYSICAL DESCRIPTION OF THE FILE
RECORD_TYPE = FIXED_LENGTH
RECORD_BYTES = 32500
FILE_RECORDS = 120
/* LOCATION OF OBJECTS WITHIN THE FILE
^IMAGE = 'IM2.DAT'
/* GENERAL PARAMETERS
SPACECRAFT_NAME = 'MAGELLAN'
MISSION_PHASE_NAME = 'PRIMARY MISSION'
INSTRUMENT_NAME = 'RADAR SYSTEM'
TARGET_NAME = 'VENUS'
ORBIT_NUMBER = 4071
START_TIME = 1992-01-30T11:47:12.476
STOP_TIME = 1992-01-30T12:01:39.278
SPACECRAFT_CLOCK_START_COUNT = '01438441.22.4.0'
SPACECRAFT_CLOCK_STOP_COUNT = '01438455.58.0.0'
NOTE = 'SINUSOIDAL_IMAGE_FILE'
DESCRIPTION = "This is the Sinusoidal Image File consisting of a set of logical image data records, each containing multi-look image data in the sinusoidal projection. The image data will include all available data between 89 degrees N and 89 degrees S latitude. For more information, refer to IDPS-101, Compressed Resolution Basic Image Data Record, JPL, MIPL, February 14, 1990, and to SDPS-101, Full Resolution Basic Image Data Record, J. Gilbert, JPL, 1990."
CONFIDENCE_LEVEL_NOTE = "The following errors were noted by the software that generated this PDS label: gap 22 lines between lat 72.3065 and 72.0011 block 53 gap 56 lines between lat 71.7369 and 71.3648 block 58 gap 147 lines between lat 70.7597 and 70.1973 block 67 gap 146 lines between lat 68.0625 and 67.5157 block 100 gap 133 lines between lat 64.9975 and 64.5018 block 132 gap 101 lines between lat 64.5018 and 64.0785 block 133 gap 52 lines between lat 64.0785 and 63.7632 block 134 gap 5 lines between lat 63.0985 and 62.8911 block 144 gap 4 lines between lat 62.5801 and 62.377 block 149 gap 85 lines between lat 62.0681 and 61.6924 block 154 gap 7 lines between lat 61.0873 and 60.8857 block 163 gap 23 lines between lat 60.5853 and 60.3488 block 170 gap 10 lines between lat 59.356 and 59.1585 block 181 gap 94 lines between lat 51.0414 and 50.6622 block 414 gap 5035 lines between lat 47.6071 and 36.7004 block 511 gap 123 lines between lat 35.6735 and 35.2744 block 563"
/* DESCRIPTION OF OBJECTS WITHIN THE FILE
OBJECT = IMAGE
  SFDU_FORMAT_ID = 'NJPL1I000111'
  INTERCHANGE_FORMAT = BINARY
  BYTES = 3900000
  FILE_RECORDS = 1650
  ^STRUCTURE = 'CBIDRIM.FMT'
  COLUMNS = 16
  LINE_SAMPLES = 171
  LINES = 21321
  LINE_PREFIX_BYTES = 4
  SAMPLE_TYPE = MSB_UNSIGNED_INTEGER
  SAMPLE_BITS = 8
  SCALING_FACTOR = 0.2
  OFFSET = -20.2
  MISSING = 0
  DESCRIPTION = "This file consists of varying-length logical data records. Each record contains a 92-byte header, followed by a rectangular pixel array. Each line of the pixel array begins with a pair of 2-byte integers defining the start and end of valid pixels in that line. The 8-bit integer pixel values (DN) are related to the normalized radar cross-section (SIGMA-N) by DN = 1+INT((MIN(MAX(RV,-20),30)+20)*5)."
END_OBJECT = IMAGE
OBJECT = IMAGE_MAP_PROJECTION
  OBJECT = DATA_SET_MAP_PROJECTION
    DATA_SET_ID = 'MGN-V-RDRS-5-C-BIDR-V1.0'
    ^STRUCTURE = 'DSMAPCB.LBL'
  END_OBJECT = DATA_SET_MAP_PROJECTION
  IMAGE_ID = 'IM204071;01'
  MAP_PROJECTION_TYPE = SINUSOIDAL
  MAP_RESOLUTION = 469.1
  MAP_SCALE = 225
  LINE_PROJECTION_OFFSET = 36049
  SAMPLE_PROJECTION_OFFSET = -317
  A_AXIS_RADIUS = 6051.92
  B_AXIS_RADIUS = 6051.92
  C_AXIS_RADIUS = 6051.92
  FIRST_STANDARD_PARALLEL = 0.0
  SECOND_STANDARD_PARALLEL = 'N/A'
  POSITIVE_LONGITUDE_DIRECTION = EAST
  CENTER_LATITUDE = 0.0
  CENTER_LONGITUDE = 352.575
  MAP_PROJECTION_ROTATION = 0.0
  LINE_FIRST_PIXEL = 'N/A'
  LINE_LAST_PIXEL = 'N/A'
  MAXIMUM_LATITUDE = 'N/A'
  MAXIMUM_LONGITUDE = 'N/A'
  MINIMUM_LATITUDE = 'N/A'
  MINIMUM_LONGITUDE = 'N/A'
  REFERENCE_LATITUDE = 'N/A'
  REFERENCE_LONGITUDE = 'N/A'
  SAMPLE_FIRST_PIXEL = 'N/A'
  SAMPLE_LAST_PIXEL = 'N/A'
END_OBJECT = IMAGE_MAP_PROJECTION
END
