CCSD3ZF0000100000001NJPL3IF0PDSX00000001
PDS_VERSION_ID = PDS3
DATA_SET_ID = 'MGN-V-RDRS-5-C-BIDR-V1.0'
PRODUCT_ID = 'IM204309;02'
SOURCE_PRODUCT_ID = 'C-BIDR.4306-4310;2'
/* PHYSICAL DESCRIPTION OF THE FILE
RECORD_TYPE = FIXED_LENGTH
RECORD_BYTES = 32500
FILE_RECORDS = 95
/* LOCATION OF OBJECTS WITHIN THE FILE
^IMAGE = 'IM2.DAT'
/* GENERAL PARAMETERS
SPACECRAFT_NAME = 'MAGELLAN'
MISSION_PHASE_NAME = 'PRIMARY MISSION'
INSTRUMENT_NAME = 'RADAR SYSTEM'
TARGET_NAME = 'VENUS'
ORBIT_NUMBER = 4309
START_TIME = 1992-03-02T19:27:10.651
STOP_TIME = 1992-03-02T19:42:23.577
SPACECRAFT_CLOCK_START_COUNT = '01484469.46.4.0'
SPACECRAFT_CLOCK_STOP_COUNT = '01484485.03.0.0'
NOTE = 'SINUSOIDAL_IMAGE_FILE'
DESCRIPTION = "This is the Sinusoidal Image File consisting of a set of logical image data records, each containing multi-look image data in the sinusoidal projection. The image data will include all available data between 89 degrees N and 89 degrees S latitude. For more information, refer to IDPS-101, Compressed Resolution Basic Image Data Record, JPL, MIPL, February 14, 1990, and to SDPS-101, Full Resolution Basic Image Data Record, J. Gilbert, JPL, 1990."
CONFIDENCE_LEVEL_NOTE = "The following errors were noted by the software that generated this PDS label: gap 147 lines between lat 75.4787 and 74.6969 block 2 gap 21 lines between lat 74.6969 and 74.1997 block 3 gap 23 lines between lat 67.706 and 67.2771 block 92 gap 7 lines between lat 63.8129 and 63.4593 block 213 gap 11335 lines between lat 48.6354 and 24.2726 block 849 gap 21 lines between lat 24.1959 and 24.0397 block 851 gap 25 lines between lat 23.654 and 23.4886 block 863 gap 23 lines between lat 22.8303 and 22.6733 block 875 gap 96 lines between lat 21.8083 and 21.4859 block 894 gap 50 lines between lat 20.5954 and 20.3781 block 917 gap 41 lines between lat 20.2375 and 20.0599 block 921 gap 4 lines between lat 19.9534 and 19.8526 block 926 gap 3 lines between lat 19.0089 and 18.9208 block 959 gap 18 lines between lat 18.5501 and 18.4265 block 977 gap 19 lines between lat 18.2028 and 18.08 block 985 gap 7 lines between lat 17.7817 and 17.6823 block 997 gap 7 lines between lat 16.796 and 16.708 block 1036 gap 159 lines between lat 16.1242 and 15.7052 block 1056 gap 8 lines between lat 15.7052 and 15.6058 block 1057 gap 27 lines between lat 15.3991 and 15.2763 block 1062 gap 11 lines between lat 15.2763 and 15.1882 block 1063 gap 11 lines between lat 15.1435 and 15.0547 block 1065 gap 6 lines between lat 15.0547 and 14.978 block 1066 gap 6 lines between lat 14.88 and 14.799 block 1070 gap 6 lines between lat 14.5072 and 14.4269 block 1079"
/* DESCRIPTION OF OBJECTS WITHIN THE FILE
OBJECT = IMAGE
  SFDU_FORMAT_ID = 'NJPL1I000111'
  INTERCHANGE_FORMAT = BINARY
  BYTES = 3087500
  FILE_RECORDS = 1099
  ^STRUCTURE = 'CBIDRIM.FMT'
  COLUMNS = 16
  LINE_SAMPLES = 171
  LINES = 17042
  LINE_PREFIX_BYTES = 4
  SAMPLE_TYPE = MSB_UNSIGNED_INTEGER
  SAMPLE_BITS = 8
  SCALING_FACTOR = 0.2
  OFFSET = -20.2
  MISSING = 0
  DESCRIPTION = "This file consists of varying-length logical data records. Each record contains a 92-byte header, followed by a rectangular pixel array. Each line of the pixel array begins with a pair of 2-byte integers defining the start and end of valid pixels in that line. The 8-bit integer pixel values (DN) are related to the normalized radar cross-section (SIGMA-N) by DN = 1+INT((MIN(MAX(RV,-20),30)+20)*5)."
END_OBJECT = IMAGE
OBJECT = IMAGE_MAP_PROJECTION
  OBJECT = DATA_SET_MAP_PROJECTION
    DATA_SET_ID = 'MGN-V-RDRS-5-C-BIDR-V1.0'
    ^STRUCTURE = 'DSMAPCB.LBL'
  END_OBJECT = DATA_SET_MAP_PROJECTION
  IMAGE_ID = 'IM204309;02'
  MAP_PROJECTION_TYPE = SINUSOIDAL
  MAP_RESOLUTION = 469.1
  MAP_SCALE = 225
  LINE_PROJECTION_OFFSET = 35513
  SAMPLE_PROJECTION_OFFSET = 909
  A_AXIS_RADIUS = 6051.92
  B_AXIS_RADIUS = 6051.92
  C_AXIS_RADIUS = 6051.92
  FIRST_STANDARD_PARALLEL = 0.0
  SECOND_STANDARD_PARALLEL = 'N/A'
  POSITIVE_LONGITUDE_DIRECTION = EAST
  CENTER_LATITUDE = 0.0
  CENTER_LONGITUDE = 40.449
  MAP_PROJECTION_ROTATION = 0.0
  LINE_FIRST_PIXEL = 'N/A'
  LINE_LAST_PIXEL = 'N/A'
  MAXIMUM_LATITUDE = 'N/A'
  MAXIMUM_LONGITUDE = 'N/A'
  MINIMUM_LATITUDE = 'N/A'
  MINIMUM_LONGITUDE = 'N/A'
  REFERENCE_LATITUDE = 'N/A'
  REFERENCE_LONGITUDE = 'N/A'
  SAMPLE_FIRST_PIXEL = 'N/A'
  SAMPLE_LAST_PIXEL = 'N/A'
END_OBJECT = IMAGE_MAP_PROJECTION
END
