CCSD3ZF0000100000001NJPL3IF0PDSX00000001
PDS_VERSION_ID = PDS3
DATA_SET_ID = 'MGN-V-RDRS-5-C-BIDR-V1.0'
PRODUCT_ID = 'IM204311;01'
SOURCE_PRODUCT_ID = 'C-BIDR.4311-4315;1'
/* PHYSICAL DESCRIPTION OF THE FILE
RECORD_TYPE = FIXED_LENGTH
RECORD_BYTES = 32500
FILE_RECORDS = 87
/* LOCATION OF OBJECTS WITHIN THE FILE
^IMAGE = 'IM2.DAT'
/* GENERAL PARAMETERS
SPACECRAFT_NAME = 'MAGELLAN'
MISSION_PHASE_NAME = 'PRIMARY MISSION'
INSTRUMENT_NAME = 'RADAR SYSTEM'
TARGET_NAME = 'VENUS'
ORBIT_NUMBER = 4311
START_TIME = 1992-03-03T01:57:50.530
STOP_TIME = 1992-03-03T02:13:27.204
SPACECRAFT_CLOCK_START_COUNT = '01484856.27.5.0'
SPACECRAFT_CLOCK_STOP_COUNT = '01484871.75.1.0'
NOTE = 'SINUSOIDAL_IMAGE_FILE'
DESCRIPTION = "This is the Sinusoidal Image File consisting of a set of logical image data records, each containing multi-look image data in the sinusoidal projection. The image data will include all available data between 89 degrees N and 89 degrees S latitude. For more information, refer to IDPS-101, Compressed Resolution Basic Image Data Record, JPL, MIPL, February 14, 1990, and to SDPS-101, Full Resolution Basic Image Data Record, J. Gilbert, JPL, 1990."
CONFIDENCE_LEVEL_NOTE = "The following errors were noted by the software that generated this PDS label: gap 19 lines between lat 63.8357 and 63.4564 block 374 gap 12756 lines between lat 48.6517 and 21.2615 block 871 gap 16 lines between lat 21.2615 and 21.1138 block 872 gap 398 lines between lat 21.1138 and 20.1537 block 873 gap 71 lines between lat 20.1537 and 19.9122 block 874 gap 201 lines between lat 19.7482 and 19.2276 block 879 gap 66 lines between lat 19.1594 and 18.935 block 881 gap 11 lines between lat 18.8732 and 18.7617 block 883 gap 26 lines between lat 18.7617 and 18.6197 block 884 gap 59 lines between lat 18.575 and 18.3641 block 886 gap 81 lines between lat 18.2426 and 17.9834 block 890 gap 2 lines between lat 17.9195 and 17.83 block 892 gap 90 lines between lat 17.6553 and 17.3783 block 898 gap 34 lines between lat 17.3783 and 17.225 block 899 gap 4 lines between lat 17.225 and 17.1369 block 900 gap 67 lines between lat 17.073 and 16.8471 block 903 gap 8 lines between lat 16.7918 and 16.6994 block 906 gap 3 lines between lat 16.6568 and 16.5773 block 908 gap 12 lines between lat 16.5325 and 16.4324 block 910 gap 10 lines between lat 16.2705 and 16.1711 block 917 gap 15 lines between lat 16.1498 and 16.0376 block 920 gap 24 lines between lat 15.9502 and 15.8188 block 923 gap 14 lines between lat 15.5674 and 15.4552 block 930 gap 22 lines between lat 15.4552 and 15.3274 block 931 gap 11 lines between lat 15.0717 and 14.9808 block 939 gap 11 lines between lat 14.836 and 14.7479 block 945 gap 16 lines between lat 14.7138 and 14.6116 block 947 gap 9 lines between lat 14.3985 and 14.3105 block 953 gap 74 lines between lat 14.2551 and 14.0292 block 957"
/* DESCRIPTION OF OBJECTS WITHIN THE FILE
OBJECT = IMAGE
  SFDU_FORMAT_ID = 'NJPL1I000111'
  INTERCHANGE_FORMAT = BINARY
  BYTES = 2827500
  FILE_RECORDS = 963
  ^STRUCTURE = 'CBIDRIM.FMT'
  COLUMNS = 16
  LINE_SAMPLES = 171
  LINES = 15624
  LINE_PREFIX_BYTES = 4
  SAMPLE_TYPE = MSB_UNSIGNED_INTEGER
  SAMPLE_BITS = 8
  SCALING_FACTOR = 0.2
  OFFSET = -20.2
  MISSING = 0
  DESCRIPTION = "This file consists of varying-length logical data records. Each record contains a 92-byte header, followed by a rectangular pixel array. Each line of the pixel array begins with a pair of 2-byte integers defining the start and end of valid pixels in that line. The 8-bit integer pixel values (DN) are related to the normalized radar cross-section (SIGMA-N) by DN = 1+INT((MIN(MAX(RV,-20),30)+20)*5)."
END_OBJECT = IMAGE
OBJECT = IMAGE_MAP_PROJECTION
  OBJECT = DATA_SET_MAP_PROJECTION
    DATA_SET_ID = 'MGN-V-RDRS-5-C-BIDR-V1.0'
    ^STRUCTURE = 'DSMAPCB.LBL'
  END_OBJECT = DATA_SET_MAP_PROJECTION
  IMAGE_ID = 'IM204311;01'
  MAP_PROJECTION_TYPE = SINUSOIDAL
  MAP_RESOLUTION = 469.1
  MAP_SCALE = 225
  LINE_PROJECTION_OFFSET = 36053
  SAMPLE_PROJECTION_OFFSET = 882
  A_AXIS_RADIUS = 6051.92
  B_AXIS_RADIUS = 6051.92
  C_AXIS_RADIUS = 6051.92
  FIRST_STANDARD_PARALLEL = 0.0
  SECOND_STANDARD_PARALLEL = 'N/A'
  POSITIVE_LONGITUDE_DIRECTION = EAST
  CENTER_LATITUDE = 0.0
  CENTER_LONGITUDE = 40.852
  MAP_PROJECTION_ROTATION = 0.0
  LINE_FIRST_PIXEL = 'N/A'
  LINE_LAST_PIXEL = 'N/A'
  MAXIMUM_LATITUDE = 'N/A'
  MAXIMUM_LONGITUDE = 'N/A'
  MINIMUM_LATITUDE = 'N/A'
  MINIMUM_LONGITUDE = 'N/A'
  REFERENCE_LATITUDE = 'N/A'
  REFERENCE_LONGITUDE = 'N/A'
  SAMPLE_FIRST_PIXEL = 'N/A'
  SAMPLE_LAST_PIXEL = 'N/A'
END_OBJECT = IMAGE_MAP_PROJECTION
END
