CCSD3ZF0000100000001NJPL3IF0PDSX00000001
PDS_VERSION_ID = PDS3
DATA_SET_ID = 'MGN-V-RDRS-5-C-BIDR-V1.0'
PRODUCT_ID = 'IM204334;02'
SOURCE_PRODUCT_ID = 'C-BIDR.4331-4335;2'
/* PHYSICAL DESCRIPTION OF THE FILE
RECORD_TYPE = FIXED_LENGTH
RECORD_BYTES = 32500
FILE_RECORDS = 59
/* LOCATION OF OBJECTS WITHIN THE FILE
^IMAGE = 'IM2.DAT'
/* GENERAL PARAMETERS
SPACECRAFT_NAME = 'MAGELLAN'
MISSION_PHASE_NAME = 'PRIMARY MISSION'
INSTRUMENT_NAME = 'RADAR SYSTEM'
TARGET_NAME = 'VENUS'
ORBIT_NUMBER = 4334
START_TIME = 1992-03-06T05:00:41.806
STOP_TIME = 1992-03-06T05:10:19.157
SPACECRAFT_CLOCK_START_COUNT = '01489304.37.7.0'
SPACECRAFT_CLOCK_STOP_COUNT = '01489319.85.3.0'
NOTE = 'SINUSOIDAL_IMAGE_FILE'
DESCRIPTION = "This is the Sinusoidal Image File consisting of a set of logical image data records, each containing multi-look image data in the sinusoidal projection. The image data will include all available data between 89 degrees N and 89 degrees S latitude. For more information, refer to IDPS-101, Compressed Resolution Basic Image Data Record, JPL, MIPL, February 14, 1990, and to SDPS-101, Full Resolution Basic Image Data Record, J. Gilbert, JPL, 1990."
CONFIDENCE_LEVEL_NOTE = "The following errors were noted by the software that generated this PDS label: gap 9 lines between lat 59.4469 and 59.133 block 8 gap 10130 lines between lat 48.5807 and 26.7837 block 307 gap 32 lines between lat 26.5579 and 26.3605 block 314 gap 15 lines between lat 23.2798 and 23.1335 block 414 gap 10 lines between lat 21.5782 and 21.4376 block 451 gap 22 lines between lat 21.2906 and 21.1308 block 454 gap 42 lines between lat 21.0627 and 20.8581 block 457 gap 22 lines between lat 20.8581 and 20.6962 block 458 gap 5 lines between lat 20.5151 and 20.3923 block 462 gap 48 lines between lat 20.1664 and 19.9633 block 467 gap 12 lines between lat 19.3753 and 19.2475 block 479 gap 52 lines between lat 18.8257 and 18.614 block 491 gap 12 lines between lat 18.6034 and 18.4777 block 493 gap 72 lines between lat 18.4777 and 18.222 block 494 gap 14 lines between lat 18.0132 and 17.884 block 501 gap 73 lines between lat 17.884 and 17.6312 block 502 gap 81 lines between lat 17.1625 and 16.8926 block 514 gap 22 lines between lat 16.8287 and 16.6852 block 517 gap 32 lines between lat 16.632 and 16.4864 block 519 gap 16 lines between lat 16.4672 and 16.3557 block 521 gap 34 lines between lat 16.3557 and 16.2108 block 522 gap 45 lines between lat 16.2108 and 16.0262 block 523 gap 66 lines between lat 16.0262 and 15.799 block 524 gap 175 lines between lat 15.799 and 15.3388 block 525 gap 60 lines between lat 15.3388 and 15.12 block 526 gap 38 lines between lat 15.1009 and 14.9382 block 528 gap 51 lines between lat 14.8658 and 14.6741 block 531 gap 43 lines between lat 14.6741 and 14.5207 block 532 gap 8 lines between lat 14.4141 and 14.3275 block 537 gap 15 lines between lat 14.2508 and 14.1514 block 540 gap 4 lines between lat 14.1407 and 14.0633 block 542 gap 11 lines between lat 14.0633 and 13.9724 block 543 gap 11 lines between lat 13.9724 and 13.8844 block 544 gap 21 lines between lat 13.8844 and 13.7764 block 545"
/* DESCRIPTION OF OBJECTS WITHIN THE FILE
OBJECT = IMAGE
  SFDU_FORMAT_ID = 'NJPL1I000111'
  INTERCHANGE_FORMAT = BINARY
  BYTES = 1917500
  FILE_RECORDS = 546
  ^STRUCTURE = 'CBIDRIM.FMT'
  COLUMNS = 16
  LINE_SAMPLES = 171
  LINES = 10653
  LINE_PREFIX_BYTES = 4
  SAMPLE_TYPE = MSB_UNSIGNED_INTEGER
  SAMPLE_BITS = 8
  SCALING_FACTOR = 0.2
  OFFSET = -20.2
  MISSING = 0
  DESCRIPTION = "This file consists of varying-length logical data records. Each record contains a 92-byte header, followed by a rectangular pixel array. Each line of the pixel array begins with a pair of 2-byte integers defining the start and end of valid pixels in that line. The 8-bit integer pixel values (DN) are related to the normalized radar cross-section (SIGMA-N) by DN = 1+INT((MIN(MAX(RV,-20),30)+20)*5)."
END_OBJECT = IMAGE
OBJECT = IMAGE_MAP_PROJECTION
  OBJECT = DATA_SET_MAP_PROJECTION
    DATA_SET_ID = 'MGN-V-RDRS-5-C-BIDR-V1.0'
    ^STRUCTURE = 'DSMAPCB.LBL'
  END_OBJECT = DATA_SET_MAP_PROJECTION
  IMAGE_ID = 'IM204334;02'
  MAP_PROJECTION_TYPE = SINUSOIDAL
  MAP_RESOLUTION = 469.1
  MAP_SCALE = 225
  LINE_PROJECTION_OFFSET = 28252
  SAMPLE_PROJECTION_OFFSET = 933
  A_AXIS_RADIUS = 6051.92
  B_AXIS_RADIUS = 6051.92
  C_AXIS_RADIUS = 6051.92
  FIRST_STANDARD_PARALLEL = 0.0
  SECOND_STANDARD_PARALLEL = 'N/A'
  POSITIVE_LONGITUDE_DIRECTION = EAST
  CENTER_LATITUDE = 0.0
  CENTER_LONGITUDE = 45.476
  MAP_PROJECTION_ROTATION = 0.0
  LINE_FIRST_PIXEL = 'N/A'
  LINE_LAST_PIXEL = 'N/A'
  MAXIMUM_LATITUDE = 'N/A'
  MAXIMUM_LONGITUDE = 'N/A'
  MINIMUM_LATITUDE = 'N/A'
  MINIMUM_LONGITUDE = 'N/A'
  REFERENCE_LATITUDE = 'N/A'
  REFERENCE_LONGITUDE = 'N/A'
  SAMPLE_FIRST_PIXEL = 'N/A'
  SAMPLE_LAST_PIXEL = 'N/A'
END_OBJECT = IMAGE_MAP_PROJECTION
END
