CCSD3ZF0000100000001NJPL3IF0PDSX00000001
PDS_VERSION_ID = PDS3
DATA_SET_ID = 'MGN-V-RDRS-5-C-BIDR-V1.0'
PRODUCT_ID = 'IM204381;03'
SOURCE_PRODUCT_ID = 'C-BIDR.4381-4385;2'
/* PHYSICAL DESCRIPTION OF THE FILE
RECORD_TYPE = FIXED_LENGTH
RECORD_BYTES = 32500
FILE_RECORDS = 152
/* LOCATION OF OBJECTS WITHIN THE FILE
^IMAGE = 'IM2.DAT'
/* GENERAL PARAMETERS
SPACECRAFT_NAME = 'MAGELLAN'
MISSION_PHASE_NAME = 'PRIMARY MISSION'
INSTRUMENT_NAME = 'RADAR SYSTEM'
TARGET_NAME = 'VENUS'
ORBIT_NUMBER = 4381
START_TIME = 1992-03-12T14:15:09.754
STOP_TIME = 1992-03-12T14:29:34.260
SPACECRAFT_CLOCK_START_COUNT = '01498403.15.5.0'
SPACECRAFT_CLOCK_STOP_COUNT = '01498423.33.1.0'
NOTE = 'SINUSOIDAL_IMAGE_FILE'
DESCRIPTION = "This is the Sinusoidal Image File consisting of a set of logical image data records, each containing multi-look image data in the sinusoidal projection. The image data will include all available data between 89 degrees N and 89 degrees S latitude. For more information, refer to IDPS-101, Compressed Resolution Basic Image Data Record, JPL, MIPL, February 14, 1990, and to SDPS-101, Full Resolution Basic Image Data Record, J. Gilbert, JPL, 1990."
CONFIDENCE_LEVEL_NOTE = "The following errors were noted by the software that generated this PDS label: gap 70 lines between lat 24.3493 and 24.0709 block 1176 gap 8 lines between lat 23.3678 and 23.2358 block 1195 gap 2 lines between lat 23.2358 and 23.1164 block 1196 gap 30 lines between lat 22.6861 and 22.5057 block 1207 gap 45 lines between lat 22.461 and 22.2472 block 1209 gap 89 lines between lat 22.2472 and 21.9433 block 1210 gap 10 lines between lat 21.9007 and 21.7643 block 1212 gap 35 lines between lat 21.7643 and 21.574 block 1213 gap 159 lines between lat 21.574 and 21.1195 block 1214 gap 44 lines between lat 21.1088 and 20.9036 block 1216 gap 63 lines between lat 20.8013 and 20.5513 block 1220 gap 299 lines between lat 20.4832 and 19.7332 block 1223 gap 416 lines between lat 19.7332 and 18.7504 block 1224 gap 140 lines between lat 18.7504 and 18.3669 block 1225 gap 134 lines between lat 18.3669 and 17.9948 block 1226 gap 22 lines between lat 17.8499 and 17.7164 block 1232 gap 142 lines between lat 17.7164 and 17.3329 block 1233 gap 20 lines between lat 16.9579 and 16.8358 block 1247 gap 3 lines between lat 16.8145 and 16.7307 block 1249 gap 42 lines between lat 16.7094 and 16.5517 block 1251 gap 76 lines between lat 16.4835 and 16.2591 block 1254 gap 17 lines between lat 16.2591 and 16.154 block 1255 gap 9 lines between lat 16.154 and 16.066 block 1256 gap 7 lines between lat 15.7336 and 15.6569 block 1269 gap 12 lines between lat 15.5589 and 15.4694 block 1274 gap 17 lines between lat 15.3927 and 15.2933 block 1279 gap 10 lines between lat 15.2933 and 15.2109 block 1280 gap 84 lines between lat 15.081 and 14.8275 block 1285 gap 9 lines between lat 14.8275 and 14.7365 block 1286 gap 62 lines between lat 14.5832 and 14.3872 block 1290 gap 6 lines between lat 14.3232 and 14.2451 block 1292 gap 15 lines between lat 14.2238 and 14.1258 block 1295 gap 5 lines between lat 13.9085 and 13.8332 block 1303 gap 32 lines between lat 13.8332 and 13.7026 block 1304 gap 14 lines between lat 13.7026 and 13.6031 block 1305 gap 6 lines between lat 13.6031 and 13.5264 block 1306 gap 16 lines between lat 13.4817 and 13.3816 block 1310 gap 20 lines between lat 13.3816 and 13.2765 block 1311 gap 34 lines between lat 13.0613 and 12.9271 block 1321 gap 3 lines between lat 12.5436 and 12.4726 block 1341 gap 23 lines between lat 12.1381 and 12.0237 block 1355 gap 10 lines between lat 12.0237 and 11.9385 block 1356 gap 32 lines between lat 11.9385 and 11.805 block 1357 gap 25 lines between lat 11.805 and 11.6885 block 1358 gap 3 lines between lat 11.5522 and 11.4812 block 1365 gap 43 lines between lat 11.3533 and 11.1999 block 1370 gap 9 lines between lat 10.1304 and 10.0466 block 1427 gap 4 lines between lat 9.93586 and 9.86201 block 1436 gap 3 lines between lat 9.6383 and 9.56658 block 1445 gap 17 lines between lat 9.53675 and 9.43591 block 1448 gap 3 lines between lat 9.23564 and 9.16321 block 1457 gap 3 lines between lat 8.97572 and 8.90755 block 1466 gap 22 lines between lat 8.75202 and 8.64337 block 1474 gap 12 lines between lat 8.35788 and 8.2684 block 1486 gap 54 lines between lat 7.82526 and 7.6463 block 1510 gap 4 lines between lat 7.63565 and 7.56677 block 1512 gap 2 lines between lat 7.32389 and 7.25429 block 1522 gap 7 lines between lat 6.76641 and 6.68617 block 1544 gap 9 lines between lat 6.62225 and 6.53561 block 1548 gap 146 lines between lat -3.08565 and -3.50322 block 2114 gap 11 lines between lat -4.23824 and -4.3753 block 2145 gap 18 lines between lat -4.83975 and -5.00877 block 2163 gap 37 lines between lat -12.2439 and -12.4711 block 2411 gap 61 lines between lat -12.5052 and -12.8063 block 2414 gap 11 lines between lat -13.78 and -13.9767 block 2438 gap 159 lines between lat -14.6329 and -15.1385 block 2456 gap 182 lines between lat -17.041 and -17.6354 block 2492 gap 184 lines between lat -17.7931 and -18.3854 block 2495 gap 48 lines between lat -19.898 and -20.209 block 2523 gap 201 lines between lat -20.5031 and -21.1578 block 2527 gap 106 lines between lat -21.5541 and -22.0015 block 2534 gap 634 lines between lat -22.0015 and -23.5752 block 2535 gap 32 lines between lat -23.5752 and -23.8735 block 2536"
/* DESCRIPTION OF OBJECTS WITHIN THE FILE
OBJECT = IMAGE
  SFDU_FORMAT_ID = 'NJPL1I000111'
  INTERCHANGE_FORMAT = BINARY
  BYTES = 4940000
  FILE_RECORDS = 2537
  ^STRUCTURE = 'CBIDRIM.FMT'
  COLUMNS = 16
  LINE_SAMPLES = 171
  LINES = 26917
  LINE_PREFIX_BYTES = 4
  SAMPLE_TYPE = MSB_UNSIGNED_INTEGER
  SAMPLE_BITS = 8
  SCALING_FACTOR = 0.2
  OFFSET = -20.2
  MISSING = 0
  DESCRIPTION = "This file consists of varying-length logical data records. Each record contains a 92-byte header, followed by a rectangular pixel array. Each line of the pixel array begins with a pair of 2-byte integers defining the start and end of valid pixels in that line. The 8-bit integer pixel values (DN) are related to the normalized radar cross-section (SIGMA-N) by DN = 1+INT((MIN(MAX(RV,-20),30)+20)*5)."
END_OBJECT = IMAGE
OBJECT = IMAGE_MAP_PROJECTION
  OBJECT = DATA_SET_MAP_PROJECTION
    DATA_SET_ID = 'MGN-V-RDRS-5-C-BIDR-V1.0'
    ^STRUCTURE = 'DSMAPCB.LBL'
  END_OBJECT = DATA_SET_MAP_PROJECTION
  IMAGE_ID = 'IM204381;03'
  MAP_PROJECTION_TYPE = SINUSOIDAL
  MAP_RESOLUTION = 469.1
  MAP_SCALE = 225
  LINE_PROJECTION_OFFSET = 19883
  SAMPLE_PROJECTION_OFFSET = 666
  A_AXIS_RADIUS = 6051.92
  B_AXIS_RADIUS = 6051.92
  C_AXIS_RADIUS = 6051.92
  FIRST_STANDARD_PARALLEL = 0.0
  SECOND_STANDARD_PARALLEL = 'N/A'
  POSITIVE_LONGITUDE_DIRECTION = EAST
  CENTER_LATITUDE = 0.0
  CENTER_LONGITUDE = 54.922
  MAP_PROJECTION_ROTATION = 0.0
  LINE_FIRST_PIXEL = 'N/A'
  LINE_LAST_PIXEL = 'N/A'
  MAXIMUM_LATITUDE = 'N/A'
  MAXIMUM_LONGITUDE = 'N/A'
  MINIMUM_LATITUDE = 'N/A'
  MINIMUM_LONGITUDE = 'N/A'
  REFERENCE_LATITUDE = 'N/A'
  REFERENCE_LONGITUDE = 'N/A'
  SAMPLE_FIRST_PIXEL = 'N/A'
  SAMPLE_LAST_PIXEL = 'N/A'
END_OBJECT = IMAGE_MAP_PROJECTION
END
