CCSD3ZF0000100000001NJPL3IF0PDSX00000001
PDS_VERSION_ID = PDS3
DATA_SET_ID = 'MGN-V-RDRS-5-C-BIDR-V1.0'
PRODUCT_ID = 'IM204447;01'
SOURCE_PRODUCT_ID = 'C-BIDR.4446-4450;1'
/* PHYSICAL DESCRIPTION OF THE FILE
RECORD_TYPE = FIXED_LENGTH
RECORD_BYTES = 32500
FILE_RECORDS = 103
/* LOCATION OF OBJECTS WITHIN THE FILE
^IMAGE = 'IM2.DAT'
/* GENERAL PARAMETERS
SPACECRAFT_NAME = 'MAGELLAN'
MISSION_PHASE_NAME = 'PRIMARY MISSION'
INSTRUMENT_NAME = 'RADAR SYSTEM'
TARGET_NAME = 'VENUS'
ORBIT_NUMBER = 4447
START_TIME = 1992-03-21T13:21:14.656
STOP_TIME = 1992-03-21T13:31:13.584
SPACECRAFT_CLOCK_START_COUNT = '01511167.27.1.0'
SPACECRAFT_CLOCK_STOP_COUNT = '01511187.32.7.0'
NOTE = 'SINUSOIDAL_IMAGE_FILE'
DESCRIPTION = "This is the Sinusoidal Image File consisting of a set of logical image data records, each containing multi-look image data in the sinusoidal projection. The image data will include all available data between 89 degrees N and 89 degrees S latitude. For more information, refer to IDPS-101, Compressed Resolution Basic Image Data Record, JPL, MIPL, February 14, 1990, and to SDPS-101, Full Resolution Basic Image Data Record, J. Gilbert, JPL, 1990."
CONFIDENCE_LEVEL_NOTE = "The following errors were noted by the software that generated this PDS label: gap 131 lines between lat 20.5485 and 20.1508 block 907 gap 3 lines between lat 19.501 and 19.3924 block 940 gap 21 lines between lat 18.8619 and 18.722 block 961 gap 21 lines between lat 17.7483 and 17.5999 block 988 gap 11 lines between lat 17.1568 and 17.0375 block 1002 gap 14 lines between lat 16.8798 and 16.7676 block 1007 gap 22 lines between lat 16.3735 and 16.2591 block 1018 gap 2 lines between lat 16.0333 and 15.9609 block 1025 gap 27 lines between lat 15.9268 and 15.8046 block 1027 gap 25 lines between lat 15.353 and 15.2308 block 1041 gap 20 lines between lat 15.0178 and 14.9127 block 1048 gap 5 lines between lat 14.7742 and 14.6854 block 1051 gap 20 lines between lat 14.6854 and 14.5661 block 1052 gap 8 lines between lat 14.4894 and 14.4014 block 1056 gap 28 lines between lat 14.4014 and 14.2735 block 1057 gap 22 lines between lat 14.2735 and 14.1571 block 1058 gap 9 lines between lat 14.0612 and 13.9753 block 1061 gap 8 lines between lat 13.9753 and 13.89 block 1062 gap 20 lines between lat 13.89 and 13.7821 block 1063 gap 14 lines between lat 13.6457 and 13.5463 block 1069 gap 9 lines between lat 13.459 and 13.3702 block 1072 gap 47 lines between lat 13.3191 and 13.1486 block 1075 gap 6 lines between lat 13.1209 and 13.0407 block 1077 gap 44 lines between lat 13.0215 and 12.8617 block 1079 gap 5 lines between lat 12.8021 and 12.7282 block 1081 gap 21 lines between lat 12.6984 and 12.5805 block 1083 gap 9 lines between lat 12.3547 and 12.2623 block 1095 gap 12 lines between lat 12.2091 and 12.1203 block 1097 gap 29 lines between lat 12.0905 and 11.9698 block 1099 gap 32 lines between lat 11.8931 and 11.7624 block 1102 gap 6 lines between lat 11.7539 and 11.68 block 1104 gap 24 lines between lat 11.6523 and 11.5238 block 1106 gap 52 lines between lat 11.5238 and 11.3363 block 1107 gap 7 lines between lat 11.3171 and 11.2255 block 1109 gap 4 lines between lat 11.1893 and 11.1204 block 1112 gap 60 lines between lat 10.8882 and 10.6972 block 1120 gap 8 lines between lat 10.6673 and 10.5864 block 1122 gap 3 lines between lat 10.3456 and 10.2739 block 1131 gap 13 lines between lat 10.1865 and 10.0978 block 1135 gap 8 lines between lat 10.0104 and 9.93018 block 1139 gap 78 lines between lat 9.86201 and 9.63475 block 1143 gap 14 lines between lat 9.62623 and 9.53533 block 1145 gap 12 lines between lat 9.46716 and 9.3791 block 1151 gap 4 lines between lat 9.3791 and 9.30808 block 1152 gap 45 lines between lat 9.29104 and 9.13196 block 1154 gap 3 lines between lat 9.13196 and 9.06378 block 1155 gap 3 lines between lat 8.95726 and 8.88766 block 1163 gap 8 lines between lat 8.84079 and 8.75984 block 1166 gap 21 lines between lat 8.75984 and 8.65189 block 1167 gap 78 lines between lat 8.51341 and 8.28545 block 1174 gap 27 lines between lat 8.2471 and 8.12353 block 1176 gap 51 lines between lat 8.04257 and 7.86787 block 1180 gap 36 lines between lat 7.74644 and 7.60369 block 1184 gap 13 lines between lat 7.50569 and 7.41337 block 1187 gap 12 lines between lat 7.16623 and 7.06965 block 1196 gap 38 lines between lat 7.06965 and 6.9191 block 1197 gap 48 lines between lat 6.9191 and 6.74582 block 1198 gap 89 lines between lat 6.74582 and 6.48732 block 1199 gap 41 lines between lat 6.48732 and 6.33109 block 1200 gap 7 lines between lat 6.33109 and 6.24587 block 1201 gap 30 lines between lat 6.24587 and 6.11236 block 1202 gap 18 lines between lat 6.11236 and 6.01009 block 1203 gap 74 lines between lat 5.93979 and 5.71467 block 1207 gap 7 lines between lat 5.71467 and 5.63513 block 1208 gap 7 lines between lat 5.63513 and 5.55843 block 1209 gap 7 lines between lat 5.44764 and 5.37095 block 1213 gap 86 lines between lat 5.37095 and 5.12381 block 1214 gap 49 lines between lat 5.12381 and 4.95621 block 1215 gap 2 lines between lat 4.95621 and 4.88804 block 1216 gap 19 lines between lat 4.80069 and 4.69203 block 1221 gap 68 lines between lat 4.64942 and 4.42785 block 1224 gap 28 lines between lat 4.42785 and 4.2915 block 1225 gap 28 lines between lat 4.26594 and 4.13811 block 1227 gap 2 lines between lat 4.13811 and 4.06425 block 1228 gap 32 lines between lat 4.06425 and 3.92506 block 1229 gap 42 lines between lat 3.83771 and 3.67792 block 1233 gap 23 lines between lat 3.52453 and 3.40238 block 1238 gap 17 lines between lat 3.40238 and 3.29444 block 1239 gap 74 lines between lat 3.29444 and 3.06434 block 1240 gap 3 lines between lat 2.93439 and 2.85414 block 1244 gap 2 lines between lat 2.85414 and 2.77744 block 1245 gap 52 lines between lat 2.77744 and 2.5928 block 1246 gap 49 lines between lat 2.52888 and 2.35134 block 1249 gap 2 lines between lat 2.22991 and 2.15534 block 1253 gap 83 lines between lat 2.1106 and 1.86275 block 1255 gap 6 lines between lat 1.86275 and 1.77753 block 1256 gap 47 lines between lat 1.76688 and 1.59289 block 1258 gap 5 lines between lat 1.58224 and 1.49631 block 1260 gap 99 lines between lat 1.21295 and 0.92818 block 1268 gap 74 lines between lat 0.860005 and 0.629913 block 1271 gap 84 lines between lat 0.323123 and 0.0674653 block 1279 gap 82 lines between lat -0.107234 and -0.355791 block 1283 gap 20 lines between lat -0.377095 and -0.497823 block 1285 gap 51 lines between lat -0.497823 and -0.682465 block 1286 gap 20 lines between lat -0.693117 and -0.835859 block 1288 gap 99 lines between lat -0.855034 and -1.14265 block 1290 gap 17 lines between lat -1.14265 and -1.28184 block 1291 gap 32 lines between lat -1.43097 and -1.59999 block 1294 gap 49 lines between lat -1.59999 and -1.80168 block 1295 gap 10 lines between lat -2.07438 and -2.19369 block 1302 gap 64 lines between lat -2.27465 and -2.509 block 1304 gap 2 lines between lat -2.53456 and -2.63399 block 1306"
/* DESCRIPTION OF OBJECTS WITHIN THE FILE
OBJECT = IMAGE
  SFDU_FORMAT_ID = 'NJPL1I000111'
  INTERCHANGE_FORMAT = BINARY
  BYTES = 3347500
  FILE_RECORDS = 1308
  ^STRUCTURE = 'CBIDRIM.FMT'
  COLUMNS = 16
  LINE_SAMPLES = 171
  LINES = 18428
  LINE_PREFIX_BYTES = 4
  SAMPLE_TYPE = MSB_UNSIGNED_INTEGER
  SAMPLE_BITS = 8
  SCALING_FACTOR = 0.2
  OFFSET = -20.2
  MISSING = 0
  DESCRIPTION = "This file consists of varying-length logical data records. Each record contains a 92-byte header, followed by a rectangular pixel array. Each line of the pixel array begins with a pair of 2-byte integers defining the start and end of valid pixels in that line. The 8-bit integer pixel values (DN) are related to the normalized radar cross-section (SIGMA-N) by DN = 1+INT((MIN(MAX(RV,-20),30)+20)*5)."
END_OBJECT = IMAGE
OBJECT = IMAGE_MAP_PROJECTION
  OBJECT = DATA_SET_MAP_PROJECTION
    DATA_SET_ID = 'MGN-V-RDRS-5-C-BIDR-V1.0'
    ^STRUCTURE = 'DSMAPCB.LBL'
  END_OBJECT = DATA_SET_MAP_PROJECTION
  IMAGE_ID = 'IM204447;01'
  MAP_PROJECTION_TYPE = SINUSOIDAL
  MAP_RESOLUTION = 469.1
  MAP_SCALE = 225
  LINE_PROJECTION_OFFSET = 19965
  SAMPLE_PROJECTION_OFFSET = 669
  A_AXIS_RADIUS = 6051.92
  B_AXIS_RADIUS = 6051.92
  C_AXIS_RADIUS = 6051.92
  FIRST_STANDARD_PARALLEL = 0.0
  SECOND_STANDARD_PARALLEL = 'N/A'
  POSITIVE_LONGITUDE_DIRECTION = EAST
  CENTER_LATITUDE = 0.0
  CENTER_LONGITUDE = 68.187
  MAP_PROJECTION_ROTATION = 0.0
  LINE_FIRST_PIXEL = 'N/A'
  LINE_LAST_PIXEL = 'N/A'
  MAXIMUM_LATITUDE = 'N/A'
  MAXIMUM_LONGITUDE = 'N/A'
  MINIMUM_LATITUDE = 'N/A'
  MINIMUM_LONGITUDE = 'N/A'
  REFERENCE_LATITUDE = 'N/A'
  REFERENCE_LONGITUDE = 'N/A'
  SAMPLE_FIRST_PIXEL = 'N/A'
  SAMPLE_LAST_PIXEL = 'N/A'
END_OBJECT = IMAGE_MAP_PROJECTION
END
