CCSD3ZF0000100000001NJPL3IF0PDSX00000001
PDS_VERSION_ID = PDS3
DATA_SET_ID = 'MGN-V-RDRS-5-C-BIDR-V1.0'
PRODUCT_ID = 'IM204530;02'
SOURCE_PRODUCT_ID = 'C-BIDR.4526-4530;2'
/* PHYSICAL DESCRIPTION OF THE FILE
RECORD_TYPE = FIXED_LENGTH
RECORD_BYTES = 32500
FILE_RECORDS = 218
/* LOCATION OF OBJECTS WITHIN THE FILE
^IMAGE = 'IM2.DAT'
/* GENERAL PARAMETERS
SPACECRAFT_NAME = 'MAGELLAN'
MISSION_PHASE_NAME = 'PRIMARY MISSION'
INSTRUMENT_NAME = 'RADAR SYSTEM'
TARGET_NAME = 'VENUS'
ORBIT_NUMBER = 4530
START_TIME = 1992-04-01T19:51:34.906
STOP_TIME = 1992-04-01T20:10:59.405
SPACECRAFT_CLOCK_START_COUNT = '01527219.16.4.0'
SPACECRAFT_CLOCK_STOP_COUNT = '01527239.22.0.0'
NOTE = 'SINUSOIDAL_IMAGE_FILE'
DESCRIPTION = "This is the Sinusoidal Image File consisting of a set of logical image data records, each containing multi-look image data in the sinusoidal projection. The image data will include all available data between 89 degrees N and 89 degrees S latitude. For more information, refer to IDPS-101, Compressed Resolution Basic Image Data Record, JPL, MIPL, February 14, 1990, and to SDPS-101, Full Resolution Basic Image Data Record, J. Gilbert, JPL, 1990."
CONFIDENCE_LEVEL_NOTE = "The following errors were noted by the software that generated this PDS label: gap 10 lines between lat 41.7745 and 41.5607 block 8 gap 37 lines between lat 41.4798 and 41.2 block 10 gap 12 lines between lat 41.0125 and 40.7881 block 13 gap 118 lines between lat 40.5964 and 40.1603 block 16 gap 50 lines between lat 39.9217 and 39.6263 block 19 gap 142 lines between lat 39.5112 and 39.0212 block 21 gap 73 lines between lat 38.446 and 38.1122 block 29 gap 79 lines between lat 38.1122 and 37.7713 block 30 gap 86 lines between lat 37.7713 and 37.4134 block 31 gap 13 lines between lat 37.2238 and 37.0186 block 35 gap 7 lines between lat 36.454 and 36.2743 block 46 gap 69 lines between lat 36.2743 and 35.9618 block 47 gap 15 lines between lat 34.7176 and 34.5302 block 71 gap 30 lines between lat 34.185 and 33.9677 block 75 gap 28 lines between lat 33.9677 and 33.7547 block 76 gap 7 lines between lat 33.4521 and 33.2774 block 82 gap 11 lines between lat 31.6455 and 31.4765 block 118 gap 5 lines between lat 27.9292 and 27.7808 block 234 gap 146 lines between lat 20.7885 and 20.3781 block 565 gap 155 lines between lat -2.42662 and -2.86976 block 2012 gap 62 lines between lat -24.3919 and -24.7626 block 3200"
/* DESCRIPTION OF OBJECTS WITHIN THE FILE
OBJECT = IMAGE
  SFDU_FORMAT_ID = 'NJPL1I000111'
  INTERCHANGE_FORMAT = BINARY
  BYTES = 7085000
  FILE_RECORDS = 4031
  ^STRUCTURE = 'CBIDRIM.FMT'
  COLUMNS = 16
  LINE_SAMPLES = 171
  LINES = 38328
  LINE_PREFIX_BYTES = 4
  SAMPLE_TYPE = MSB_UNSIGNED_INTEGER
  SAMPLE_BITS = 8
  SCALING_FACTOR = 0.2
  OFFSET = -20.2
  MISSING = 0
  DESCRIPTION = "This file consists of varying-length logical data records. Each record contains a 92-byte header, followed by a rectangular pixel array. Each line of the pixel array begins with a pair of 2-byte integers defining the start and end of valid pixels in that line. The 8-bit integer pixel values (DN) are related to the normalized radar cross-section (SIGMA-N) by DN = 1+INT((MIN(MAX(RV,-20),30)+20)*5)."
END_OBJECT = IMAGE
OBJECT = IMAGE_MAP_PROJECTION
  OBJECT = DATA_SET_MAP_PROJECTION
    DATA_SET_ID = 'MGN-V-RDRS-5-C-BIDR-V1.0'
    ^STRUCTURE = 'DSMAPCB.LBL'
  END_OBJECT = DATA_SET_MAP_PROJECTION
  IMAGE_ID = 'IM204530;02'
  MAP_PROJECTION_TYPE = SINUSOIDAL
  MAP_RESOLUTION = 469.1
  MAP_SCALE = 225
  LINE_PROJECTION_OFFSET = 19811
  SAMPLE_PROJECTION_OFFSET = 674
  A_AXIS_RADIUS = 6051.92
  B_AXIS_RADIUS = 6051.92
  C_AXIS_RADIUS = 6051.92
  FIRST_STANDARD_PARALLEL = 0.0
  SECOND_STANDARD_PARALLEL = 'N/A'
  POSITIVE_LONGITUDE_DIRECTION = EAST
  CENTER_LATITUDE = 0.0
  CENTER_LONGITUDE = 84.885
  MAP_PROJECTION_ROTATION = 0.0
  LINE_FIRST_PIXEL = 'N/A'
  LINE_LAST_PIXEL = 'N/A'
  MAXIMUM_LATITUDE = 'N/A'
  MAXIMUM_LONGITUDE = 'N/A'
  MINIMUM_LATITUDE = 'N/A'
  MINIMUM_LONGITUDE = 'N/A'
  REFERENCE_LATITUDE = 'N/A'
  REFERENCE_LONGITUDE = 'N/A'
  SAMPLE_FIRST_PIXEL = 'N/A'
  SAMPLE_LAST_PIXEL = 'N/A'
END_OBJECT = IMAGE_MAP_PROJECTION
END
