CCSD3ZF0000100000001NJPL3IF0PDSX00000001
PDS_VERSION_ID = PDS3
DATA_SET_ID = 'MGN-V-RDRS-5-C-BIDR-V1.0'
PRODUCT_ID = 'IM204551;01'
SOURCE_PRODUCT_ID = 'C-BIDR.4551-4555;1'
/* PHYSICAL DESCRIPTION OF THE FILE
RECORD_TYPE = FIXED_LENGTH
RECORD_BYTES = 32500
FILE_RECORDS = 214
/* LOCATION OF OBJECTS WITHIN THE FILE
^IMAGE = 'IM2.DAT'
/* GENERAL PARAMETERS
SPACECRAFT_NAME = 'MAGELLAN'
MISSION_PHASE_NAME = 'PRIMARY MISSION'
INSTRUMENT_NAME = 'RADAR SYSTEM'
TARGET_NAME = 'VENUS'
ORBIT_NUMBER = 4551
START_TIME = 1992-04-04T16:17:59.605
STOP_TIME = 1992-04-04T16:38:03.724
SPACECRAFT_CLOCK_START_COUNT = '01531280.49.1.0'
SPACECRAFT_CLOCK_STOP_COUNT = '01531300.47.7.0'
NOTE = 'SINUSOIDAL_IMAGE_FILE'
DESCRIPTION = "This is the Sinusoidal Image File consisting of a set of logical image data records, each containing multi-look image data in the sinusoidal projection. The image data will include all available data between 89 degrees N and 89 degrees S latitude. For more information, refer to IDPS-101, Compressed Resolution Basic Image Data Record, JPL, MIPL, February 14, 1990, and to SDPS-101, Full Resolution Basic Image Data Record, J. Gilbert, JPL, 1990."
CONFIDENCE_LEVEL_NOTE = "The following errors were noted by the software that generated this PDS label: gap 10 lines between lat 33.9769 and 33.803 block 314 gap 167 lines between lat 20.8667 and 20.398 block 852 gap 35 lines between lat 20.0805 and 19.9037 block 865 gap 39 lines between lat 19.0813 and 18.9009 block 899 gap 18 lines between lat 16.4083 and 16.2762 block 984 gap 4 lines between lat 15.9651 and 15.8671 block 997 gap 7 lines between lat 15.7265 and 15.6285 block 1000 gap 52 lines between lat 15.4027 and 15.2109 block 1008 gap 41 lines between lat 15.1044 and 14.9496 block 1013 gap 12 lines between lat 14.8303 and 14.7422 block 1019 gap 9 lines between lat 14.6314 and 14.5349 block 1023 gap 20 lines between lat 14.2089 and 14.0974 block 1032 gap 2 lines between lat 14.0974 and 14.0264 block 1033 gap 2 lines between lat 13.988 and 13.9156 block 1036 gap 59 lines between lat 13.8773 and 13.6827 block 1038 gap 19 lines between lat 13.5932 and 13.4895 block 1042 gap 28 lines between lat 13.351 and 13.2282 block 1047 gap 5 lines between lat 12.8063 and 12.7367 block 1068 gap 75 lines between lat 12.7176 and 12.4924 block 1070 gap 18 lines between lat 12.3689 and 12.2652 block 1076 gap 48 lines between lat 12.2034 and 12.0408 block 1079 gap 26 lines between lat 11.9279 and 11.805 block 1083 gap 33 lines between lat 11.805 and 11.6715 block 1084 gap 3 lines between lat 11.6097 and 11.538 block 1087 gap 3 lines between lat 11.457 and 11.3846 block 1090 gap 13 lines between lat 11.342 and 11.2511 block 1094 gap 4 lines between lat 11.2511 and 11.1801 block 1095 gap 23 lines between lat 11.0245 and 10.913 block 1102 gap 12 lines between lat 10.8001 and 10.7085 block 1106 gap 9 lines between lat 10.553 and 10.4727 block 1111 gap 12 lines between lat 10.4514 and 10.3591 block 1113 gap 3 lines between lat 10.2973 and 10.2256 block 1117 gap 23 lines between lat 10.1745 and 10.0609 block 1119 gap 23 lines between lat 10.0609 and 9.94722 block 1120 gap 46 lines between lat 9.94722 and 9.78531 block 1121 gap 7 lines between lat 9.71287 and 9.63191 block 1124 gap 38 lines between lat 9.55095 and 9.40466 block 1130 gap 55 lines between lat 9.39401 and 9.21434 block 1132 gap 22 lines between lat 9.00129 and 8.8905 block 1141 gap 16 lines between lat 8.85216 and 8.75415 block 1144 gap 13 lines between lat 8.75415 and 8.66609 block 1145 gap 7 lines between lat 8.66609 and 8.58656 block 1146 gap 7 lines between lat 8.58656 and 8.50986 block 1147 gap 49 lines between lat 8.43103 and 8.26556 block 1151 gap 11 lines between lat 8.00564 and 7.91616 block 1164 gap 12 lines between lat 7.77981 and 7.68891 block 1169 gap 3 lines between lat 7.66122 and 7.58949 block 1171 gap 3 lines between lat 7.58949 and 7.52132 block 1172 gap 3 lines between lat 7.52132 and 7.45314 block 1173 gap 31 lines between lat 7.42331 and 7.29406 block 1175 gap 12 lines between lat 7.26424 and 7.17192 block 1178 gap 40 lines between lat 7.13357 and 6.98159 block 1181 gap 22 lines between lat 6.98159 and 6.87081 block 1182 gap 17 lines between lat 6.7515 and 6.65492 block 1188 gap 48 lines between lat 6.65492 and 6.48732 block 1189 gap 6 lines between lat 6.47667 and 6.39926 block 1191 gap 12 lines between lat 5.92487 and 5.83681 block 1211 gap 126 lines between lat 5.69194 and 5.3539 block 1216 gap 7 lines between lat 5.31555 and 5.2346 block 1218 gap 7 lines between lat 5.16429 and 5.08404 block 1222 gap 11 lines between lat 4.95408 and 4.86247 block 1229 gap 72 lines between lat 4.78364 and 4.55284 block 1233 gap 25 lines between lat 4.55284 and 4.42785 block 1234 gap 2 lines between lat 4.11041 and 4.03016 block 1247 gap 68 lines between lat 3.80007 and 3.57566 block 1259 gap 24 lines between lat 3.57566 and 3.44499 block 1260 gap 7 lines between lat 3.44499 and 3.35125 block 1261 gap 13 lines between lat 2.69932 and 2.58996 block 1287 gap 11 lines between lat 0.744959 and 0.644116 block 1352 gap 11 lines between lat 0.644116 and 0.541853 block 1353 gap 6 lines between lat 0.420415 and 0.331645 block 1358 gap 42 lines between lat -1.35996 and -1.52614 block 1427 gap 22 lines between lat -1.85849 and -1.99484 block 1437 gap 24 lines between lat -2.08432 and -2.2363 block 1443 gap 175 lines between lat -2.33856 and -2.81295 block 1448 gap 32 lines between lat -3.32 and -3.50322 block 1460 gap 158 lines between lat -3.71627 and -4.16509 block 1467 gap 8 lines between lat -4.21196 and -4.33837 block 1469 gap 37 lines between lat -5.75728 and -5.9689 block 1517 gap 37 lines between lat -5.9689 and -6.17627 block 1518 gap 3 lines between lat -6.85376 and -6.98585 block 1545 gap 20 lines between lat -7.26708 and -7.43183 block 1553 gap 59 lines between lat -9.45153 and -9.71003 block 1610 gap 3 lines between lat -9.79951 and -9.92024 block 1614 gap 34 lines between lat -13.9085 and -14.1528 block 1725 gap 68 lines between lat -24.279 and -24.6632 block 2045"
/* DESCRIPTION OF OBJECTS WITHIN THE FILE
OBJECT = IMAGE
  SFDU_FORMAT_ID = 'NJPL1I000111'
  INTERCHANGE_FORMAT = BINARY
  BYTES = 6955000
  FILE_RECORDS = 2472
  ^STRUCTURE = 'CBIDRIM.FMT'
  COLUMNS = 16
  LINE_SAMPLES = 171
  LINES = 38332
  LINE_PREFIX_BYTES = 4
  SAMPLE_TYPE = MSB_UNSIGNED_INTEGER
  SAMPLE_BITS = 8
  SCALING_FACTOR = 0.2
  OFFSET = -20.2
  MISSING = 0
  DESCRIPTION = "This file consists of varying-length logical data records. Each record contains a 92-byte header, followed by a rectangular pixel array. Each line of the pixel array begins with a pair of 2-byte integers defining the start and end of valid pixels in that line. The 8-bit integer pixel values (DN) are related to the normalized radar cross-section (SIGMA-N) by DN = 1+INT((MIN(MAX(RV,-20),30)+20)*5)."
END_OBJECT = IMAGE
OBJECT = IMAGE_MAP_PROJECTION
  OBJECT = DATA_SET_MAP_PROJECTION
    DATA_SET_ID = 'MGN-V-RDRS-5-C-BIDR-V1.0'
    ^STRUCTURE = 'DSMAPCB.LBL'
  END_OBJECT = DATA_SET_MAP_PROJECTION
  IMAGE_ID = 'IM204551;01'
  MAP_PROJECTION_TYPE = SINUSOIDAL
  MAP_RESOLUTION = 469.1
  MAP_SCALE = 225
  LINE_PROJECTION_OFFSET = 20019
  SAMPLE_PROJECTION_OFFSET = 685
  A_AXIS_RADIUS = 6051.92
  B_AXIS_RADIUS = 6051.92
  C_AXIS_RADIUS = 6051.92
  FIRST_STANDARD_PARALLEL = 0.0
  SECOND_STANDARD_PARALLEL = 'N/A'
  POSITIVE_LONGITUDE_DIRECTION = EAST
  CENTER_LATITUDE = 0.0
  CENTER_LONGITUDE = 89.110
  MAP_PROJECTION_ROTATION = 0.0
  LINE_FIRST_PIXEL = 'N/A'
  LINE_LAST_PIXEL = 'N/A'
  MAXIMUM_LATITUDE = 'N/A'
  MAXIMUM_LONGITUDE = 'N/A'
  MINIMUM_LATITUDE = 'N/A'
  MINIMUM_LONGITUDE = 'N/A'
  REFERENCE_LATITUDE = 'N/A'
  REFERENCE_LONGITUDE = 'N/A'
  SAMPLE_FIRST_PIXEL = 'N/A'
  SAMPLE_LAST_PIXEL = 'N/A'
END_OBJECT = IMAGE_MAP_PROJECTION
END
