CCSD3ZF0000100000001NJPL3IF0PDSX00000001
PDS_VERSION_ID = PDS3
DATA_SET_ID = 'MGN-V-RDRS-5-C-BIDR-V1.0'
PRODUCT_ID = 'IM204565;01'
SOURCE_PRODUCT_ID = 'C-BIDR.4561-4565;1'
/* PHYSICAL DESCRIPTION OF THE FILE
RECORD_TYPE = FIXED_LENGTH
RECORD_BYTES = 32500
FILE_RECORDS = 146
/* LOCATION OF OBJECTS WITHIN THE FILE
^IMAGE = 'IM2.DAT'
/* GENERAL PARAMETERS
SPACECRAFT_NAME = 'MAGELLAN'
MISSION_PHASE_NAME = 'PRIMARY MISSION'
INSTRUMENT_NAME = 'RADAR SYSTEM'
TARGET_NAME = 'VENUS'
ORBIT_NUMBER = 4565
START_TIME = 1992-04-06T13:55:33.196
STOP_TIME = 1992-04-06T14:07:31.539
SPACECRAFT_CLOCK_START_COUNT = '01533988.08.0.0'
SPACECRAFT_CLOCK_STOP_COUNT = '01534008.06.6.0'
NOTE = 'SINUSOIDAL_IMAGE_FILE'
DESCRIPTION = "This is the Sinusoidal Image File consisting of a set of logical image data records, each containing multi-look image data in the sinusoidal projection. The image data will include all available data between 89 degrees N and 89 degrees S latitude. For more information, refer to IDPS-101, Compressed Resolution Basic Image Data Record, JPL, MIPL, February 14, 1990, and to SDPS-101, Full Resolution Basic Image Data Record, J. Gilbert, JPL, 1990."
CONFIDENCE_LEVEL_NOTE = "The following errors were noted by the software that generated this PDS label: gap 142 lines between lat 20.8361 and 20.4207 block 1491 gap 9 lines between lat 13.6436 and 13.5634 block 1968 gap 12 lines between lat 3.18152 and 3.07855 block 2670 gap 2 lines between lat 2.73341 and 2.64961 block 2684 gap 7 lines between lat -0.105104 and -0.196715 block 2831 gap 2 lines between lat -1.45796 and -1.5517 block 2895 gap 165 lines between lat -2.33998 and -2.79306 block 2932 gap 15 lines between lat -3.34912 and -3.49186 block 2944 gap 84 lines between lat -3.95205 and -4.23895 block 2957 gap 10 lines between lat -4.53083 and -4.65937 block 2965 gap 12 lines between lat -5.65004 and -5.80983 block 2997 gap 81 lines between lat -5.95683 and -6.26433 block 3003 gap 12 lines between lat -6.72878 and -6.88075 block 3017 gap 22 lines between lat -7.15345 and -7.32105 block 3025 gap 75 lines between lat -9.01265 and -9.31234 block 3063 gap 3 lines between lat -9.54243 and -9.66458 block 3068 gap 27 lines between lat -10.0438 and -10.2185 block 3078 gap 8 lines between lat -10.8108 and -10.9798 block 3093 gap 8 lines between lat -10.9798 and -11.1446 block 3094 gap 31 lines between lat -11.1446 and -11.3661 block 3095 gap 55 lines between lat -11.7283 and -11.9825 block 3101 gap 136 lines between lat -11.9996 and -12.4257 block 3103 gap 52 lines between lat -12.4257 and -12.6842 block 3104 gap 61 lines between lat -12.6842 and -12.9853 block 3105"
/* DESCRIPTION OF OBJECTS WITHIN THE FILE
OBJECT = IMAGE
  SFDU_FORMAT_ID = 'NJPL1I000111'
  INTERCHANGE_FORMAT = BINARY
  BYTES = 4745000
  FILE_RECORDS = 3107
  ^STRUCTURE = 'CBIDRIM.FMT'
  COLUMNS = 16
  LINE_SAMPLES = 171
  LINES = 25359
  LINE_PREFIX_BYTES = 4
  SAMPLE_TYPE = MSB_UNSIGNED_INTEGER
  SAMPLE_BITS = 8
  SCALING_FACTOR = 0.2
  OFFSET = -20.2
  MISSING = 0
  DESCRIPTION = "This file consists of varying-length logical data records. Each record contains a 92-byte header, followed by a rectangular pixel array. Each line of the pixel array begins with a pair of 2-byte integers defining the start and end of valid pixels in that line. The 8-bit integer pixel values (DN) are related to the normalized radar cross-section (SIGMA-N) by DN = 1+INT((MIN(MAX(RV,-20),30)+20)*5)."
END_OBJECT = IMAGE
OBJECT = IMAGE_MAP_PROJECTION
  OBJECT = DATA_SET_MAP_PROJECTION
    DATA_SET_ID = 'MGN-V-RDRS-5-C-BIDR-V1.0'
    ^STRUCTURE = 'DSMAPCB.LBL'
  END_OBJECT = DATA_SET_MAP_PROJECTION
  IMAGE_ID = 'IM204565;01'
  MAP_PROJECTION_TYPE = SINUSOIDAL
  MAP_RESOLUTION = 469.1
  MAP_SCALE = 225
  LINE_PROJECTION_OFFSET = 20025
  SAMPLE_PROJECTION_OFFSET = 693
  A_AXIS_RADIUS = 6051.92
  B_AXIS_RADIUS = 6051.92
  C_AXIS_RADIUS = 6051.92
  FIRST_STANDARD_PARALLEL = 0.0
  SECOND_STANDARD_PARALLEL = 'N/A'
  POSITIVE_LONGITUDE_DIRECTION = EAST
  CENTER_LATITUDE = 0.0
  CENTER_LONGITUDE = 91.927
  MAP_PROJECTION_ROTATION = 0.0
  LINE_FIRST_PIXEL = 'N/A'
  LINE_LAST_PIXEL = 'N/A'
  MAXIMUM_LATITUDE = 'N/A'
  MAXIMUM_LONGITUDE = 'N/A'
  MINIMUM_LATITUDE = 'N/A'
  MINIMUM_LONGITUDE = 'N/A'
  REFERENCE_LATITUDE = 'N/A'
  REFERENCE_LONGITUDE = 'N/A'
  SAMPLE_FIRST_PIXEL = 'N/A'
  SAMPLE_LAST_PIXEL = 'N/A'
END_OBJECT = IMAGE_MAP_PROJECTION
END
