CCSD3ZF0000100000001NJPL3IF0PDSX00000001
PDS_VERSION_ID = PDS3
DATA_SET_ID = 'MGN-V-RDRS-5-C-BIDR-V1.0'
PRODUCT_ID = 'IM204569;01'
SOURCE_PRODUCT_ID = 'C-BIDR.4566-4570;1'
/* PHYSICAL DESCRIPTION OF THE FILE
RECORD_TYPE = FIXED_LENGTH
RECORD_BYTES = 32500
FILE_RECORDS = 191
/* LOCATION OF OBJECTS WITHIN THE FILE
^IMAGE = 'IM2.DAT'
/* GENERAL PARAMETERS
SPACECRAFT_NAME = 'MAGELLAN'
MISSION_PHASE_NAME = 'PRIMARY MISSION'
INSTRUMENT_NAME = 'RADAR SYSTEM'
TARGET_NAME = 'VENUS'
ORBIT_NUMBER = 4569
START_TIME = 1992-04-07T02:57:38.341
STOP_TIME = 1992-04-07T03:14:46.967
SPACECRAFT_CLOCK_START_COUNT = '01534761.61.2.0'
SPACECRAFT_CLOCK_STOP_COUNT = '01534781.59.8.0'
NOTE = 'SINUSOIDAL_IMAGE_FILE'
DESCRIPTION = "This is the Sinusoidal Image File consisting of a set of logical image data records, each containing multi-look image data in the sinusoidal projection. The image data will include all available data between 89 degrees N and 89 degrees S latitude. For more information, refer to IDPS-101, Compressed Resolution Basic Image Data Record, JPL, MIPL, February 14, 1990, and to SDPS-101, Full Resolution Basic Image Data Record, J. Gilbert, JPL, 1990."
CONFIDENCE_LEVEL_NOTE = "The following errors were noted by the software that generated this PDS label: gap 167 lines between lat 20.9554 and 20.5173 block 789 gap 143 lines between lat -2.1873 and -2.59422 block 1907 gap 8 lines between lat -15.4048 and -15.5589 block 2306 gap 2 lines between lat -20.9789 and -21.1578 block 2407 gap 18 lines between lat -21.2367 and -21.422 block 2410 gap 5 lines between lat -22.2145 and -22.3821 block 2425 gap 162 lines between lat -24.0652 and -24.5694 block 2455 gap 109 lines between lat -25.2448 and -25.6489 block 2467 gap 29 lines between lat -25.9344 and -26.1659 block 2471 gap 18 lines between lat -26.1659 and -26.3619 block 2472 gap 118 lines between lat -26.6346 and -27.072 block 2478 gap 27 lines between lat -27.4747 and -27.7055 block 2486 gap 173 lines between lat -27.8078 and -28.3674 block 2489 gap 228 lines between lat -29.8694 and -30.5575 block 2505 gap 17 lines between lat -30.6726 and -30.8927 block 2507 gap 185 lines between lat -30.9524 and -31.5546 block 2509 gap 5 lines between lat -31.823 and -32.0346 block 2514 gap 109 lines between lat -32.0645 and -32.4892 block 2516 gap 153 lines between lat -32.4892 and -33.0289 block 2517 gap 1844 lines between lat -33.0736 and -37.2359 block 2519"
/* DESCRIPTION OF OBJECTS WITHIN THE FILE
OBJECT = IMAGE
  SFDU_FORMAT_ID = 'NJPL1I000111'
  INTERCHANGE_FORMAT = BINARY
  BYTES = 6207500
  FILE_RECORDS = 2520
  ^STRUCTURE = 'CBIDRIM.FMT'
  COLUMNS = 16
  LINE_SAMPLES = 171
  LINES = 34201
  LINE_PREFIX_BYTES = 4
  SAMPLE_TYPE = MSB_UNSIGNED_INTEGER
  SAMPLE_BITS = 8
  SCALING_FACTOR = 0.2
  OFFSET = -20.2
  MISSING = 0
  DESCRIPTION = "This file consists of varying-length logical data records. Each record contains a 92-byte header, followed by a rectangular pixel array. Each line of the pixel array begins with a pair of 2-byte integers defining the start and end of valid pixels in that line. The 8-bit integer pixel values (DN) are related to the normalized radar cross-section (SIGMA-N) by DN = 1+INT((MIN(MAX(RV,-20),30)+20)*5)."
END_OBJECT = IMAGE
OBJECT = IMAGE_MAP_PROJECTION
  OBJECT = DATA_SET_MAP_PROJECTION
    DATA_SET_ID = 'MGN-V-RDRS-5-C-BIDR-V1.0'
    ^STRUCTURE = 'DSMAPCB.LBL'
  END_OBJECT = DATA_SET_MAP_PROJECTION
  IMAGE_ID = 'IM204569;01'
  MAP_PROJECTION_TYPE = SINUSOIDAL
  MAP_RESOLUTION = 469.1
  MAP_SCALE = 225
  LINE_PROJECTION_OFFSET = 20073
  SAMPLE_PROJECTION_OFFSET = -131
  A_AXIS_RADIUS = 6051.92
  B_AXIS_RADIUS = 6051.92
  C_AXIS_RADIUS = 6051.92
  FIRST_STANDARD_PARALLEL = 0.0
  SECOND_STANDARD_PARALLEL = 'N/A'
  POSITIVE_LONGITUDE_DIRECTION = EAST
  CENTER_LATITUDE = 0.0
  CENTER_LONGITUDE = 92.732
  MAP_PROJECTION_ROTATION = 0.0
  LINE_FIRST_PIXEL = 'N/A'
  LINE_LAST_PIXEL = 'N/A'
  MAXIMUM_LATITUDE = 'N/A'
  MAXIMUM_LONGITUDE = 'N/A'
  MINIMUM_LATITUDE = 'N/A'
  MINIMUM_LONGITUDE = 'N/A'
  REFERENCE_LATITUDE = 'N/A'
  REFERENCE_LONGITUDE = 'N/A'
  SAMPLE_FIRST_PIXEL = 'N/A'
  SAMPLE_LAST_PIXEL = 'N/A'
END_OBJECT = IMAGE_MAP_PROJECTION
END
