CCSD3ZF0000100000001NJPL3IF0PDSX00000001
PDS_VERSION_ID = PDS3
DATA_SET_ID = 'MGN-V-RDRS-5-C-BIDR-V1.0'
PRODUCT_ID = 'IM204583;01'
SOURCE_PRODUCT_ID = 'C-BIDR.4581-4585;1'
/* PHYSICAL DESCRIPTION OF THE FILE
RECORD_TYPE = FIXED_LENGTH
RECORD_BYTES = 32500
FILE_RECORDS = 99
/* LOCATION OF OBJECTS WITHIN THE FILE
^IMAGE = 'IM2.DAT'
/* GENERAL PARAMETERS
SPACECRAFT_NAME = 'MAGELLAN'
MISSION_PHASE_NAME = 'PRIMARY MISSION'
INSTRUMENT_NAME = 'RADAR SYSTEM'
TARGET_NAME = 'VENUS'
ORBIT_NUMBER = 4583
START_TIME = 1992-04-09T00:35:32.509
STOP_TIME = 1992-04-09T00:46:51.859
SPACECRAFT_CLOCK_START_COUNT = '01537469.20.1.0'
SPACECRAFT_CLOCK_STOP_COUNT = '01537489.18.7.0'
NOTE = 'SINUSOIDAL_IMAGE_FILE'
DESCRIPTION = "This is the Sinusoidal Image File consisting of a set of logical image data records, each containing multi-look image data in the sinusoidal projection. The image data will include all available data between 89 degrees N and 89 degrees S latitude. For more information, refer to IDPS-101, Compressed Resolution Basic Image Data Record, JPL, MIPL, February 14, 1990, and to SDPS-101, Full Resolution Basic Image Data Record, J. Gilbert, JPL, 1990."
CONFIDENCE_LEVEL_NOTE = "The following errors were noted by the software that generated this PDS label: gap 2 lines between lat 39.3798 and 39.1888 block 108 gap 2 lines between lat 39.0503 and 38.8763 block 110 gap 142 lines between lat 20.8652 and 20.4604 block 1003 gap 4 lines between lat 13.8964 and 13.8275 block 1356 gap 7705 lines between lat 13.6486 and -2.82715 block 1365 gap 12 lines between lat -3.79226 and -3.935 block 1403 gap 44 lines between lat -4.0117 and -4.22475 block 1406 gap 50 lines between lat -4.26949 and -4.49461 block 1409 gap 23 lines between lat -4.90792 and -5.0741 block 1420 gap 37 lines between lat -5.50872 and -5.71893 block 1429 gap 23 lines between lat -6.25155 and -6.43477 block 1452 gap 26 lines between lat -6.72878 and -6.912 block 1460 gap 3 lines between lat -7.14422 and -7.27844 block 1467 gap 2 lines between lat -7.37431 and -7.50853 block 1470 gap 3 lines between lat -7.61932 and -7.75567 block 1474 gap 3 lines between lat -8.79534 and -8.95158 block 1496 gap 35 lines between lat -9.2115 and -9.43733 block 1500 gap 35 lines between lat -9.48846 and -9.71003 block 1502 gap 18 lines between lat -10.0701 and -10.2412 block 1510 gap 24 lines between lat -10.2838 and -10.4713 block 1512 gap 16 lines between lat -10.4713 and -10.6418 block 1513 gap 16 lines between lat -10.6588 and -10.8292 block 1515 gap 10 lines between lat -10.9358 and -11.0991 block 1517"
/* DESCRIPTION OF OBJECTS WITHIN THE FILE
OBJECT = IMAGE
  SFDU_FORMAT_ID = 'NJPL1I000111'
  INTERCHANGE_FORMAT = BINARY
  BYTES = 3217500
  FILE_RECORDS = 1523
  ^STRUCTURE = 'CBIDRIM.FMT'
  COLUMNS = 16
  LINE_SAMPLES = 171
  LINES = 17454
  LINE_PREFIX_BYTES = 4
  SAMPLE_TYPE = MSB_UNSIGNED_INTEGER
  SAMPLE_BITS = 8
  SCALING_FACTOR = 0.2
  OFFSET = -20.2
  MISSING = 0
  DESCRIPTION = "This file consists of varying-length logical data records. Each record contains a 92-byte header, followed by a rectangular pixel array. Each line of the pixel array begins with a pair of 2-byte integers defining the start and end of valid pixels in that line. The 8-bit integer pixel values (DN) are related to the normalized radar cross-section (SIGMA-N) by DN = 1+INT((MIN(MAX(RV,-20),30)+20)*5)."
END_OBJECT = IMAGE
OBJECT = IMAGE_MAP_PROJECTION
  OBJECT = DATA_SET_MAP_PROJECTION
    DATA_SET_ID = 'MGN-V-RDRS-5-C-BIDR-V1.0'
    ^STRUCTURE = 'DSMAPCB.LBL'
  END_OBJECT = DATA_SET_MAP_PROJECTION
  IMAGE_ID = 'IM204583;01'
  MAP_PROJECTION_TYPE = SINUSOIDAL
  MAP_RESOLUTION = 469.1
  MAP_SCALE = 225
  LINE_PROJECTION_OFFSET = 20031
  SAMPLE_PROJECTION_OFFSET = 682
  A_AXIS_RADIUS = 6051.92
  B_AXIS_RADIUS = 6051.92
  C_AXIS_RADIUS = 6051.92
  FIRST_STANDARD_PARALLEL = 0.0
  SECOND_STANDARD_PARALLEL = 'N/A'
  POSITIVE_LONGITUDE_DIRECTION = EAST
  CENTER_LATITUDE = 0.0
  CENTER_LONGITUDE = 95.549
  MAP_PROJECTION_ROTATION = 0.0
  LINE_FIRST_PIXEL = 'N/A'
  LINE_LAST_PIXEL = 'N/A'
  MAXIMUM_LATITUDE = 'N/A'
  MAXIMUM_LONGITUDE = 'N/A'
  MINIMUM_LATITUDE = 'N/A'
  MINIMUM_LONGITUDE = 'N/A'
  REFERENCE_LATITUDE = 'N/A'
  REFERENCE_LONGITUDE = 'N/A'
  SAMPLE_FIRST_PIXEL = 'N/A'
  SAMPLE_LAST_PIXEL = 'N/A'
END_OBJECT = IMAGE_MAP_PROJECTION
END
