CCSD3ZF0000100000001NJPL3IF0PDSX00000001
PDS_VERSION_ID = PDS3
DATA_SET_ID = 'MGN-V-RDRS-5-C-BIDR-V1.0'
PRODUCT_ID = 'IM204599;01'
SOURCE_PRODUCT_ID = 'C-BIDR.4596-4600;1'
/* PHYSICAL DESCRIPTION OF THE FILE
RECORD_TYPE = FIXED_LENGTH
RECORD_BYTES = 32500
FILE_RECORDS = 129
/* LOCATION OF OBJECTS WITHIN THE FILE
^IMAGE = 'IM2.DAT'
/* GENERAL PARAMETERS
SPACECRAFT_NAME = 'MAGELLAN'
MISSION_PHASE_NAME = 'PRIMARY MISSION'
INSTRUMENT_NAME = 'RADAR SYSTEM'
TARGET_NAME = 'VENUS'
ORBIT_NUMBER = 4599
START_TIME = 1992-04-11T04:43:59.367
STOP_TIME = 1992-04-11T04:55:33.256
SPACECRAFT_CLOCK_START_COUNT = '01540563.50.9.0'
SPACECRAFT_CLOCK_STOP_COUNT = '01540583.49.5.0'
NOTE = 'SINUSOIDAL_IMAGE_FILE'
DESCRIPTION = "This is the Sinusoidal Image File consisting of a set of logical image data records, each containing multi-look image data in the sinusoidal projection. The image data will include all available data between 89 degrees N and 89 degrees S latitude. For more information, refer to IDPS-101, Compressed Resolution Basic Image Data Record, JPL, MIPL, February 14, 1990, and to SDPS-101, Full Resolution Basic Image Data Record, J. Gilbert, JPL, 1990."
CONFIDENCE_LEVEL_NOTE = "The following errors were noted by the software that generated this PDS label: gap 142 lines between lat 20.851 and 20.4491 block 1616 gap 2398 lines between lat 2.28885 and -2.89817 block 3349 gap 103 lines between lat -2.95782 and -3.26461 block 3351 gap 5 lines between lat -3.38818 and -3.48902 block 3354 gap 57 lines between lat -3.74042 and -3.94636 block 3361 gap 11 lines between lat -3.94636 and -4.05431 block 3362 gap 33 lines between lat -4.26736 and -4.44916 block 3367 gap 115 lines between lat -4.44916 and -4.79288 block 3368 gap 149 lines between lat -4.81844 and -5.23886 block 3370 gap 16 lines between lat -5.23886 and -5.40077 block 3371 gap 104 lines between lat -5.40077 and -5.75301 block 3372 gap 93 lines between lat -5.79988 and -6.12514 block 3376 gap 81 lines between lat -6.16136 and -6.46317 block 3378 gap 17 lines between lat -6.47383 and -6.63645 block 3380 gap 27 lines between lat -6.74724 and -6.93472 block 3382 gap 7 lines between lat -7.15203 and -7.30116 block 3386 gap 23 lines between lat -7.59588 and -7.77555 block 3390 gap 78 lines between lat -7.78834 and -8.10223 block 3392 gap 75 lines between lat -9.08225 and -9.39188 block 3409 gap 151 lines between lat -9.44514 and -9.90888 block 3411 gap 13 lines between lat -10.0644 and -10.227 block 3414 gap 167 lines between lat -10.3847 and -10.8633 block 3418 gap 647 lines between lat -10.9102 and -12.4257 block 3420 gap 844 lines between lat -12.5194 and -14.4908 block 3423 gap 887 lines between lat -14.4908 and -16.5418 block 3424 gap 199 lines between lat -16.5418 and -17.1468 block 3425 gap 81 lines between lat -17.1468 and -17.5246 block 3426 gap 1401 lines between lat -17.5246 and -20.7062 block 3427 gap 993 lines between lat -20.7062 and -23.0525 block 3428"
/* DESCRIPTION OF OBJECTS WITHIN THE FILE
OBJECT = IMAGE
  SFDU_FORMAT_ID = 'NJPL1I000111'
  INTERCHANGE_FORMAT = BINARY
  BYTES = 4192500
  FILE_RECORDS = 3429
  ^STRUCTURE = 'CBIDRIM.FMT'
  COLUMNS = 16
  LINE_SAMPLES = 171
  LINES = 22124
  LINE_PREFIX_BYTES = 4
  SAMPLE_TYPE = MSB_UNSIGNED_INTEGER
  SAMPLE_BITS = 8
  SCALING_FACTOR = 0.2
  OFFSET = -20.2
  MISSING = 0
  DESCRIPTION = "This file consists of varying-length logical data records. Each record contains a 92-byte header, followed by a rectangular pixel array. Each line of the pixel array begins with a pair of 2-byte integers defining the start and end of valid pixels in that line. The 8-bit integer pixel values (DN) are related to the normalized radar cross-section (SIGMA-N) by DN = 1+INT((MIN(MAX(RV,-20),30)+20)*5)."
END_OBJECT = IMAGE
OBJECT = IMAGE_MAP_PROJECTION
  OBJECT = DATA_SET_MAP_PROJECTION
    DATA_SET_ID = 'MGN-V-RDRS-5-C-BIDR-V1.0'
    ^STRUCTURE = 'DSMAPCB.LBL'
  END_OBJECT = DATA_SET_MAP_PROJECTION
  IMAGE_ID = 'IM204599;01'
  MAP_PROJECTION_TYPE = SINUSOIDAL
  MAP_RESOLUTION = 469.1
  MAP_SCALE = 225
  LINE_PROJECTION_OFFSET = 20052
  SAMPLE_PROJECTION_OFFSET = 690
  A_AXIS_RADIUS = 6051.92
  B_AXIS_RADIUS = 6051.92
  C_AXIS_RADIUS = 6051.92
  FIRST_STANDARD_PARALLEL = 0.0
  SECOND_STANDARD_PARALLEL = 'N/A'
  POSITIVE_LONGITUDE_DIRECTION = EAST
  CENTER_LATITUDE = 0.0
  CENTER_LONGITUDE = 98.766
  MAP_PROJECTION_ROTATION = 0.0
  LINE_FIRST_PIXEL = 'N/A'
  LINE_LAST_PIXEL = 'N/A'
  MAXIMUM_LATITUDE = 'N/A'
  MAXIMUM_LONGITUDE = 'N/A'
  MINIMUM_LATITUDE = 'N/A'
  MINIMUM_LONGITUDE = 'N/A'
  REFERENCE_LATITUDE = 'N/A'
  REFERENCE_LONGITUDE = 'N/A'
  SAMPLE_FIRST_PIXEL = 'N/A'
  SAMPLE_LAST_PIXEL = 'N/A'
END_OBJECT = IMAGE_MAP_PROJECTION
END
