CCSD3ZF0000100000001NJPL3IF0PDSX00000001
PDS_VERSION_ID = PDS3
DATA_SET_ID = 'MGN-V-RDRS-5-C-BIDR-V1.0'
PRODUCT_ID = 'IM204600;01'
SOURCE_PRODUCT_ID = 'C-BIDR.4596-4600;1'
/* PHYSICAL DESCRIPTION OF THE FILE
RECORD_TYPE = FIXED_LENGTH
RECORD_BYTES = 32500
FILE_RECORDS = 141
/* LOCATION OF OBJECTS WITHIN THE FILE
^IMAGE = 'IM2.DAT'
/* GENERAL PARAMETERS
SPACECRAFT_NAME = 'MAGELLAN'
MISSION_PHASE_NAME = 'PRIMARY MISSION'
INSTRUMENT_NAME = 'RADAR SYSTEM'
TARGET_NAME = 'VENUS'
ORBIT_NUMBER = 4600
START_TIME = 1992-04-11T07:59:44.416
STOP_TIME = 1992-04-11T08:11:22.224
SPACECRAFT_CLOCK_START_COUNT = '01540756.86.9.0'
SPACECRAFT_CLOCK_STOP_COUNT = '01540776.85.5.0'
NOTE = 'SINUSOIDAL_IMAGE_FILE'
DESCRIPTION = "This is the Sinusoidal Image File consisting of a set of logical image data records, each containing multi-look image data in the sinusoidal projection. The image data will include all available data between 89 degrees N and 89 degrees S latitude. For more information, refer to IDPS-101, Compressed Resolution Basic Image Data Record, JPL, MIPL, February 14, 1990, and to SDPS-101, Full Resolution Basic Image Data Record, J. Gilbert, JPL, 1990."
CONFIDENCE_LEVEL_NOTE = "The following errors were noted by the software that generated this PDS label: gap 147 lines between lat 20.8638 and 20.4491 block 1189 gap 140 lines between lat 5.22465 and 4.84543 block 2100 gap 2 lines between lat 4.07419 and 3.98755 block 2134 gap 6 lines between lat 3.73829 and 3.641 block 2148 gap 2 lines between lat 2.9912 and 2.91095 block 2172 gap 2 lines between lat 2.09071 and 2.01047 block 2204 gap 7 lines between lat 1.89755 and 1.80594 block 2212 gap 6 lines between lat 0.736437 and 0.646957 block 2254 gap 16 lines between lat 0.380646 and 0.26631 block 2268 gap 28 lines between lat -0.551795 and -0.693827 block 2303 gap 380 lines between lat -0.97079 and -1.86417 block 2318 gap 151 lines between lat -2.3201 and -2.73625 block 2336 gap 5 lines between lat -3.00469 and -3.10553 block 2345 gap 18 lines between lat -3.25041 and -3.3754 block 2351 gap 55 lines between lat -3.65236 and -3.8583 block 2360 gap 9 lines between lat -4.16935 and -4.2986 block 2372 gap 13 lines between lat -4.67357 and -4.80424 block 2385 gap 6 lines between lat -6.30836 and -6.44897 block 2435 gap 4 lines between lat -8.03618 and -8.19313 block 2480 gap 3 lines between lat -9.49698 and -9.64754 block 2501 gap 17 lines between lat -9.73489 and -9.90604 block 2505 gap 32 lines between lat -9.90604 and -10.1049 block 2506 gap 57 lines between lat -10.3818 and -10.6304 block 2513 gap 31 lines between lat -10.8008 and -11.0025 block 2516 gap 20 lines between lat -11.0963 and -11.2781 block 2518 gap 149 lines between lat -11.2781 and -11.7411 block 2519 gap 577 lines between lat -11.8284 and -13.2097 block 2521 gap 50 lines between lat -13.2097 and -13.4881 block 2522 gap 100 lines between lat -13.6266 and -14.0136 block 2525 gap 13629 lines between lat -14.0136 and -43.2126 block 2526"
/* DESCRIPTION OF OBJECTS WITHIN THE FILE
OBJECT = IMAGE
  SFDU_FORMAT_ID = 'NJPL1I000111'
  INTERCHANGE_FORMAT = BINARY
  BYTES = 4582500
  FILE_RECORDS = 2527
  ^STRUCTURE = 'CBIDRIM.FMT'
  COLUMNS = 16
  LINE_SAMPLES = 171
  LINES = 24723
  LINE_PREFIX_BYTES = 4
  SAMPLE_TYPE = MSB_UNSIGNED_INTEGER
  SAMPLE_BITS = 8
  SCALING_FACTOR = 0.2
  OFFSET = -20.2
  MISSING = 0
  DESCRIPTION = "This file consists of varying-length logical data records. Each record contains a 92-byte header, followed by a rectangular pixel array. Each line of the pixel array begins with a pair of 2-byte integers defining the start and end of valid pixels in that line. The 8-bit integer pixel values (DN) are related to the normalized radar cross-section (SIGMA-N) by DN = 1+INT((MIN(MAX(RV,-20),30)+20)*5)."
END_OBJECT = IMAGE
OBJECT = IMAGE_MAP_PROJECTION
  OBJECT = DATA_SET_MAP_PROJECTION
    DATA_SET_ID = 'MGN-V-RDRS-5-C-BIDR-V1.0'
    ^STRUCTURE = 'DSMAPCB.LBL'
  END_OBJECT = DATA_SET_MAP_PROJECTION
  IMAGE_ID = 'IM204600;01'
  MAP_PROJECTION_TYPE = SINUSOIDAL
  MAP_RESOLUTION = 469.1
  MAP_SCALE = 225
  LINE_PROJECTION_OFFSET = 19932
  SAMPLE_PROJECTION_OFFSET = 682
  A_AXIS_RADIUS = 6051.92
  B_AXIS_RADIUS = 6051.92
  C_AXIS_RADIUS = 6051.92
  FIRST_STANDARD_PARALLEL = 0.0
  SECOND_STANDARD_PARALLEL = 'N/A'
  POSITIVE_LONGITUDE_DIRECTION = EAST
  CENTER_LATITUDE = 0.0
  CENTER_LONGITUDE = 98.967
  MAP_PROJECTION_ROTATION = 0.0
  LINE_FIRST_PIXEL = 'N/A'
  LINE_LAST_PIXEL = 'N/A'
  MAXIMUM_LATITUDE = 'N/A'
  MAXIMUM_LONGITUDE = 'N/A'
  MINIMUM_LATITUDE = 'N/A'
  MINIMUM_LONGITUDE = 'N/A'
  REFERENCE_LATITUDE = 'N/A'
  REFERENCE_LONGITUDE = 'N/A'
  SAMPLE_FIRST_PIXEL = 'N/A'
  SAMPLE_LAST_PIXEL = 'N/A'
END_OBJECT = IMAGE_MAP_PROJECTION
END
