CCSD3ZF0000100000001NJPL3IF0PDSX00000001
PDS_VERSION_ID = PDS3
DATA_SET_ID = 'MGN-V-RDRS-5-C-BIDR-V1.0'
PRODUCT_ID = 'IM204601;01'
SOURCE_PRODUCT_ID = 'C-BIDR.4601-4605;2'
/* PHYSICAL DESCRIPTION OF THE FILE
RECORD_TYPE = FIXED_LENGTH
RECORD_BYTES = 32500
FILE_RECORDS = 123
/* LOCATION OF OBJECTS WITHIN THE FILE
^IMAGE = 'IM2.DAT'
/* GENERAL PARAMETERS
SPACECRAFT_NAME = 'MAGELLAN'
MISSION_PHASE_NAME = 'PRIMARY MISSION'
INSTRUMENT_NAME = 'RADAR SYSTEM'
TARGET_NAME = 'VENUS'
ORBIT_NUMBER = 4601
START_TIME = 1992-04-11T11:15:09.183
STOP_TIME = 1992-04-11T11:26:28.063
SPACECRAFT_CLOCK_START_COUNT = '01540950.32.0.0'
SPACECRAFT_CLOCK_STOP_COUNT = '01540970.30.6.0'
NOTE = 'SINUSOIDAL_IMAGE_FILE'
DESCRIPTION = "This is the Sinusoidal Image File consisting of a set of logical image data records, each containing multi-look image data in the sinusoidal projection. The image data will include all available data between 89 degrees N and 89 degrees S latitude. For more information, refer to IDPS-101, Compressed Resolution Basic Image Data Record, JPL, MIPL, February 14, 1990, and to SDPS-101, Full Resolution Basic Image Data Record, J. Gilbert, JPL, 1990."
CONFIDENCE_LEVEL_NOTE = "The following errors were noted by the software that generated this PDS label: gap 142 lines between lat 20.8617 and 20.4576 block 955 gap 23 lines between lat 16.2542 and 16.1057 block 1138 gap 11 lines between lat 14.113 and 14.0207 block 1223 gap 4 lines between lat 13.0961 and 13.0151 block 1268 gap 18 lines between lat 12.2119 and 12.1118 block 1308 gap 22 lines between lat 11.707 and 11.5976 block 1327 gap 18 lines between lat 11.5188 and 11.4187 block 1331 gap 16 lines between lat 10.9159 and 10.8165 block 1359 gap 4 lines between lat 10.3179 and 10.237 block 1381 gap 9 lines between lat 10.0388 and 9.95006 block 1391 gap 18 lines between lat 9.88828 and 9.78815 block 1396 gap 42 lines between lat 8.81665 and 8.66609 block 1439 gap 45 lines between lat 8.62775 and 8.46441 block 1441 gap 17 lines between lat 8.40475 and 8.30533 block 1445 gap 2 lines between lat 7.67897 and 7.60653 block 1473 gap 12 lines between lat 7.22731 and 7.13499 block 1490 gap 2 lines between lat 7.0029 and 6.93046 block 1499 gap 2 lines between lat 6.89211 and 6.81684 block 1503 gap 52 lines between lat 6.77423 and 6.59242 block 1507 gap 7 lines between lat 6.53064 and 6.44471 block 1510 gap 9 lines between lat 6.37227 and 6.27995 block 1513 gap 7 lines between lat 6.14786 and 6.05554 block 1519 gap 12 lines between lat 6.05554 and 5.95328 block 1520 gap 34 lines between lat 5.66993 and 5.51866 block 1532 gap 23 lines between lat 5.27792 and 5.14938 block 1544 gap 2 lines between lat 4.89798 and 4.81702 block 1554 gap 6 lines between lat 4.68493 and 4.59261 block 1560 gap 38 lines between lat 4.46052 and 4.30287 block 1564 gap 12 lines between lat 3.77024 and 3.66088 block 1583 gap 13 lines between lat 3.66088 and 3.55294 block 1584 gap 6 lines between lat 3.50606 and 3.4109 block 1588 gap 2 lines between lat 3.19785 and 3.11548 block 1597 gap 39 lines between lat 2.97699 and 2.81721 block 1606 gap 28 lines between lat 2.74903 and 2.61268 block 1609 gap 27 lines between lat 2.53314 and 2.39963 block 1611 gap 59 lines between lat 2.37833 and 2.17522 block 1614 gap 11 lines between lat 2.09853 and 1.99626 block 1619 gap 6 lines between lat 1.64473 and 1.55312 block 1628 gap 34 lines between lat 1.54247 and 1.39121 block 1630 gap 7 lines between lat 1.39121 and 1.29746 block 1631 gap 2 lines between lat 0.901194 and 0.820236 block 1647 gap 6 lines between lat 0.820236 and 0.732176 block 1648 gap 46 lines between lat 0.664 and 0.487881 block 1651 gap 12 lines between lat 0.432488 and 0.331645 block 1653 gap 11 lines between lat 0.331645 and 0.229382 block 1654 gap 108 lines between lat 0.17612 and -0.13422 block 1656 gap 42 lines between lat -0.238614 and -0.412604 block 1661 gap 15 lines between lat -0.636304 and -0.753481 block 1667 gap 27 lines between lat -0.894093 and -1.0347 block 1671 gap 6 lines between lat -1.1391 and -1.23355 block 1674 gap 134 lines between lat -1.2442 and -1.6142 block 1676 gap 11 lines between lat -1.65041 and -1.76475 block 1678 gap 54 lines between lat -1.79032 and -1.99484 block 1680 gap 23 lines between lat -1.99484 and -2.13403 block 1681 gap 233 lines between lat -2.28743 and -2.8726 block 1684 gap 6 lines between lat -2.8726 and -2.97202 block 1685 gap 63 lines between lat -3.08281 and -3.30438 block 1688 gap 44 lines between lat -3.41516 and -3.59697 block 1691 gap 72 lines between lat -3.70349 and -3.94636 block 1694 gap 10 lines between lat -3.95915 and -4.06567 block 1696 gap 5 lines between lat -4.10189 and -4.22191 block 1698 gap 53 lines between lat -4.30287 and -4.52586 block 1702 gap 57 lines between lat -4.63025 and -4.85537 block 1705 gap 46 lines between lat -4.90011 and -5.10251 block 1707 gap 16 lines between lat -5.10251 and -5.26442 block 1708 gap 28 lines between lat -5.31555 and -5.50304 block 1710 gap 27 lines between lat -5.53926 and -5.72745 block 1712 gap 16 lines between lat -5.77858 and -5.9405 block 1714 gap 193 lines between lat -6.0385 and -6.5768 block 1716 gap 16 lines between lat -6.58745 and -6.75008 block 1718 gap 108 lines between lat -6.75008 and -7.108 block 1719 gap 35 lines between lat -7.21453 and -7.42331 block 1721 gap 14 lines between lat -7.42331 and -7.58523 block 1722 gap 133 lines between lat -7.64701 and -8.0653 block 1725 gap 23 lines between lat -8.2613 and -8.45731 block 1731 gap 79 lines between lat -8.45731 and -8.77262 block 1732 gap 78 lines between lat -8.77262 and -9.08509 block 1733 gap 218 lines between lat -9.2044 and -9.80945 block 1735"
/* DESCRIPTION OF OBJECTS WITHIN THE FILE
OBJECT = IMAGE
  SFDU_FORMAT_ID = 'NJPL1I000111'
  INTERCHANGE_FORMAT = BINARY
  BYTES = 3997500
  FILE_RECORDS = 1737
  ^STRUCTURE = 'CBIDRIM.FMT'
  COLUMNS = 16
  LINE_SAMPLES = 171
  LINES = 21953
  LINE_PREFIX_BYTES = 4
  SAMPLE_TYPE = MSB_UNSIGNED_INTEGER
  SAMPLE_BITS = 8
  SCALING_FACTOR = 0.2
  OFFSET = -20.2
  MISSING = 0
  DESCRIPTION = "This file consists of varying-length logical data records. Each record contains a 92-byte header, followed by a rectangular pixel array. Each line of the pixel array begins with a pair of 2-byte integers defining the start and end of valid pixels in that line. The 8-bit integer pixel values (DN) are related to the normalized radar cross-section (SIGMA-N) by DN = 1+INT((MIN(MAX(RV,-20),30)+20)*5)."
END_OBJECT = IMAGE
OBJECT = IMAGE_MAP_PROJECTION
  OBJECT = DATA_SET_MAP_PROJECTION
    DATA_SET_ID = 'MGN-V-RDRS-5-C-BIDR-V1.0'
    ^STRUCTURE = 'DSMAPCB.LBL'
  END_OBJECT = DATA_SET_MAP_PROJECTION
  IMAGE_ID = 'IM204601;01'
  MAP_PROJECTION_TYPE = SINUSOIDAL
  MAP_RESOLUTION = 469.1
  MAP_SCALE = 225
  LINE_PROJECTION_OFFSET = 20052
  SAMPLE_PROJECTION_OFFSET = 690
  A_AXIS_RADIUS = 6051.92
  B_AXIS_RADIUS = 6051.92
  C_AXIS_RADIUS = 6051.92
  FIRST_STANDARD_PARALLEL = 0.0
  SECOND_STANDARD_PARALLEL = 'N/A'
  POSITIVE_LONGITUDE_DIRECTION = EAST
  CENTER_LATITUDE = 0.0
  CENTER_LONGITUDE = 99.168
  MAP_PROJECTION_ROTATION = 0.0
  LINE_FIRST_PIXEL = 'N/A'
  LINE_LAST_PIXEL = 'N/A'
  MAXIMUM_LATITUDE = 'N/A'
  MAXIMUM_LONGITUDE = 'N/A'
  MINIMUM_LATITUDE = 'N/A'
  MINIMUM_LONGITUDE = 'N/A'
  REFERENCE_LATITUDE = 'N/A'
  REFERENCE_LONGITUDE = 'N/A'
  SAMPLE_FIRST_PIXEL = 'N/A'
  SAMPLE_LAST_PIXEL = 'N/A'
END_OBJECT = IMAGE_MAP_PROJECTION
END
