CCSD3ZF0000100000001NJPL3IF0PDSX00000001
PDS_VERSION_ID = PDS3
DATA_SET_ID = 'MGN-V-RDRS-5-C-BIDR-V1.0'
PRODUCT_ID = 'IM204602;01'
SOURCE_PRODUCT_ID = 'C-BIDR.4601-4605;2'
/* PHYSICAL DESCRIPTION OF THE FILE
RECORD_TYPE = FIXED_LENGTH
RECORD_BYTES = 32500
FILE_RECORDS = 93
/* LOCATION OF OBJECTS WITHIN THE FILE
^IMAGE = 'IM2.DAT'
/* GENERAL PARAMETERS
SPACECRAFT_NAME = 'MAGELLAN'
MISSION_PHASE_NAME = 'PRIMARY MISSION'
INSTRUMENT_NAME = 'RADAR SYSTEM'
TARGET_NAME = 'VENUS'
ORBIT_NUMBER = 4602
START_TIME = 1992-04-11T14:30:53.934
STOP_TIME = 1992-04-11T14:41:41.141
SPACECRAFT_CLOCK_START_COUNT = '01541143.68.0.0'
SPACECRAFT_CLOCK_STOP_COUNT = '01541163.66.6.0'
NOTE = 'SINUSOIDAL_IMAGE_FILE'
DESCRIPTION = "This is the Sinusoidal Image File consisting of a set of logical image data records, each containing multi-look image data in the sinusoidal projection. The image data will include all available data between 89 degrees N and 89 degrees S latitude. For more information, refer to IDPS-101, Compressed Resolution Basic Image Data Record, JPL, MIPL, February 14, 1990, and to SDPS-101, Full Resolution Basic Image Data Record, J. Gilbert, JPL, 1990."
CONFIDENCE_LEVEL_NOTE = "The following errors were noted by the software that generated this PDS label: gap 15 lines between lat 42.5074 and 42.2908 block 2 gap 8 lines between lat 35.2645 and 35.0784 block 229 gap 25 lines between lat 29.1514 and 28.9653 block 420 gap 6 lines between lat 23.3643 and 23.2386 block 613 gap 14 lines between lat 22.0604 and 21.912 block 655 gap 4 lines between lat 21.422 and 21.2984 block 668 gap 21 lines between lat 21.2771 and 21.1166 block 670 gap 171 lines between lat 20.8738 and 20.4093 block 678 gap 3 lines between lat 20.4093 and 20.3042 block 679 gap 9 lines between lat 20.2403 and 20.1224 block 684 gap 13 lines between lat 19.7261 and 19.5969 block 701 gap 17 lines between lat 19.5969 and 19.4577 block 702 gap 3 lines between lat 19.4385 and 19.3327 block 704 gap 12 lines between lat 18.9727 and 18.847 block 714 gap 22 lines between lat 18.0523 and 17.9095 block 740 gap 56 lines between lat 17.8669 and 17.6511 block 743 gap 26 lines between lat 17.357 and 17.1994 block 753 gap 11 lines between lat 17.1994 and 17.0716 block 754 gap 16 lines between lat 16.0489 and 15.9296 block 782 gap 18 lines between lat 15.6228 and 15.5007 block 792 gap 10 lines between lat 15.49 and 15.3927 block 794 gap 51 lines between lat 15.3203 and 15.1371 block 796 gap 178 lines between lat 15.1371 and 14.6854 block 797 gap 2 lines between lat 14.6066 and 14.5377 block 801 gap 113 lines between lat 14.5185 and 14.211 block 804 gap 2 lines between lat 13.9852 and 13.9156 block 814 gap 7 lines between lat 13.8858 and 13.8048 block 816 gap 20 lines between lat 13.8048 and 13.6969 block 817 gap 12 lines between lat 13.6969 and 13.6088 block 818 gap 93 lines between lat 13.5215 and 13.2537 block 821 gap 5 lines between lat 13.1856 and 13.106 block 823 gap 36 lines between lat 13.106 and 12.9583 block 824 gap 46 lines between lat 12.9498 and 12.7822 block 826 gap 23 lines between lat 12.7822 and 12.66 block 827 gap 10 lines between lat 12.4939 and 12.4044 block 832 gap 14 lines between lat 12.3959 and 12.2964 block 834 gap 7 lines between lat 12.2964 and 12.2112 block 835 gap 8 lines between lat 12.2112 and 12.1345 block 836 gap 55 lines between lat 12.1345 and 11.9556 block 837 gap 3 lines between lat 11.8959 and 11.8277 block 839 gap 36 lines between lat 11.7169 and 11.5806 block 844 gap 64 lines between lat 11.5806 and 11.3817 block 845 gap 31 lines between lat 11.3817 and 11.2539 block 846 gap 17 lines between lat 11.2539 and 11.1545 block 847 gap 29 lines between lat 11.1268 and 10.9983 block 849 gap 17 lines between lat 10.9983 and 10.8988 block 850 gap 7 lines between lat 10.7795 and 10.7 block 856 gap 229 lines between lat 10.6318 and 10.0807 block 859 gap 80 lines between lat 10.053 and 9.81087 block 861 gap 9 lines between lat 9.75974 and 9.6802 block 864 gap 12 lines between lat 9.6802 and 9.59214 block 865 gap 41 lines between lat 9.33436 and 9.18593 block 873 gap 78 lines between lat 9.16676 and 8.9388 block 875 gap 103 lines between lat 8.9388 and 8.65757 block 876 gap 32 lines between lat 8.65757 and 8.5269 block 877 gap 100 lines between lat 8.49921 and 8.22011 block 879 gap 54 lines between lat 8.22011 and 8.04115 block 880 gap 30 lines between lat 8.04115 and 7.91332 block 881 gap 36 lines between lat 7.87497 and 7.73152 block 884 gap 31 lines between lat 7.73152 and 7.59801 block 885 gap 180 lines between lat 7.58736 and 7.13783 block 887 gap 49 lines between lat 7.09522 and 6.92194 block 889 gap 16 lines between lat 6.92194 and 6.81968 block 890 gap 62 lines between lat 6.79837 and 6.59526 block 892 gap 65 lines between lat 6.59526 and 6.38506 block 893 gap 7 lines between lat 6.38506 and 6.29416 block 894 gap 12 lines between lat 6.29416 and 6.19189 block 895 gap 32 lines between lat 6.11236 and 5.96748 block 897 gap 153 lines between lat 5.88865 and 5.48741 block 899 gap 233 lines between lat 5.48741 and 4.91076 block 900 gap 166 lines between lat 4.91076 and 4.48183 block 901 gap 58 lines between lat 4.43922 and 4.23753 block 903 gap 16 lines between lat 4.23753 and 4.12675 block 904 gap 138 lines between lat 4.11609 and 3.7461 block 906 gap 7 lines between lat 3.73545 and 3.63815 block 908 gap 7 lines between lat 3.5785 and 3.48476 block 910 gap 34 lines between lat 3.48476 and 3.33136 block 911 gap 28 lines between lat 3.33136 and 3.18933 block 912 gap 2 lines between lat 3.18933 and 3.10411 block 913 gap 188 lines between lat 3.10411 and 2.62689 block 914 gap 54 lines between lat 2.54806 and 2.35702 block 916 gap 374 lines between lat 2.30163 and 1.42813 block 918 gap 27 lines between lat 1.35783 and 1.22077 block 920 gap 180 lines between lat 1.22077 and 0.757742 block 921 gap 57 lines between lat 0.757742 and 0.556056 block 922 gap 540 lines between lat 0.556056 and -0.671102 block 923 gap 11 lines between lat -0.671102 and -0.776206 block 924 gap 115 lines between lat -0.776206 and -1.10288 block 925 gap 1318 lines between lat -1.23071 and -4.12248 block 928 gap 153 lines between lat -4.12248 and -4.55994 block 929 gap 46 lines between lat -4.63025 and -4.8298 block 931 gap 137 lines between lat -4.86389 and -5.26158 block 933 gap 158 lines between lat -5.26158 and -5.72745 block 934 gap 65 lines between lat -5.72745 and -5.98879 block 935 gap 45 lines between lat -5.98879 and -6.2132 block 936 gap 21 lines between lat -6.2132 and -6.38648 block 937 gap 4 lines between lat -6.72096 and -6.85802 block 944 gap 285 lines between lat -6.90916 and -7.64772 block 946 gap 134 lines between lat -7.64772 and -8.06246 block 947 gap 257 lines between lat -8.06246 and -8.75842 block 948"
/* DESCRIPTION OF OBJECTS WITHIN THE FILE
OBJECT = IMAGE
  SFDU_FORMAT_ID = 'NJPL1I000111'
  INTERCHANGE_FORMAT = BINARY
  BYTES = 3022500
  FILE_RECORDS = 950
  ^STRUCTURE = 'CBIDRIM.FMT'
  COLUMNS = 16
  LINE_SAMPLES = 171
  LINES = 16661
  LINE_PREFIX_BYTES = 4
  SAMPLE_TYPE = MSB_UNSIGNED_INTEGER
  SAMPLE_BITS = 8
  SCALING_FACTOR = 0.2
  OFFSET = -20.2
  MISSING = 0
  DESCRIPTION = "This file consists of varying-length logical data records. Each record contains a 92-byte header, followed by a rectangular pixel array. Each line of the pixel array begins with a pair of 2-byte integers defining the start and end of valid pixels in that line. The 8-bit integer pixel values (DN) are related to the normalized radar cross-section (SIGMA-N) by DN = 1+INT((MIN(MAX(RV,-20),30)+20)*5)."
END_OBJECT = IMAGE
OBJECT = IMAGE_MAP_PROJECTION
  OBJECT = DATA_SET_MAP_PROJECTION
    DATA_SET_ID = 'MGN-V-RDRS-5-C-BIDR-V1.0'
    ^STRUCTURE = 'DSMAPCB.LBL'
  END_OBJECT = DATA_SET_MAP_PROJECTION
  IMAGE_ID = 'IM204602;01'
  MAP_PROJECTION_TYPE = SINUSOIDAL
  MAP_RESOLUTION = 469.1
  MAP_SCALE = 225
  LINE_PROJECTION_OFFSET = 19992
  SAMPLE_PROJECTION_OFFSET = 688
  A_AXIS_RADIUS = 6051.92
  B_AXIS_RADIUS = 6051.92
  C_AXIS_RADIUS = 6051.92
  FIRST_STANDARD_PARALLEL = 0.0
  SECOND_STANDARD_PARALLEL = 'N/A'
  POSITIVE_LONGITUDE_DIRECTION = EAST
  CENTER_LATITUDE = 0.0
  CENTER_LONGITUDE = 99.368
  MAP_PROJECTION_ROTATION = 0.0
  LINE_FIRST_PIXEL = 'N/A'
  LINE_LAST_PIXEL = 'N/A'
  MAXIMUM_LATITUDE = 'N/A'
  MAXIMUM_LONGITUDE = 'N/A'
  MINIMUM_LATITUDE = 'N/A'
  MINIMUM_LONGITUDE = 'N/A'
  REFERENCE_LATITUDE = 'N/A'
  REFERENCE_LONGITUDE = 'N/A'
  SAMPLE_FIRST_PIXEL = 'N/A'
  SAMPLE_LAST_PIXEL = 'N/A'
END_OBJECT = IMAGE_MAP_PROJECTION
END
