CCSD3ZF0000100000001NJPL3IF0PDSX00000001
PDS_VERSION_ID = PDS3
DATA_SET_ID = 'MGN-V-RDRS-5-C-BIDR-V1.0'
PRODUCT_ID = 'IM204604;02'
SOURCE_PRODUCT_ID = 'C-BIDR.4601-4605;2'
/* PHYSICAL DESCRIPTION OF THE FILE
RECORD_TYPE = FIXED_LENGTH
RECORD_BYTES = 32500
FILE_RECORDS = 135
/* LOCATION OF OBJECTS WITHIN THE FILE
^IMAGE = 'IM2.DAT'
/* GENERAL PARAMETERS
SPACECRAFT_NAME = 'MAGELLAN'
MISSION_PHASE_NAME = 'PRIMARY MISSION'
INSTRUMENT_NAME = 'RADAR SYSTEM'
TARGET_NAME = 'VENUS'
ORBIT_NUMBER = 4604
START_TIME = 1992-04-11T21:05:03.061
STOP_TIME = 1992-04-11T21:21:57.883
SPACECRAFT_CLOCK_START_COUNT = '01541530.49.1.0'
SPACECRAFT_CLOCK_STOP_COUNT = '01541550.47.7.0'
NOTE = 'SINUSOIDAL_IMAGE_FILE'
DESCRIPTION = "This is the Sinusoidal Image File consisting of a set of logical image data records, each containing multi-look image data in the sinusoidal projection. The image data will include all available data between 89 degrees N and 89 degrees S latitude. For more information, refer to IDPS-101, Compressed Resolution Basic Image Data Record, JPL, MIPL, February 14, 1990, and to SDPS-101, Full Resolution Basic Image Data Record, J. Gilbert, JPL, 1990."
CONFIDENCE_LEVEL_NOTE = "The following errors were noted by the software that generated this PDS label: gap 6 lines between lat 28.4377 and 28.2864 block 3 gap 147 lines between lat 20.8851 and 20.4718 block 340 gap 2 lines between lat 17.8449 and 17.7476 block 469 gap 19 lines between lat 13.6294 and 13.5208 block 659 gap 37 lines between lat 13.0584 and 12.91 block 681 gap 14 lines between lat 12.7119 and 12.6117 block 687 gap 4 lines between lat 11.4315 and 11.359 block 738 gap 2 lines between lat 10.8392 and 10.771 block 761 gap 21 lines between lat 10.6901 and 10.5807 block 767 gap 35 lines between lat 9.9735 and 9.82792 block 794 gap 3 lines between lat 9.78957 and 9.71997 block 797 gap 12 lines between lat 9.42597 and 9.33364 block 810 gap 40 lines between lat 9.17812 and 9.02686 block 817 gap 18 lines between lat 9.01833 and 8.91891 block 819 gap 17 lines between lat 8.21798 and 8.12069 block 846 gap 2 lines between lat 8.09086 and 8.02127 block 848 gap 8 lines between lat 8.02127 and 7.94173 block 849 gap 16 lines between lat 7.72016 and 7.6179 block 856 gap 12 lines between lat 7.58807 and 7.49291 block 858 gap 3 lines between lat 7.20955 and 7.13499 block 867 gap 2 lines between lat 6.88359 and 6.80831 block 876 gap 6 lines between lat 6.33961 and 6.24871 block 891 gap 13 lines between lat 6.20397 and 6.10099 block 893 gap 28 lines between lat 6.06691 and 5.93055 block 895 gap 28 lines between lat 5.88581 and 5.74875 block 897 gap 56 lines between lat 5.70401 and 5.5073 block 899 gap 6 lines between lat 5.19838 and 5.10677 block 909 gap 76 lines between lat 4.42927 and 4.19208 block 932 gap 24 lines between lat 4.05999 and 3.92506 block 937 gap 52 lines between lat 3.78445 and 3.58986 block 942 gap 2 lines between lat 3.43647 and 3.35409 block 946 gap 24 lines between lat 3.30722 and 3.17513 block 948 gap 76 lines between lat 3.08139 and 2.84277 block 952 gap 16 lines between lat 2.84277 and 2.72915 block 953 gap 2 lines between lat 2.65884 and 2.57859 block 955 gap 12 lines between lat 2.53385 and 2.43372 block 957 gap 50 lines between lat 2.36555 and 2.18659 block 961 gap 77 lines between lat 2.18659 and 1.95081 block 962 gap 2 lines between lat 1.92951 and 1.84855 block 964 gap 17 lines between lat 1.84855 and 1.73492 block 965 gap 92 lines between lat 1.54318 and 1.26622 block 972 gap 22 lines between lat 1.26622 and 1.13839 block 973 gap 7 lines between lat 1.13839 and 1.04465 block 974 gap 32 lines between lat 1.04465 and 0.899774 block 975 gap 6 lines between lat 0.767684 and 0.678204 block 981 gap 22 lines between lat 0.622811 and 0.499243 block 984 gap 75 lines between lat 0.499243 and 0.26347 block 985 gap 150 lines between lat 0.186772 and -0.213758 block 987 gap 122 lines between lat -0.213758 and -0.554636 block 988 gap 22 lines between lat -0.648377 and -0.776206 block 991 gap 16 lines between lat -0.810294 and -0.929601 block 993 gap 27 lines between lat -1.33439 and -1.47784 block 1001 gap 13 lines between lat -1.80381 and -1.91814 block 1008 gap 12 lines between lat -1.99484 and -2.10847 block 1010 gap 48 lines between lat -2.10847 and -2.29879 block 1011 gap 222 lines between lat -2.29879 and -2.86124 block 1012 gap 35 lines between lat -2.87189 and -3.03452 block 1014 gap 52 lines between lat -3.03452 and -3.23052 block 1015 gap 11 lines between lat -3.23052 and -3.33847 block 1016 gap 96 lines between lat -3.51104 and -3.80149 block 1020 gap 39 lines between lat -3.81214 and -3.98329 block 1022 gap 7 lines between lat -4.11325 and -4.23611 block 1025 gap 119 lines between lat -4.30002 and -4.66505 block 1027 gap 62 lines between lat -4.85253 and -5.0883 block 1031 gap 122 lines between lat -5.0883 and -5.45191 block 1032 gap 92 lines between lat -5.45191 and -5.77858 block 1033 gap 460 lines between lat -5.88936 and -6.99722 block 1036 gap 1179 lines between lat -7.01852 and -9.66174 block 1038 gap 4066 lines between lat -9.66174 and -18.4706 block 1039 gap 1104 lines between lat -18.4706 and -21.0186 block 1040 gap 17 lines between lat -21.2168 and -21.4731 block 1042 gap 8 lines between lat -21.8694 and -22.1038 block 1048 gap 12 lines between lat -22.1038 and -22.3651 block 1049 gap 89 lines between lat -22.8956 and -23.3167 block 1057 gap 27 lines between lat -23.3359 and -23.6235 block 1059 gap 87 lines between lat -23.73 and -24.149 block 1061 gap 159 lines between lat -24.149 and -24.737 block 1062 gap 19 lines between lat -25.9493 and -26.2483 block 1085 gap 72 lines between lat -27.893 and -28.3106 block 1115 gap 15 lines between lat -28.562 and -28.8702 block 1119"
/* DESCRIPTION OF OBJECTS WITHIN THE FILE
OBJECT = IMAGE
  SFDU_FORMAT_ID = 'NJPL1I000111'
  INTERCHANGE_FORMAT = BINARY
  BYTES = 4387500
  FILE_RECORDS = 1362
  ^STRUCTURE = 'CBIDRIM.FMT'
  COLUMNS = 16
  LINE_SAMPLES = 171
  LINES = 24241
  LINE_PREFIX_BYTES = 4
  SAMPLE_TYPE = MSB_UNSIGNED_INTEGER
  SAMPLE_BITS = 8
  SCALING_FACTOR = 0.2
  OFFSET = -20.2
  MISSING = 0
  DESCRIPTION = "This file consists of varying-length logical data records. Each record contains a 92-byte header, followed by a rectangular pixel array. Each line of the pixel array begins with a pair of 2-byte integers defining the start and end of valid pixels in that line. The 8-bit integer pixel values (DN) are related to the normalized radar cross-section (SIGMA-N) by DN = 1+INT((MIN(MAX(RV,-20),30)+20)*5)."
END_OBJECT = IMAGE
OBJECT = IMAGE_MAP_PROJECTION
  OBJECT = DATA_SET_MAP_PROJECTION
    DATA_SET_ID = 'MGN-V-RDRS-5-C-BIDR-V1.0'
    ^STRUCTURE = 'DSMAPCB.LBL'
  END_OBJECT = DATA_SET_MAP_PROJECTION
  IMAGE_ID = 'IM204604;02'
  MAP_PROJECTION_TYPE = SINUSOIDAL
  MAP_RESOLUTION = 469.1
  MAP_SCALE = 225
  LINE_PROJECTION_OFFSET = 13360
  SAMPLE_PROJECTION_OFFSET = 442
  A_AXIS_RADIUS = 6051.92
  B_AXIS_RADIUS = 6051.92
  C_AXIS_RADIUS = 6051.92
  FIRST_STANDARD_PARALLEL = 0.0
  SECOND_STANDARD_PARALLEL = 'N/A'
  POSITIVE_LONGITUDE_DIRECTION = EAST
  CENTER_LATITUDE = 0.0
  CENTER_LONGITUDE = 99.771
  MAP_PROJECTION_ROTATION = 0.0
  LINE_FIRST_PIXEL = 'N/A'
  LINE_LAST_PIXEL = 'N/A'
  MAXIMUM_LATITUDE = 'N/A'
  MAXIMUM_LONGITUDE = 'N/A'
  MINIMUM_LATITUDE = 'N/A'
  MINIMUM_LONGITUDE = 'N/A'
  REFERENCE_LATITUDE = 'N/A'
  REFERENCE_LONGITUDE = 'N/A'
  SAMPLE_FIRST_PIXEL = 'N/A'
  SAMPLE_LAST_PIXEL = 'N/A'
END_OBJECT = IMAGE_MAP_PROJECTION
END
