CCSD3ZF0000100000001NJPL3IF0PDSX00000001
PDS_VERSION_ID = PDS3
DATA_SET_ID = 'MGN-V-RDRS-5-C-BIDR-V1.0'
PRODUCT_ID = 'IM204620;01'
SOURCE_PRODUCT_ID = 'C-BIDR.4616-4620;1'
/* PHYSICAL DESCRIPTION OF THE FILE
RECORD_TYPE = FIXED_LENGTH
RECORD_BYTES = 32500
FILE_RECORDS = 139
/* LOCATION OF OBJECTS WITHIN THE FILE
^IMAGE = 'IM2.DAT'
/* GENERAL PARAMETERS
SPACECRAFT_NAME = 'MAGELLAN'
MISSION_PHASE_NAME = 'PRIMARY MISSION'
INSTRUMENT_NAME = 'RADAR SYSTEM'
TARGET_NAME = 'VENUS'
ORBIT_NUMBER = 4620
START_TIME = 1992-04-14T01:10:32.570
STOP_TIME = 1992-04-14T01:28:14.420
SPACECRAFT_CLOCK_START_COUNT = '01544624.79.5.0'
SPACECRAFT_CLOCK_STOP_COUNT = '01544644.78.1.0'
NOTE = 'SINUSOIDAL_IMAGE_FILE'
DESCRIPTION = "This is the Sinusoidal Image File consisting of a set of logical image data records, each containing multi-look image data in the sinusoidal projection. The image data will include all available data between 89 degrees N and 89 degrees S latitude. For more information, refer to IDPS-101, Compressed Resolution Basic Image Data Record, JPL, MIPL, February 14, 1990, and to SDPS-101, Full Resolution Basic Image Data Record, J. Gilbert, JPL, 1990."
CONFIDENCE_LEVEL_NOTE = "The following errors were noted by the software that generated this PDS label: gap 18 lines between lat 39.497 and 39.2712 block 61 gap 33 lines between lat 37.5306 and 37.2884 block 97 gap 33 lines between lat 36.3723 and 36.1351 block 121 gap 63 lines between lat 35.3064 and 35.0045 block 136 gap 2 lines between lat 34.8895 and 34.7318 block 140 gap 18 lines between lat 34.6594 and 34.4705 block 142 gap 49 lines between lat 34.2979 and 34.0416 block 147 gap 8 lines between lat 33.8498 and 33.6723 block 154 gap 69 lines between lat 33.1737 and 32.8655 block 165 gap 7 lines between lat 31.9537 and 31.8003 block 182 gap 9 lines between lat 31.8003 and 31.6412 block 183 gap 33 lines between lat 31.6135 and 31.3998 block 185 gap 7 lines between lat 31.2123 and 31.0532 block 192 gap 134 lines between lat 30.9552 and 30.5192 block 195 gap 59 lines between lat 30.4808 and 30.2237 block 197 gap 204 lines between lat 30.1023 and 29.5391 block 199 gap 43 lines between lat 29.5391 and 29.3119 block 200 gap 95 lines between lat 29.2501 and 28.9114 block 202 gap 6 lines between lat 28.775 and 28.6216 block 206 gap 23 lines between lat 28.6216 and 28.4341 block 207 gap 12 lines between lat 28.4341 and 28.2694 block 208 gap 70 lines between lat 28.2694 and 27.9825 block 209 gap 42 lines between lat 27.9825 and 27.7524 block 210 gap 27 lines between lat 27.6586 and 27.4768 block 212 gap 38 lines between lat 27.2766 and 27.0706 block 218 gap 6 lines between lat 27.0706 and 26.9371 block 219 gap 20 lines between lat 26.9371 and 26.7724 block 220 gap 104 lines between lat 26.7596 and 26.4116 block 222 gap 71 lines between lat 26.3988 and 26.1247 block 224 gap 59 lines between lat 26.1247 and 25.8719 block 225 gap 58 lines between lat 25.8357 and 25.5821 block 228 gap 86 lines between lat 25.5821 and 25.2697 block 229 gap 30 lines between lat 25.2697 and 25.0793 block 230 gap 4 lines between lat 25.0325 and 24.8919 block 232 gap 20 lines between lat 24.8578 and 24.7015 block 234 gap 20 lines between lat 24.7015 and 24.5453 block 235 gap 5 lines between lat 24.5453 and 24.4231 block 236 gap 20 lines between lat 24.4231 and 24.2669 block 237 gap 79 lines between lat 24.2328 and 23.9516 block 239 gap 7 lines between lat 23.7364 and 23.6107 block 243 gap 7 lines between lat 23.5894 and 23.463 block 245 gap 26 lines between lat 23.2244 and 23.054 block 253 gap 132 lines between lat 23.054 and 22.6591 block 254 gap 10 lines between lat 22.6591 and 22.5228 block 255 gap 14 lines between lat 22.5228 and 22.3779 block 256 gap 10 lines between lat 22.3779 and 22.2415 block 257 gap 46 lines between lat 22.1371 and 21.9205 block 259 gap 26 lines between lat 21.9205 and 21.7473 block 260 gap 27 lines between lat 21.6109 and 21.4405 block 264 gap 37 lines between lat 21.3723 and 21.1791 block 266 gap 9 lines between lat 21.1791 and 21.0485 block 267 gap 221 lines between lat 20.8908 and 20.3184 block 270 gap 166 lines between lat 20.3099 and 19.8582 block 272 gap 7 lines between lat 19.805 and 19.6878 block 274 gap 43 lines between lat 19.6367 and 19.4435 block 276 gap 29 lines between lat 19.3924 and 19.2333 block 280 gap 13 lines between lat 19.2226 and 19.0941 block 282 gap 19 lines between lat 19.0941 and 18.9577 block 283 gap 29 lines between lat 18.7362 and 18.5771 block 287 gap 62 lines between lat 18.5771 and 18.347 block 288 gap 93 lines between lat 18.2511 and 17.9493 block 291 gap 37 lines between lat 17.9067 and 17.7334 block 293 gap 3 lines between lat 17.6376 and 17.5346 block 296 gap 46 lines between lat 17.5346 and 17.3329 block 297 gap 413 lines between lat 17.3329 and 16.3472 block 298 gap 18 lines between lat 16.3472 and 16.2108 block 299 gap 2 lines between lat 16.2108 and 16.1057 block 300 gap 30 lines between lat 16.044 and 15.8955 block 303 gap 46 lines between lat 15.8849 and 15.7024 block 305 gap 16 lines between lat 15.5419 and 15.4325 block 309 gap 69 lines between lat 15.4325 and 15.2081 block 310 gap 26 lines between lat 15.2081 and 15.0803 block 311 gap 15 lines between lat 15.0504 and 14.9439 block 313 gap 352 lines between lat 14.9226 and 14.0974 block 316 gap 81 lines between lat 14.042 and 13.802 block 318 gap 20 lines between lat 13.7146 and 13.6031 block 321 gap 68 lines between lat 13.6031 and 13.3958 block 322 gap 9 lines between lat 13.3574 and 13.2708 block 325 gap 27 lines between lat 13.2708 and 13.1429 block 326 gap 3 lines between lat 13.0535 and 12.9754 block 329 gap 22 lines between lat 12.9754 and 12.856 block 330 gap 10 lines between lat 12.856 and 12.7651 block 331 gap 438 lines between lat 12.7651 and 11.7624 block 332 gap 13 lines between lat 11.7624 and 11.6743 block 333 gap 124 lines between lat 11.6743 and 11.3477 block 334 gap 7 lines between lat 11.2326 and 11.1517 block 339 gap 63 lines between lat 11.141 and 10.9443 block 341 gap 198 lines between lat 10.9251 and 10.4387 block 343 gap 80 lines between lat 10.4387 and 10.2057 block 344 gap 19 lines between lat 10.2057 and 10.0949 block 345 gap 85 lines between lat 10.0758 and 9.82508 block 347 gap 40 lines between lat 9.82508 and 9.67736 block 348 gap 87 lines between lat 9.67736 and 9.43023 block 349 gap 101 lines between lat 9.43023 and 9.15184 block 350 gap 59 lines between lat 9.15184 and 8.96436 block 351 gap 435 lines between lat 8.96436 and 7.97582 block 352 gap 171 lines between lat 7.97582 and 7.54972 block 353 gap 406 lines between lat 7.54972 and 6.62083 block 354 gap 32 lines between lat 6.62083 and 6.48164 block 355 gap 400 lines between lat 6.48164 and 5.55843 block 356 gap 27 lines between lat 5.55843 and 5.42208 block 357 gap 163 lines between lat 5.42208 and 4.99598 block 358 gap 343 lines between lat 4.99598 and 4.1864 block 359 gap 72 lines between lat 4.1864 and 3.95631 block 360 gap 144 lines between lat 3.95631 and 3.56998 block 361 gap 205 lines between lat 3.56998 and 3.05298 block 362 gap 7 lines between lat 3.05298 and 2.96208 block 363 gap 17 lines between lat 2.92799 and 2.81437 block 365 gap 22 lines between lat 2.79306 and 2.66665 block 368 gap 12 lines between lat 2.66665 and 2.56155 block 369 gap 218 lines between lat 2.56155 and 2.02467 block 370 gap 376 lines between lat 2.02467 and 1.14407 block 371 gap 85 lines between lat 1.14407 and 0.88273 block 372 gap 38 lines between lat 0.818816 and 0.66116 block 374 gap 54 lines between lat 0.57168 and 0.379936 block 377 gap 41 lines between lat 0.379936 and 0.215179 block 378 gap 85 lines between lat 0.215179 and -0.0461605 block 379 gap 24 lines between lat -0.0802482 and -0.210918 block 381 gap 4 lines between lat -0.210918 and -0.301818 block 382 gap 199 lines between lat -0.382777 and -0.889832 block 384 gap 10 lines between lat -1.00488 and -1.1114 block 387 gap 54 lines between lat -1.1114 and -1.31025 block 388 gap 79 lines between lat -1.35499 and -1.60851 block 390 gap 12 lines between lat -1.6703 and -1.78748 block 392 gap 22 lines between lat -1.87482 and -2.01473 block 395 gap 120 lines between lat -2.01473 and -2.35844 block 396 gap 144 lines between lat -2.35844 and -2.75613 block 397 gap 67 lines between lat -24.2868 and -24.6717 block 1782 gap 2967 lines between lat -26.7297 and -33.3016 block 1856 gap 7 lines between lat -33.3016 and -33.6254 block 1857 gap 100 lines between lat -33.6254 and -34.1452 block 1858 gap 87 lines between lat -35.0187 and -35.5258 block 1868 gap 170 lines between lat -35.5258 and -36.2161 block 1869 gap 16 lines between lat -36.2161 and -36.5797 block 1870 gap 2912 lines between lat -36.5797 and -43.133 block 1871"
/* DESCRIPTION OF OBJECTS WITHIN THE FILE
OBJECT = IMAGE
  SFDU_FORMAT_ID = 'NJPL1I000111'
  INTERCHANGE_FORMAT = BINARY
  BYTES = 4517500
  FILE_RECORDS = 1872
  ^STRUCTURE = 'CBIDRIM.FMT'
  COLUMNS = 16
  LINE_SAMPLES = 171
  LINES = 24755
  LINE_PREFIX_BYTES = 4
  SAMPLE_TYPE = MSB_UNSIGNED_INTEGER
  SAMPLE_BITS = 8
  SCALING_FACTOR = 0.2
  OFFSET = -20.2
  MISSING = 0
  DESCRIPTION = "This file consists of varying-length logical data records. Each record contains a 92-byte header, followed by a rectangular pixel array. Each line of the pixel array begins with a pair of 2-byte integers defining the start and end of valid pixels in that line. The 8-bit integer pixel values (DN) are related to the normalized radar cross-section (SIGMA-N) by DN = 1+INT((MIN(MAX(RV,-20),30)+20)*5)."
END_OBJECT = IMAGE
OBJECT = IMAGE_MAP_PROJECTION
  OBJECT = DATA_SET_MAP_PROJECTION
    DATA_SET_ID = 'MGN-V-RDRS-5-C-BIDR-V1.0'
    ^STRUCTURE = 'DSMAPCB.LBL'
  END_OBJECT = DATA_SET_MAP_PROJECTION
  IMAGE_ID = 'IM204620;01'
  MAP_PROJECTION_TYPE = SINUSOIDAL
  MAP_RESOLUTION = 469.1
  MAP_SCALE = 225
  LINE_PROJECTION_OFFSET = 20032
  SAMPLE_PROJECTION_OFFSET = 688
  A_AXIS_RADIUS = 6051.92
  B_AXIS_RADIUS = 6051.92
  C_AXIS_RADIUS = 6051.92
  FIRST_STANDARD_PARALLEL = 0.0
  SECOND_STANDARD_PARALLEL = 'N/A'
  POSITIVE_LONGITUDE_DIRECTION = EAST
  CENTER_LATITUDE = 0.0
  CENTER_LONGITUDE = 102.987
  MAP_PROJECTION_ROTATION = 0.0
  LINE_FIRST_PIXEL = 'N/A'
  LINE_LAST_PIXEL = 'N/A'
  MAXIMUM_LATITUDE = 'N/A'
  MAXIMUM_LONGITUDE = 'N/A'
  MINIMUM_LATITUDE = 'N/A'
  MINIMUM_LONGITUDE = 'N/A'
  REFERENCE_LATITUDE = 'N/A'
  REFERENCE_LONGITUDE = 'N/A'
  SAMPLE_FIRST_PIXEL = 'N/A'
  SAMPLE_LAST_PIXEL = 'N/A'
END_OBJECT = IMAGE_MAP_PROJECTION
END
