CCSD3ZF0000100000001NJPL3IF0PDSX00000001
PDS_VERSION_ID = PDS3
DATA_SET_ID = 'MGN-V-RDRS-5-C-BIDR-V1.0'
PRODUCT_ID = 'IM204742;02'
SOURCE_PRODUCT_ID = 'C-BIDR.4741-4745;3'
/* PHYSICAL DESCRIPTION OF THE FILE
RECORD_TYPE = FIXED_LENGTH
RECORD_BYTES = 32500
FILE_RECORDS = 83
/* LOCATION OF OBJECTS WITHIN THE FILE
^IMAGE = 'IM2.DAT'
/* GENERAL PARAMETERS
SPACECRAFT_NAME = 'MAGELLAN'
MISSION_PHASE_NAME = 'PRIMARY MISSION'
INSTRUMENT_NAME = 'RADAR SYSTEM'
TARGET_NAME = 'VENUS'
ORBIT_NUMBER = 4742
START_TIME = 1992-04-30T14:46:57.816
STOP_TIME = 1992-04-30T14:55:12.596
SPACECRAFT_CLOCK_START_COUNT = '01568219.10.5.0'
SPACECRAFT_CLOCK_STOP_COUNT = '01568239.05.1.0'
NOTE = 'SINUSOIDAL_IMAGE_FILE'
DESCRIPTION = "This is the Sinusoidal Image File consisting of a set of logical image data records, each containing multi-look image data in the sinusoidal projection. The image data will include all available data between 89 degrees N and 89 degrees S latitude. For more information, refer to IDPS-101, Compressed Resolution Basic Image Data Record, JPL, MIPL, February 14, 1990, and to SDPS-101, Full Resolution Basic Image Data Record, J. Gilbert, JPL, 1990."
CONFIDENCE_LEVEL_NOTE = "The following errors were noted by the software that generated this PDS label: gap 33 lines between lat 42.3476 and 42.1488 block 4 gap 153 lines between lat 41.9698 and 41.521 block 8 gap 18 lines between lat 41.521 and 41.3562 block 9 gap 36 lines between lat 41.3562 and 41.1545 block 10 gap 33 lines between lat 40.9713 and 40.7995 block 13 gap 7 lines between lat 40.6035 and 40.4785 block 17 gap 55 lines between lat 40.34 and 40.112 block 22 gap 104 lines between lat 40.112 and 39.7711 block 23 gap 143 lines between lat 39.4473 and 39.0212 block 31 gap 2 lines between lat 38.9168 and 38.8167 block 34 gap 64 lines between lat 38.74 and 38.4985 block 36 gap 121 lines between lat 38.2727 and 37.9048 block 42 gap 27 lines between lat 37.4425 and 37.2913 block 49 gap 42 lines between lat 37.2913 and 37.1123 block 50 gap 9 lines between lat 36.8204 and 36.7004 block 59 gap 2 lines between lat 36.4938 and 36.3879 block 64 gap 23 lines between lat 36.2828 and 36.1323 block 66 gap 4 lines between lat 35.7296 and 35.6096 block 73 gap 19 lines between lat 35.4285 and 35.2744 block 79 gap 30 lines between lat 35.2744 and 35.0983 block 80 gap 13 lines between lat 35.0983 and 34.9818 block 81 gap 24 lines between lat 34.7517 and 34.6097 block 88 gap 37 lines between lat 34.4797 and 34.3086 block 91 gap 33 lines between lat 33.9436 and 33.7717 block 99 gap 5 lines between lat 33.7589 and 33.6467 block 101 gap 18 lines between lat 33.6467 and 33.5018 block 102 gap 3 lines between lat 33.3442 and 33.232 block 106 gap 2 lines between lat 33.232 and 33.1468 block 107 gap 46 lines between lat 33.1468 and 32.9678 block 108 gap 2 lines between lat 32.8826 and 32.8002 block 111 gap 7 lines between lat 32.8002 and 32.7036 block 112 gap 12 lines between lat 32.6908 and 32.5758 block 114 gap 65 lines between lat 32.5758 and 32.3514 block 115 gap 34 lines between lat 31.806 and 31.6384 block 130 gap 8 lines between lat 31.6384 and 31.5248 block 131 gap 15 lines between lat 31.512 and 31.3827 block 133 gap 48 lines between lat 31.3827 and 31.1867 block 134 gap 7 lines between lat 30.9566 and 30.8402 block 141 gap 49 lines between lat 30.7422 and 30.5618 block 145 gap 45 lines between lat 30.4126 and 30.2408 block 150 gap 16 lines between lat 30.0746 and 29.9567 block 155 gap 2 lines between lat 29.8289 and 29.7437 block 163 gap 2 lines between lat 29.6201 and 29.5278 block 169 gap 2 lines between lat 29.4809 and 29.3914 block 173 gap 3 lines between lat 29.2956 and 29.1954 block 178 gap 15 lines between lat 29.0314 and 28.9057 block 184 gap 21 lines between lat 28.895 and 28.7551 block 186 gap 9 lines between lat 28.5314 and 28.4171 block 197 gap 13 lines between lat 28.2168 and 28.0904 block 207 gap 6 lines between lat 28.0435 and 27.9569 block 209 gap 6 lines between lat 27.8973 and 27.812 block 212 gap 16 lines between lat 27.7758 and 27.6672 block 214 gap 5 lines between lat 26.7873 and 26.6928 block 245 gap 22 lines between lat 26.6928 and 26.565 block 246 gap 33 lines between lat 26.3328 and 26.1787 block 257 gap 9 lines between lat 25.3393 and 25.2299 block 288 gap 7 lines between lat 25.2299 and 25.1276 block 289 gap 32 lines between lat 24.9721 and 24.8379 block 294 gap 85 lines between lat 24.8379 and 24.5936 block 295 gap 24 lines between lat 24.2932 and 24.1732 block 307 gap 21 lines between lat 23.8366 and 23.7158 block 327 gap 5 lines between lat 23.6711 and 23.5823 block 332 gap 54 lines between lat 22.7855 and 22.5938 block 360 gap 12 lines between lat 22.5938 and 22.4915 block 361 gap 4 lines between lat 21.9099 and 21.841 block 382 gap 28 lines between lat 21.8303 and 21.7075 block 384 gap 18 lines between lat 21.6478 and 21.5484 block 387 gap 26 lines between lat 21.395 and 21.2786 block 392 gap 30 lines between lat 21.1742 and 21.0485 block 399 gap 178 lines between lat 20.9334 and 20.4889 block 404 gap 11 lines between lat 20.4889 and 20.4036 block 405 gap 7 lines between lat 20.361 and 20.2872 block 408 gap 20 lines between lat 20.2786 and 20.1735 block 410 gap 17 lines between lat 20.1735 and 20.077 block 411 gap 7 lines between lat 20.0663 and 19.9917 block 413 gap 10 lines between lat 19.9534 and 19.8668 block 415 gap 61 lines between lat 19.7304 and 19.5401 block 420 gap 20 lines between lat 19.5401 and 19.435 block 421 gap 26 lines between lat 19.3071 and 19.1907 block 426 gap 10 lines between lat 19.0245 and 18.9379 block 432 gap 17 lines between lat 18.9379 and 18.8413 block 433 gap 2 lines between lat 18.7688 and 18.7049 block 438 gap 10 lines between lat 18.5899 and 18.5032 block 443 gap 26 lines between lat 17.9557 and 17.8385 block 467 gap 2 lines between lat 17.8087 and 17.742 block 470 gap 5 lines between lat 17.6908 and 17.617 block 473 gap 12 lines between lat 17.47 and 17.384 block 480 gap 16 lines between lat 17.3649 and 17.2676 block 483 gap 8 lines between lat 17.1951 and 17.1199 block 487 gap 7 lines between lat 16.975 and 16.8983 block 495 gap 5 lines between lat 16.6234 and 16.546 block 506 gap 2 lines between lat 16.5354 and 16.4693 block 508 gap 16 lines between lat 16.4693 and 16.3756 block 509 gap 19 lines between lat 16.2201 and 16.1171 block 516 gap 38 lines between lat 15.6804 and 15.5405 block 538 gap 4 lines between lat 15.5405 and 15.4723 block 539 gap 4 lines between lat 14.407 and 14.336 block 588 gap 5 lines between lat 14.2593 and 14.1883 block 592 gap 4 lines between lat 13.9731 and 13.9014 block 603 gap 14 lines between lat 13.7459 and 13.6543 block 610 gap 5 lines between lat 13.373 and 13.302 block 622 gap 4 lines between lat 12.9697 and 12.8987 block 638 gap 3 lines between lat 12.4981 and 12.4271 block 656 gap 4 lines between lat 11.8945 and 11.822 block 679 gap 4 lines between lat 11.4513 and 11.3789 block 700 gap 4 lines between lat 11.0082 and 10.9358 block 722 gap 9 lines between lat 10.6354 and 10.5551 block 739 gap 8 lines between lat 10.5253 and 10.4443 block 741 gap 17 lines between lat 9.66032 and 9.55522 block 778 gap 4 lines between lat 9.10781 and 9.03254 block 804 gap 2 lines between lat 8.04825 and 7.97582 block 847 gap 7 lines between lat 7.70951 and 7.62642 block 859 gap 3 lines between lat 7.35159 and 7.27702 block 870 gap 5 lines between lat 6.75292 and 6.6748 block 891 gap 22 lines between lat 6.44045 and 6.3254 block 903 gap 31 lines between lat 6.30623 and 6.17201 block 906 gap 6 lines between lat 5.92913 and 5.84534 block 915"
/* DESCRIPTION OF OBJECTS WITHIN THE FILE
OBJECT = IMAGE
  SFDU_FORMAT_ID = 'NJPL1I000111'
  INTERCHANGE_FORMAT = BINARY
  BYTES = 2697500
  FILE_RECORDS = 932
  ^STRUCTURE = 'CBIDRIM.FMT'
  COLUMNS = 16
  LINE_SAMPLES = 171
  LINES = 14936
  LINE_PREFIX_BYTES = 4
  SAMPLE_TYPE = MSB_UNSIGNED_INTEGER
  SAMPLE_BITS = 8
  SCALING_FACTOR = 0.2
  OFFSET = -20.2
  MISSING = 0
  DESCRIPTION = "This file consists of varying-length logical data records. Each record contains a 92-byte header, followed by a rectangular pixel array. Each line of the pixel array begins with a pair of 2-byte integers defining the start and end of valid pixels in that line. The 8-bit integer pixel values (DN) are related to the normalized radar cross-section (SIGMA-N) by DN = 1+INT((MIN(MAX(RV,-20),30)+20)*5)."
END_OBJECT = IMAGE
OBJECT = IMAGE_MAP_PROJECTION
  OBJECT = DATA_SET_MAP_PROJECTION
    DATA_SET_ID = 'MGN-V-RDRS-5-C-BIDR-V1.0'
    ^STRUCTURE = 'DSMAPCB.LBL'
  END_OBJECT = DATA_SET_MAP_PROJECTION
  IMAGE_ID = 'IM204742;02'
  MAP_PROJECTION_TYPE = SINUSOIDAL
  MAP_RESOLUTION = 469.1
  MAP_SCALE = 225
  LINE_PROJECTION_OFFSET = 19957
  SAMPLE_PROJECTION_OFFSET = 704
  A_AXIS_RADIUS = 6051.92
  B_AXIS_RADIUS = 6051.92
  C_AXIS_RADIUS = 6051.92
  FIRST_STANDARD_PARALLEL = 0.0
  SECOND_STANDARD_PARALLEL = 'N/A'
  POSITIVE_LONGITUDE_DIRECTION = EAST
  CENTER_LATITUDE = 0.0
  CENTER_LONGITUDE = 127.504
  MAP_PROJECTION_ROTATION = 0.0
  LINE_FIRST_PIXEL = 'N/A'
  LINE_LAST_PIXEL = 'N/A'
  MAXIMUM_LATITUDE = 'N/A'
  MAXIMUM_LONGITUDE = 'N/A'
  MINIMUM_LATITUDE = 'N/A'
  MINIMUM_LONGITUDE = 'N/A'
  REFERENCE_LATITUDE = 'N/A'
  REFERENCE_LONGITUDE = 'N/A'
  SAMPLE_FIRST_PIXEL = 'N/A'
  SAMPLE_LAST_PIXEL = 'N/A'
END_OBJECT = IMAGE_MAP_PROJECTION
END
